BEGIN:VCALENDAR
VERSION:2.0
PRODID:-//La Dolce Vita - ECPv6.13.2.1//NONSGML v1.0//EN
CALSCALE:GREGORIAN
METHOD:PUBLISH
X-WR-CALNAME:La Dolce Vita
X-ORIGINAL-URL:https://ldvcoffeeshop.com
X-WR-CALDESC:Events for La Dolce Vita
REFRESH-INTERVAL;VALUE=DURATION:PT1H
X-Robots-Tag:noindex
X-PUBLISHED-TTL:PT1H
BEGIN:VTIMEZONE
TZID:America/Denver
BEGIN:DAYLIGHT
TZOFFSETFROM:-0700
TZOFFSETTO:-0600
TZNAME:MDT
DTSTART:20220313T090000
END:DAYLIGHT
BEGIN:STANDARD
TZOFFSETFROM:-0600
TZOFFSETTO:-0700
TZNAME:MST
DTSTART:20221106T080000
END:STANDARD
END:VTIMEZONE
BEGIN:VEVENT
DTSTART;TZID=America/Denver:20220522T100000
DTEND;TZID=America/Denver:20220522T130000
DTSTAMP:20260424T160546
CREATED:20220209T231347Z
LAST-MODIFIED:20220504T203601Z
UID:7083-1653213600-1653224400@ldvcoffeeshop.com
SUMMARY:Moses Walker and Friends
DESCRIPTION:Moses Walker has led quite a diverse life filled with hard work\, travels and lots of music. His experiences shine through in his performances\, and by the end of one of his shows\, you’ll understand why so many people can’t get enough.\n​\nHis music has been described as a mixture of blues\, folk\, jazz and a many other influences such as Tom Waits\, Leon Redbone\, and the list goes on and on. One thing is for sure\, Moses’ interpretation of the songs he plays\, is all his own
URL:https://ldvcoffeeshop.com/event/moses-walker-and-friends-15/
CATEGORIES:Music
END:VEVENT
END:VCALENDAR