BEGIN:VCALENDAR
VERSION:2.0
PRODID:-//La Dolce Vita - ECPv6.13.2.1//NONSGML v1.0//EN
CALSCALE:GREGORIAN
METHOD:PUBLISH
X-WR-CALNAME:La Dolce Vita
X-ORIGINAL-URL:https://ldvcoffeeshop.com
X-WR-CALDESC:Events for La Dolce Vita
REFRESH-INTERVAL;VALUE=DURATION:PT1H
X-Robots-Tag:noindex
X-PUBLISHED-TTL:PT1H
BEGIN:VTIMEZONE
TZID:America/Denver
BEGIN:DAYLIGHT
TZOFFSETFROM:-0700
TZOFFSETTO:-0600
TZNAME:MDT
DTSTART:20250309T090000
END:DAYLIGHT
BEGIN:STANDARD
TZOFFSETFROM:-0600
TZOFFSETTO:-0700
TZNAME:MST
DTSTART:20251102T080000
END:STANDARD
END:VTIMEZONE
BEGIN:VEVENT
DTSTART;TZID=America/Denver:20250216T100000
DTEND;TZID=America/Denver:20250216T130000
DTSTAMP:20260425T105613
CREATED:20241220T022408Z
LAST-MODIFIED:20241220T022408Z
UID:7848-1739700000-1739710800@ldvcoffeeshop.com
SUMMARY:Soda Blue
DESCRIPTION:Soda Blue is a dynamic duet comprised of partners Alice Frish and David Fermanich. Friends for over 30 years\, Alice and Dave share a chemistry that comes across well on stage. Technically a ‘cover’ musical act with a focus on high energy pop and smokey R&B\, their joking and overall sense of fun turns their show into something more than just music.
URL:https://ldvcoffeeshop.com/event/soda-blue-53/
CATEGORIES:Music
END:VEVENT
BEGIN:VEVENT
DTSTART;TZID=America/Denver:20250216T133000
DTEND;TZID=America/Denver:20250216T153000
DTSTAMP:20260425T105613
CREATED:20250115T015808Z
LAST-MODIFIED:20250115T015808Z
UID:7913-1739712600-1739719800@ldvcoffeeshop.com
SUMMARY:Dam Jam
DESCRIPTION:The format will be everyone gets to lead a song and we will go around to each person\, also maybe passing a mic\, but no plug-in otherwise. All folk style instruments are welcome. Get your folk music lists ready and we will try to keep the era of music to 70’s and older but most songs are welcome\, even acoustic versions of newer material. All levels of play are welcome (try to keep with the chords/notes/rhythm of the songs. Performance songs are also welcome.\nIf you do not have an acoustic instrument we might have an extra. Message the host for more info.\nPlease remember we will have two hours to play so try to keep the song breaks to a minimum. This is inside to keep in mind there will be limited space but no limit on players.\nLet’s also support La Dolce Vita and get lunch\, snacks\, drinks\, or deserts and of course coffee (mmmm so good).\nLet’s all have fun and DAM JAM!!!
URL:https://ldvcoffeeshop.com/event/dam-jam-7/
CATEGORIES:Music
END:VEVENT
END:VCALENDAR