BEGIN:VCALENDAR
VERSION:2.0
PRODID:-//La Dolce Vita - ECPv6.13.2.1//NONSGML v1.0//EN
CALSCALE:GREGORIAN
METHOD:PUBLISH
X-WR-CALNAME:La Dolce Vita
X-ORIGINAL-URL:https://ldvcoffeeshop.com
X-WR-CALDESC:Events for La Dolce Vita
REFRESH-INTERVAL;VALUE=DURATION:PT1H
X-Robots-Tag:noindex
X-PUBLISHED-TTL:PT1H
BEGIN:VTIMEZONE
TZID:America/Denver
BEGIN:DAYLIGHT
TZOFFSETFROM:-0700
TZOFFSETTO:-0600
TZNAME:MDT
DTSTART:20250309T090000
END:DAYLIGHT
BEGIN:STANDARD
TZOFFSETFROM:-0600
TZOFFSETTO:-0700
TZNAME:MST
DTSTART:20251102T080000
END:STANDARD
END:VTIMEZONE
BEGIN:VEVENT
DTSTART;TZID=America/Denver:20250412T190000
DTEND;TZID=America/Denver:20250412T220000
DTSTAMP:20260425T082122
CREATED:20250405T195509Z
LAST-MODIFIED:20250405T195509Z
UID:7934-1744484400-1744495200@ldvcoffeeshop.com
SUMMARY:EndsNOdds
DESCRIPTION:If this band were to choose a different name that was equally as fitting\, it would have been It’s Been a Long Time Coming. But that’s too long. The Long Run? Taken. EndsNOdds came together slowly and in an unexpected way which is exactly how they arrange their favorite R&B\, Americana\, Rock\, and Pop covers; with thought and creativity\, adding unexpected elements in each song making them their own.
URL:https://ldvcoffeeshop.com/event/endsnodds-4/
CATEGORIES:Music
END:VEVENT
END:VCALENDAR