BEGIN:VCALENDAR
VERSION:2.0
PRODID:-//La Dolce Vita - ECPv6.13.2.1//NONSGML v1.0//EN
CALSCALE:GREGORIAN
METHOD:PUBLISH
X-WR-CALNAME:La Dolce Vita
X-ORIGINAL-URL:https://ldvcoffeeshop.com
X-WR-CALDESC:Events for La Dolce Vita
REFRESH-INTERVAL;VALUE=DURATION:PT1H
X-Robots-Tag:noindex
X-PUBLISHED-TTL:PT1H
BEGIN:VTIMEZONE
TZID:America/Denver
BEGIN:DAYLIGHT
TZOFFSETFROM:-0700
TZOFFSETTO:-0600
TZNAME:MDT
DTSTART:20250309T090000
END:DAYLIGHT
BEGIN:STANDARD
TZOFFSETFROM:-0600
TZOFFSETTO:-0700
TZNAME:MST
DTSTART:20251102T080000
END:STANDARD
END:VTIMEZONE
BEGIN:VEVENT
DTSTART;TZID=America/Denver:20250628T190000
DTEND;TZID=America/Denver:20250628T220000
DTSTAMP:20260425T063402
CREATED:20250430T201947Z
LAST-MODIFIED:20250430T201947Z
UID:7961-1751137200-1751148000@ldvcoffeeshop.com
SUMMARY:Why Not
DESCRIPTION:Why Not! is a trio of musicians made up of two older dudes–brothers\, actually–and a young amazing-voiced lady who\, together\, play a fun mix of oldies folk\, new “folk” and a bit of everything in between.  Brothers Don and Steve Mares have been playing together for . . . let’s just say for a pretty darned long time.  Sarah Leavesly was discovered in a burrito shop and has been dazzling crowds with her incredible vocals ever since.  Together this motley\, music-loving trio is called Why Not!  Because . . . why not?
URL:https://ldvcoffeeshop.com/event/why-not/
CATEGORIES:Music
END:VEVENT
END:VCALENDAR