BEGIN:VCALENDAR
VERSION:2.0
PRODID:-//La Dolce Vita - ECPv6.13.2.1//NONSGML v1.0//EN
CALSCALE:GREGORIAN
METHOD:PUBLISH
X-WR-CALNAME:La Dolce Vita
X-ORIGINAL-URL:https://ldvcoffeeshop.com
X-WR-CALDESC:Events for La Dolce Vita
REFRESH-INTERVAL;VALUE=DURATION:PT1H
X-Robots-Tag:noindex
X-PUBLISHED-TTL:PT1H
BEGIN:VTIMEZONE
TZID:America/Denver
BEGIN:DAYLIGHT
TZOFFSETFROM:-0700
TZOFFSETTO:-0600
TZNAME:MDT
DTSTART:20250309T090000
END:DAYLIGHT
BEGIN:STANDARD
TZOFFSETFROM:-0600
TZOFFSETTO:-0700
TZNAME:MST
DTSTART:20251102T080000
END:STANDARD
END:VTIMEZONE
BEGIN:VEVENT
DTSTART;TZID=America/Denver:20251011T110000
DTEND;TZID=America/Denver:20251011T130000
DTSTAMP:20260424T155647
CREATED:20250602T004837Z
LAST-MODIFIED:20250602T004837Z
UID:8023-1760180400-1760187600@ldvcoffeeshop.com
SUMMARY:Death Cafe
DESCRIPTION:Death Cafe creates a safe space for people to explore personal thoughts and feelings about mortality\, death\, the dying process\, near death experiences\, the afterlife\, spirits\, or whatever the thoughts of death may be and how we and our culture deals with death.
URL:https://ldvcoffeeshop.com/event/death-cafe-9/
END:VEVENT
BEGIN:VEVENT
DTSTART;TZID=America/Denver:20251011T190000
DTEND;TZID=America/Denver:20251011T220000
DTSTAMP:20260424T155647
CREATED:20250603T214711Z
LAST-MODIFIED:20250603T214711Z
UID:8077-1760209200-1760220000@ldvcoffeeshop.com
SUMMARY:Patty Jackson
DESCRIPTION:Patty Jackson’s angelic voice\, her stunning finger style guitar licks\, the sweet sound of her ukulele\, and the funked-up chords of her minty green baritone guitar. Patty’s musical style is a unique fusion of folk\, rock\, and country with a touch of jazz. Born in central New York\, Patty was given some Joan Baez tickets when she was 15 years old\, and that changed the trajectory of her life. She was bitten by the music bug and over the years she formed several bands\, cutting her teeth on bar gigs. She soon started playing the college circuit\, folk clubs\, and coffeehouses in New England and New York with her band\, Wildfire. In addition to performing around town\, the band also played for Hillary Clinton during her run for senator from New York. In 2004\, Patty moved to Colorado and joined Resonance\, The Women’s Chorus of Boulder. There she met bandmates who formed the group\,
URL:https://ldvcoffeeshop.com/event/patty-jackson-18/
CATEGORIES:Music
END:VEVENT
END:VCALENDAR