BEGIN:VCALENDAR
VERSION:2.0
PRODID:-//La Dolce Vita - ECPv6.13.2.1//NONSGML v1.0//EN
CALSCALE:GREGORIAN
METHOD:PUBLISH
X-WR-CALNAME:La Dolce Vita
X-ORIGINAL-URL:https://ldvcoffeeshop.com
X-WR-CALDESC:Events for La Dolce Vita
REFRESH-INTERVAL;VALUE=DURATION:PT1H
X-Robots-Tag:noindex
X-PUBLISHED-TTL:PT1H
BEGIN:VTIMEZONE
TZID:America/Denver
BEGIN:DAYLIGHT
TZOFFSETFROM:-0700
TZOFFSETTO:-0600
TZNAME:MDT
DTSTART:20260308T090000
END:DAYLIGHT
BEGIN:STANDARD
TZOFFSETFROM:-0600
TZOFFSETTO:-0700
TZNAME:MST
DTSTART:20261101T080000
END:STANDARD
END:VTIMEZONE
BEGIN:VEVENT
DTSTART;TZID=America/Denver:20260425T190000
DTEND;TZID=America/Denver:20260425T220000
DTSTAMP:20260423T064216
CREATED:20260421T171654Z
LAST-MODIFIED:20260421T171654Z
UID:8224-1777143600-1777154400@ldvcoffeeshop.com
SUMMARY:Spirit Ridge PLUS Soda Blue Live
DESCRIPTION:TOGETHER AT LAST! Spirit Ridge PLUS Soda Blue!!!LIVE at La Dolce Vita Coffee in Olde Town ArvadaSaturday\, April 25; 7-10 pmA BRAND NEW SUPERGROUP? But what do we call it? Blue Spirit? Soda Ridge? How about ‘Spirit of the Blue Ridge Soda?’Heck with it – working title “SPODA BLIDGE”… (yeah… we know.)We will be performing separately AND TOGETHER!YOU DON’T WANT TO MISS THIS!!!Join us and share in the experience!Saturday\, April 25\, 7-10 pm at @ladolcevitacoffe5756 Olde Wadsworth Blvd in Olde Town Arvada
URL:https://ldvcoffeeshop.com/event/spirit-ridge-plus-soda-blue-live/
CATEGORIES:Music
END:VEVENT
BEGIN:VEVENT
DTSTART;TZID=America/Denver:20260426T020000
DTEND;TZID=America/Denver:20260426T160000
DTSTAMP:20260423T064216
CREATED:20260421T173528Z
LAST-MODIFIED:20260421T173528Z
UID:8228-1777168800-1777219200@ldvcoffeeshop.com
SUMMARY:Dam Jam
DESCRIPTION:The format will be everyone gets to lead a song and we will go around to each person\, also maybe passing a mic\, but no plug-in otherwise. All folk style instruments are welcome. Get your folk music lists ready and we will try to keep the era of music to 70’s and older but most songs are welcome\, even acoustic versions of newer material. All levels of play are welcome (try to keep with the chords/notes/rhythm of the songs. Performance songs are also welcome.If you do not have an acoustic instrument we might have an extra. Message the host for more info.Please remember we will have two hours to play so try to keep the song breaks to a minimum. This is inside to keep in mind there will be limited space but no limit on players.Let’s also support La Dolce Vita and get lunch\, snacks\, drinks\, or deserts and of course coffee (mmmm so good).Let’s all have fun and DAM JAM!!!
URL:https://ldvcoffeeshop.com/event/dam-jam-25/
CATEGORIES:Music
END:VEVENT
BEGIN:VEVENT
DTSTART;TZID=America/Denver:20260426T100000
DTEND;TZID=America/Denver:20260426T130000
DTSTAMP:20260423T064216
CREATED:20251204T031520Z
LAST-MODIFIED:20251204T031520Z
UID:8178-1777197600-1777208400@ldvcoffeeshop.com
SUMMARY:Be Be
DESCRIPTION:Be Be\, a Colorado song writer / musician\, performs at the Arvada coffee shop La Dolche Vita on the 4th Sunday of each month. Whereas\, she used to play the Banjo with Moses Walker in this time slot\, she now gets to play guitar and sing a myriad of songs she’s written over the past several decades. “I get to play my favorite songs from 10 am till 1 pm\, and when that time is up I still haven’t played all the songs I’ve written.”If you were to take the following songwriters and blend them all together you would get to hear the type of music that Be writes. James Taylor\, Joni Mitchell\, Justin Hayward\, Dolly Parton\, Paul McCartney\, Jessie Colin Young\, Neil Young\, Gordon Lightfoot and many more. These are songs that never have been produced and are for a future generation.Periodically Be also integrates her sets with recordings of Moses and plays Banjo in memory of him. Although an accomplished musician she is also the author of\, The Be Attitudes\, A Woman’s View of The Prophet by Kahlil Gibran and her latest book called The Great Urantia Agreement which highlights an important quote from the URANTIA Book.Be\, a Vietnam Navy Veteran is also a Doctor of Divinity is and an ordained minister through the Church of the Universal Light. She has read the URANTIA Book page by page and cover to cover 10 times and if you know anything about the URANTIA Book you’ll know that is quite an amazing feat.Be Be is the inventor and manufacturer of the Suspendulum®\, an Aerial Dance Tripod which affords aerial dancers all over the world to perform their silk dancing while hanging from the Suspendulum®. The rig is in over 22 countries.Please come out to enjoy some very beautiful and meaningful songs as well as musical poetry which stimulate the imagination
URL:https://ldvcoffeeshop.com/event/be-be-27/
CATEGORIES:Music
END:VEVENT
END:VCALENDAR