BEGIN:VCALENDAR
VERSION:2.0
PRODID:-//La Dolce Vita - ECPv6.13.2.1//NONSGML v1.0//EN
CALSCALE:GREGORIAN
METHOD:PUBLISH
X-WR-CALNAME:La Dolce Vita
X-ORIGINAL-URL:https://ldvcoffeeshop.com
X-WR-CALDESC:Events for La Dolce Vita
REFRESH-INTERVAL;VALUE=DURATION:PT1H
X-Robots-Tag:noindex
X-PUBLISHED-TTL:PT1H
BEGIN:VTIMEZONE
TZID:America/Denver
BEGIN:DAYLIGHT
TZOFFSETFROM:-0700
TZOFFSETTO:-0600
TZNAME:MDT
DTSTART:20210314T090000
END:DAYLIGHT
BEGIN:STANDARD
TZOFFSETFROM:-0600
TZOFFSETTO:-0700
TZNAME:MST
DTSTART:20211107T080000
END:STANDARD
BEGIN:DAYLIGHT
TZOFFSETFROM:-0700
TZOFFSETTO:-0600
TZNAME:MDT
DTSTART:20220313T090000
END:DAYLIGHT
BEGIN:STANDARD
TZOFFSETFROM:-0600
TZOFFSETTO:-0700
TZNAME:MST
DTSTART:20221106T080000
END:STANDARD
BEGIN:DAYLIGHT
TZOFFSETFROM:-0700
TZOFFSETTO:-0600
TZNAME:MDT
DTSTART:20230312T090000
END:DAYLIGHT
BEGIN:STANDARD
TZOFFSETFROM:-0600
TZOFFSETTO:-0700
TZNAME:MST
DTSTART:20231105T080000
END:STANDARD
END:VTIMEZONE
BEGIN:VEVENT
DTSTART;TZID=America/Denver:20230316T190000
DTEND;TZID=America/Denver:20230316T220000
DTSTAMP:20260424T193619
CREATED:20230209T231329Z
LAST-MODIFIED:20230209T231329Z
UID:7365-1678993200-1679004000@ldvcoffeeshop.com
SUMMARY:Blues Jam
DESCRIPTION:The La Dolce Vita Blues Jam 7:00 – 10:00 PM\, is an opportunity for local blues players to gather to share music\, good times and of course\, great coffee and food. The jam is hosted by local band “Dive Bar Diva” and provides a complete back and front line including drums\, keyboards and even guitar amplifiers!\nBring your chops\, guitar\, bass\, sticks\, harp\, sax\, a mic (if you have it) and anything else you can use to play the blues. Meet old friends\, make new friends and make some music!
URL:https://ldvcoffeeshop.com/event/blues-jam-46/
CATEGORIES:Blues Jam,Music
END:VEVENT
BEGIN:VEVENT
DTSTART;TZID=America/Denver:20230216T190000
DTEND;TZID=America/Denver:20230216T220000
DTSTAMP:20260424T193619
CREATED:20230209T231233Z
LAST-MODIFIED:20230209T231233Z
UID:7363-1676574000-1676584800@ldvcoffeeshop.com
SUMMARY:Blues Jam
DESCRIPTION:The La Dolce Vita Blues Jam 7:00 – 10:00 PM\, is an opportunity for local blues players to gather to share music\, good times and of course\, great coffee and food. The jam is hosted by local band “Dive Bar Diva” and provides a complete back and front line including drums\, keyboards and even guitar amplifiers!\nBring your chops\, guitar\, bass\, sticks\, harp\, sax\, a mic (if you have it) and anything else you can use to play the blues. Meet old friends\, make new friends and make some music!
URL:https://ldvcoffeeshop.com/event/blues-jam-45/
CATEGORIES:Blues Jam,Music
END:VEVENT
BEGIN:VEVENT
DTSTART;TZID=America/Denver:20230119T190000
DTEND;TZID=America/Denver:20230119T220000
DTSTAMP:20260424T193619
CREATED:20221223T043456Z
LAST-MODIFIED:20221223T043456Z
UID:7351-1674154800-1674165600@ldvcoffeeshop.com
SUMMARY:Blues Jam
DESCRIPTION:The La Dolce Vita Blues Jam 7:00 – 10:00 PM\, is an opportunity for local blues players to gather to share music\, good times and of course\, great coffee and food. The jam is hosted by local band “Dive Bar Diva” and provides a complete back and front line including drums\, keyboards and even guitar amplifiers!\nBring your chops\, guitar\, bass\, sticks\, harp\, sax\, a mic (if you have it) and anything else you can use to play the blues. Meet old friends\, make new friends and make some music!
URL:https://ldvcoffeeshop.com/event/blues-jam-44/
CATEGORIES:Blues Jam,Music
END:VEVENT
BEGIN:VEVENT
DTSTART;TZID=America/Denver:20221215T190000
DTEND;TZID=America/Denver:20221215T220000
DTSTAMP:20260424T193619
CREATED:20221102T041516Z
LAST-MODIFIED:20221102T041516Z
UID:7283-1671130800-1671141600@ldvcoffeeshop.com
SUMMARY:Blues Jam
DESCRIPTION:The La Dolce Vita Blues Jam 7:00 – 10:00 PM\, is an opportunity for local blues players to gather to share music\, good times and of course\, great coffee and food. The jam is hosted by local band “Dive Bar Diva” and provides a complete back and front line including drums\, keyboards and even guitar amplifiers!\nBring your chops\, guitar\, bass\, sticks\, harp\, sax\, a mic (if you have it) and anything else you can use to play the blues. Meet old friends\, make new friends and make some music!
URL:https://ldvcoffeeshop.com/event/blues-jam-43/
CATEGORIES:Blues Jam
END:VEVENT
BEGIN:VEVENT
DTSTART;TZID=America/Denver:20221110T190000
DTEND;TZID=America/Denver:20221110T220000
DTSTAMP:20260424T193619
CREATED:20221102T041402Z
LAST-MODIFIED:20221102T041402Z
UID:7281-1668106800-1668117600@ldvcoffeeshop.com
SUMMARY:Blues Jam
DESCRIPTION:The La Dolce Vita Blues Jam 7:00 – 10:00 PM\, is an opportunity for local blues players to gather to share music\, good times and of course\, great coffee and food. The jam is hosted by local band “Dive Bar Diva” and provides a complete back and front line including drums\, keyboards and even guitar amplifiers!\nBring your chops\, guitar\, bass\, sticks\, harp\, sax\, a mic (if you have it) and anything else you can use to play the blues. Meet old friends\, make new friends and make some music!
URL:https://ldvcoffeeshop.com/event/blues-jam-42/
CATEGORIES:Blues Jam
END:VEVENT
BEGIN:VEVENT
DTSTART;TZID=America/Denver:20220923T190000
DTEND;TZID=America/Denver:20220923T220000
DTSTAMP:20260424T193619
CREATED:20220902T215733Z
LAST-MODIFIED:20220902T215733Z
UID:7194-1663959600-1663970400@ldvcoffeeshop.com
SUMMARY:Blues Jam
DESCRIPTION:The La Dolce Vita Blues Jam 7:00 – 10:00 PM\, is an opportunity for local blues players to gather to share music\, good times and of course\, great coffee and food. The jam is hosted by local band “Dive Bar Diva” and provides a complete back and front line including drums\, keyboards and even guitar amplifiers!\nBring your chops\, guitar\, bass\, sticks\, harp\, sax\, a mic (if you have it) and anything else you can use to play the blues. Meet old friends\, make new friends and make some music!
URL:https://ldvcoffeeshop.com/event/blues-jam-41/
CATEGORIES:Blues Jam
END:VEVENT
BEGIN:VEVENT
DTSTART;TZID=America/Denver:20220909T070000
DTEND;TZID=America/Denver:20220909T220000
DTSTAMP:20260424T193619
CREATED:20220902T215625Z
LAST-MODIFIED:20220902T215625Z
UID:7192-1662706800-1662760800@ldvcoffeeshop.com
SUMMARY:Blues Jam
DESCRIPTION:The La Dolce Vita Blues Jam 7:00 – 10:00 PM\, is an opportunity for local blues players to gather to share music\, good times and of course\, great coffee and food. The jam is hosted by local band “Dive Bar Diva” and provides a complete back and front line including drums\, keyboards and even guitar amplifiers!\nBring your chops\, guitar\, bass\, sticks\, harp\, sax\, a mic (if you have it) and anything else you can use to play the blues. Meet old friends\, make new friends and make some music!
URL:https://ldvcoffeeshop.com/event/blues-jam-40/
CATEGORIES:Blues Jam
END:VEVENT
BEGIN:VEVENT
DTSTART;TZID=America/Denver:20220826T190000
DTEND;TZID=America/Denver:20220826T220000
DTSTAMP:20260424T193619
CREATED:20220525T185241Z
LAST-MODIFIED:20220525T185241Z
UID:7132-1661540400-1661551200@ldvcoffeeshop.com
SUMMARY:Blues Jam
DESCRIPTION:The La Dolce Vita Blues Jam\, held on the second and Forth Fridays of each month from 7:00 – 10:00 PM\, is an opportunity for local blues players to gather to share music\, good times and of course\, great coffee and food. The jam is hosted by local band “Dive Bar Diva” and provides a complete back and front line including drums\, keyboards and even guitar amplifiers!\nBring your chops\, guitar\, bass\, sticks\, harp\, sax\, a mic (if you have it) and anything else you can use to play the blues. Meet old friends\, make new friends and make some music!
URL:https://ldvcoffeeshop.com/event/blues-jam-39/
CATEGORIES:Blues Jam,Music
END:VEVENT
BEGIN:VEVENT
DTSTART;TZID=America/Denver:20220812T190000
DTEND;TZID=America/Denver:20220812T220000
DTSTAMP:20260424T193619
CREATED:20220525T185138Z
LAST-MODIFIED:20220525T185138Z
UID:7130-1660330800-1660341600@ldvcoffeeshop.com
SUMMARY:Blues Jam
DESCRIPTION:The La Dolce Vita Blues Jam\, held on the second and Forth Fridays of each month from 7:00 – 10:00 PM\, is an opportunity for local blues players to gather to share music\, good times and of course\, great coffee and food. The jam is hosted by local band “Dive Bar Diva” and provides a complete back and front line including drums\, keyboards and even guitar amplifiers!\nBring your chops\, guitar\, bass\, sticks\, harp\, sax\, a mic (if you have it) and anything else you can use to play the blues. Meet old friends\, make new friends and make some music!
URL:https://ldvcoffeeshop.com/event/blues-jam-38/
CATEGORIES:Blues Jam,Music
END:VEVENT
BEGIN:VEVENT
DTSTART;TZID=America/Denver:20220722T190000
DTEND;TZID=America/Denver:20220722T220000
DTSTAMP:20260424T193619
CREATED:20220525T185028Z
LAST-MODIFIED:20220525T185028Z
UID:7128-1658516400-1658527200@ldvcoffeeshop.com
SUMMARY:Blues Jam
DESCRIPTION:The La Dolce Vita Blues Jam\, held on the second and Forth Fridays of each month from 7:00 – 10:00 PM\, is an opportunity for local blues players to gather to share music\, good times and of course\, great coffee and food. The jam is hosted by local band “Dive Bar Diva” and provides a complete back and front line including drums\, keyboards and even guitar amplifiers!\nBring your chops\, guitar\, bass\, sticks\, harp\, sax\, a mic (if you have it) and anything else you can use to play the blues. Meet old friends\, make new friends and make some music!
URL:https://ldvcoffeeshop.com/event/blues-jam-37/
CATEGORIES:Blues Jam,Music
END:VEVENT
BEGIN:VEVENT
DTSTART;TZID=America/Denver:20220708T190000
DTEND;TZID=America/Denver:20220708T220000
DTSTAMP:20260424T193619
CREATED:20220525T184914Z
LAST-MODIFIED:20220525T184914Z
UID:7126-1657306800-1657317600@ldvcoffeeshop.com
SUMMARY:Blues Jam
DESCRIPTION:The La Dolce Vita Blues Jam\, held on the second and Forth Fridays of each month from 7:00 – 10:00 PM\, is an opportunity for local blues players to gather to share music\, good times and of course\, great coffee and food. The jam is hosted by local band “Dive Bar Diva” and provides a complete back and front line including drums\, keyboards and even guitar amplifiers!\nBring your chops\, guitar\, bass\, sticks\, harp\, sax\, a mic (if you have it) and anything else you can use to play the blues. Meet old friends\, make new friends and make some music!
URL:https://ldvcoffeeshop.com/event/blues-jam-36/
CATEGORIES:Blues Jam,Music
END:VEVENT
BEGIN:VEVENT
DTSTART;TZID=America/Denver:20220624T190000
DTEND;TZID=America/Denver:20220624T220000
DTSTAMP:20260424T193619
CREATED:20220525T184702Z
LAST-MODIFIED:20220525T184702Z
UID:7124-1656097200-1656108000@ldvcoffeeshop.com
SUMMARY:Blues Jam
DESCRIPTION:The La Dolce Vita Blues Jam\, held on the second and Forth Fridays of each month from 7:00 – 10:00 PM\, is an opportunity for local blues players to gather to share music\, good times and of course\, great coffee and food. The jam is hosted by local band “Dive Bar Diva” and provides a complete back and front line including drums\, keyboards and even guitar amplifiers!\nBring your chops\, guitar\, bass\, sticks\, harp\, sax\, a mic (if you have it) and anything else you can use to play the blues. Meet old friends\, make new friends and make some music!
URL:https://ldvcoffeeshop.com/event/blues-jam-35/
CATEGORIES:Blues Jam,Open Mic
END:VEVENT
BEGIN:VEVENT
DTSTART;TZID=America/Denver:20220610T190000
DTEND;TZID=America/Denver:20220610T220000
DTSTAMP:20260424T193619
CREATED:20220525T184547Z
LAST-MODIFIED:20220525T184758Z
UID:7122-1654887600-1654898400@ldvcoffeeshop.com
SUMMARY:Blues Jam
DESCRIPTION:The La Dolce Vita Blues Jam\, held on the second and Forth Fridays of each month from 7:00 – 10:00 PM\, is an opportunity for local blues players to gather to share music\, good times and of course\, great coffee and food. The jam is hosted by local band “Dive Bar Diva” and provides a complete back and front line including drums\, keyboards and even guitar amplifiers!\nBring your chops\, guitar\, bass\, sticks\, harp\, sax\, a mic (if you have it) and anything else you can use to play the blues. Meet old friends\, make new friends and make some music!
URL:https://ldvcoffeeshop.com/event/blues-jam-34/
CATEGORIES:Blues Jam,Music
END:VEVENT
BEGIN:VEVENT
DTSTART;TZID=America/Denver:20220527T190000
DTEND;TZID=America/Denver:20220527T220000
DTSTAMP:20260424T193619
CREATED:20220406T172346Z
LAST-MODIFIED:20220406T172346Z
UID:7107-1653678000-1653688800@ldvcoffeeshop.com
SUMMARY:Blues Jam
DESCRIPTION:The La Dolce Vita Blues Jam\, held on the second and Forth Fridays of each month from 7:00 – 10:00 PM\, is an opportunity for local blues players to gather to share music\, good times and of course\, great coffee and food. The jam is hosted by local band “Dive Bar Diva” and provides a complete back and front line including drums\, keyboards and even guitar amplifiers!\nBring your chops\, guitar\, bass\, sticks\, harp\, sax\, a mic (if you have it) and anything else you can use to play the blues. Meet old friends\, make new friends and make some music!
URL:https://ldvcoffeeshop.com/event/blues-jam-33/
CATEGORIES:Blues Jam,Music
END:VEVENT
BEGIN:VEVENT
DTSTART;TZID=America/Denver:20220513T190000
DTEND;TZID=America/Denver:20220513T220000
DTSTAMP:20260424T193619
CREATED:20220406T172239Z
LAST-MODIFIED:20220406T172239Z
UID:7105-1652468400-1652479200@ldvcoffeeshop.com
SUMMARY:Blues Jam
DESCRIPTION:The La Dolce Vita Blues Jam\, held on the second and Forth Fridays of each month from 7:00 – 10:00 PM\, is an opportunity for local blues players to gather to share music\, good times and of course\, great coffee and food. The jam is hosted by local band “Dive Bar Diva” and provides a complete back and front line including drums\, keyboards and even guitar amplifiers!\nBring your chops\, guitar\, bass\, sticks\, harp\, sax\, a mic (if you have it) and anything else you can use to play the blues. Meet old friends\, make new friends and make some music!
URL:https://ldvcoffeeshop.com/event/blues-jam-32/
CATEGORIES:Blues Jam,Music
END:VEVENT
BEGIN:VEVENT
DTSTART;TZID=America/Denver:20220429T190000
DTEND;TZID=America/Denver:20220429T220000
DTSTAMP:20260424T193619
CREATED:20220406T171946Z
LAST-MODIFIED:20220406T171946Z
UID:7103-1651258800-1651269600@ldvcoffeeshop.com
SUMMARY:Blues Jam
DESCRIPTION:The La Dolce Vita Blues Jam\, held on the second and Forth Fridays of each month from 7:00 – 10:00 PM\, is an opportunity for local blues players to gather to share music\, good times and of course\, great coffee and food. The jam is hosted by local band “Dive Bar Diva” and provides a complete back and front line including drums\, keyboards and even guitar amplifiers!\nBring your chops\, guitar\, bass\, sticks\, harp\, sax\, a mic (if you have it) and anything else you can use to play the blues. Meet old friends\, make new friends and make some music!
URL:https://ldvcoffeeshop.com/event/blues-jam-31/
CATEGORIES:Blues Jam,Music
END:VEVENT
BEGIN:VEVENT
DTSTART;TZID=America/Denver:20220408T190000
DTEND;TZID=America/Denver:20220408T220000
DTSTAMP:20260424T193619
CREATED:20220406T171841Z
LAST-MODIFIED:20220406T171841Z
UID:7101-1649444400-1649455200@ldvcoffeeshop.com
SUMMARY:Blues Jam
DESCRIPTION:The La Dolce Vita Blues Jam\, held on the second and Forth Fridays of each month from 7:00 – 10:00 PM\, is an opportunity for local blues players to gather to share music\, good times and of course\, great coffee and food. The jam is hosted by local band “Dive Bar Diva” and provides a complete back and front line including drums\, keyboards and even guitar amplifiers!\nBring your chops\, guitar\, bass\, sticks\, harp\, sax\, a mic (if you have it) and anything else you can use to play the blues. Meet old friends\, make new friends and make some music!
URL:https://ldvcoffeeshop.com/event/blues-jam-30/
CATEGORIES:Blues Jam,Music
END:VEVENT
BEGIN:VEVENT
DTSTART;TZID=America/Denver:20211224T190000
DTEND;TZID=America/Denver:20211224T220000
DTSTAMP:20260424T193619
CREATED:20211027T222736Z
LAST-MODIFIED:20211027T222736Z
UID:7033-1640372400-1640383200@ldvcoffeeshop.com
SUMMARY:Blues Jam
DESCRIPTION:The La Dolce Vita Blues Jam\, held on the second and Forth Fridays of each month from 7:00 – 10:00 PM\, is an opportunity for local blues players to gather to share music\, good times and of course\, great coffee and food. The jam is hosted by local band “Dive Bar Diva” and provides a complete back and front line including drums\, keyboards and even guitar amplifiers!\nBring your chops\, guitar\, bass\, sticks\, harp\, sax\, a mic (if you have it) and anything else you can use to play the blues. Meet old friends\, make new friends and make some music!
URL:https://ldvcoffeeshop.com/event/blues-jam-29/
CATEGORIES:Blues Jam,Music
END:VEVENT
BEGIN:VEVENT
DTSTART;TZID=America/Denver:20211210T190000
DTEND;TZID=America/Denver:20211210T220000
DTSTAMP:20260424T193619
CREATED:20211027T222537Z
LAST-MODIFIED:20211027T222537Z
UID:7030-1639162800-1639173600@ldvcoffeeshop.com
SUMMARY:Blues Jam
DESCRIPTION:The La Dolce Vita Blues Jam\, held on the second and Forth Fridays of each month from 7:00 – 10:00 PM\, is an opportunity for local blues players to gather to share music\, good times and of course\, great coffee and food. The jam is hosted by local band “Dive Bar Diva” and provides a complete back and front line including drums\, keyboards and even guitar amplifiers!\nBring your chops\, guitar\, bass\, sticks\, harp\, sax\, a mic (if you have it) and anything else you can use to play the blues. Meet old friends\, make new friends and make some music!
URL:https://ldvcoffeeshop.com/event/blues-jam-28/
CATEGORIES:Blues Jam,Music
END:VEVENT
BEGIN:VEVENT
DTSTART;TZID=America/Denver:20211126T190000
DTEND;TZID=America/Denver:20211126T220000
DTSTAMP:20260424T193619
CREATED:20211027T222451Z
LAST-MODIFIED:20211027T222451Z
UID:7028-1637953200-1637964000@ldvcoffeeshop.com
SUMMARY:Blues Jam
DESCRIPTION:The La Dolce Vita Blues Jam\, held on the second and Forth Fridays of each month from 7:00 – 10:00 PM\, is an opportunity for local blues players to gather to share music\, good times and of course\, great coffee and food. The jam is hosted by local band “Dive Bar Diva” and provides a complete back and front line including drums\, keyboards and even guitar amplifiers!\nBring your chops\, guitar\, bass\, sticks\, harp\, sax\, a mic (if you have it) and anything else you can use to play the blues. Meet old friends\, make new friends and make some music!
URL:https://ldvcoffeeshop.com/event/blues-jam-27/
CATEGORIES:Blues Jam,Music
END:VEVENT
BEGIN:VEVENT
DTSTART;TZID=America/Denver:20211112T070000
DTEND;TZID=America/Denver:20211112T220000
DTSTAMP:20260424T193619
CREATED:20211027T222351Z
LAST-MODIFIED:20211027T222351Z
UID:7026-1636700400-1636754400@ldvcoffeeshop.com
SUMMARY:Blues Jam
DESCRIPTION:The La Dolce Vita Blues Jam\, held on the second and Forth Fridays of each month from 7:00 – 10:00 PM\, is an opportunity for local blues players to gather to share music\, good times and of course\, great coffee and food. The jam is hosted by local band “Dive Bar Diva” and provides a complete back and front line including drums\, keyboards and even guitar amplifiers!\nBring your chops\, guitar\, bass\, sticks\, harp\, sax\, a mic (if you have it) and anything else you can use to play the blues. Meet old friends\, make new friends and make some music!
URL:https://ldvcoffeeshop.com/event/blues-jam-26/
CATEGORIES:Blues Jam,Music
END:VEVENT
BEGIN:VEVENT
DTSTART;TZID=America/Denver:20211022T190000
DTEND;TZID=America/Denver:20211022T220000
DTSTAMP:20260424T193619
CREATED:20210928T010732Z
LAST-MODIFIED:20210928T010732Z
UID:6988-1634929200-1634940000@ldvcoffeeshop.com
SUMMARY:Blues Jam
DESCRIPTION:The La Dolce Vita Blues Jam\, held on the second and Forth Fridays of each month from 7:00 – 10:00 PM\, is an opportunity for local blues players to gather to share music\, good times and of course\, great coffee and food. The jam is hosted by local band “Dive Bar Diva” and provides a complete back and front line including drums\, keyboards and even guitar amplifiers!\nBring your chops\, guitar\, bass\, sticks\, harp\, sax\, a mic (if you have it) and anything else you can use to play the blues. Meet old friends\, make new friends and make some music!
URL:https://ldvcoffeeshop.com/event/blues-jam-25/
CATEGORIES:Blues Jam,Music
END:VEVENT
BEGIN:VEVENT
DTSTART;TZID=America/Denver:20211008T070000
DTEND;TZID=America/Denver:20211008T220000
DTSTAMP:20260424T193619
CREATED:20210928T010634Z
LAST-MODIFIED:20210928T010634Z
UID:6986-1633676400-1633730400@ldvcoffeeshop.com
SUMMARY:Blues Jam
DESCRIPTION:The La Dolce Vita Blues Jam\, held on the second and Forth Fridays of each month from 7:00 – 10:00 PM\, is an opportunity for local blues players to gather to share music\, good times and of course\, great coffee and food. The jam is hosted by local band “Dive Bar Diva” and provides a complete back and front line including drums\, keyboards and even guitar amplifiers!\nBring your chops\, guitar\, bass\, sticks\, harp\, sax\, a mic (if you have it) and anything else you can use to play the blues. Meet old friends\, make new friends and make some music!
URL:https://ldvcoffeeshop.com/event/blues-jam-24/
CATEGORIES:Blues Jam,Music
END:VEVENT
BEGIN:VEVENT
DTSTART;TZID=America/Denver:20210924T190000
DTEND;TZID=America/Denver:20210924T220000
DTSTAMP:20260424T193619
CREATED:20210827T212053Z
LAST-MODIFIED:20210827T212053Z
UID:6951-1632510000-1632520800@ldvcoffeeshop.com
SUMMARY:Blues Jam
DESCRIPTION:The La Dolce Vita Blues Jam\, held on the second and Forth Fridays of each month from 7:00 – 10:00 PM\, is an opportunity for local blues players to gather to share music\, good times and of course\, great coffee and food. The jam is hosted by local band “Dive Bar Diva” and provides a complete back and front line including drums\, keyboards and even guitar amplifiers!\nBring your chops\, guitar\, bass\, sticks\, harp\, sax\, a mic (if you have it) and anything else you can use to play the blues. Meet old friends\, make new friends and make some music!
URL:https://ldvcoffeeshop.com/event/blues-jam-23/
CATEGORIES:Blues Jam
END:VEVENT
BEGIN:VEVENT
DTSTART;TZID=America/Denver:20210910T190000
DTEND;TZID=America/Denver:20210910T220000
DTSTAMP:20260424T193619
CREATED:20210827T211953Z
LAST-MODIFIED:20210827T211953Z
UID:6949-1631300400-1631311200@ldvcoffeeshop.com
SUMMARY:Blues Jam
DESCRIPTION:The La Dolce Vita Blues Jam\, held on the second and Forth Fridays of each month from 7:00 – 10:00 PM\, is an opportunity for local blues players to gather to share music\, good times and of course\, great coffee and food. The jam is hosted by local band “Dive Bar Diva” and provides a complete back and front line including drums\, keyboards and even guitar amplifiers!\nBring your chops\, guitar\, bass\, sticks\, harp\, sax\, a mic (if you have it) and anything else you can use to play the blues. Meet old friends\, make new friends and make some music!
URL:https://ldvcoffeeshop.com/event/blues-jam-22/
CATEGORIES:Blues Jam
END:VEVENT
BEGIN:VEVENT
DTSTART;TZID=America/Denver:20210827T190000
DTEND;TZID=America/Denver:20210827T220000
DTSTAMP:20260424T193619
CREATED:20210726T212031Z
LAST-MODIFIED:20210726T212031Z
UID:6926-1630090800-1630101600@ldvcoffeeshop.com
SUMMARY:Blues Jam
DESCRIPTION:The La Dolce Vita Blues Jam\, held on the second and Forth Fridays of each month from 7:00 – 10:00 PM\, is an opportunity for local blues players to gather to share music\, good times and of course\, great coffee and food. The jam is hosted by local band “Dive Bar Diva” and provides a complete back and front line including drums\, keyboards and even guitar amplifiers!\nBring your chops\, guitar\, bass\, sticks\, harp\, sax\, a mic (if you have it) and anything else you can use to play the blues. Meet old friends\, make new friends and make some music!
URL:https://ldvcoffeeshop.com/event/blues-jam-21/
CATEGORIES:Blues Jam,Music
END:VEVENT
BEGIN:VEVENT
DTSTART;TZID=America/Denver:20210813T070000
DTEND;TZID=America/Denver:20210813T220000
DTSTAMP:20260424T193619
CREATED:20210726T211939Z
LAST-MODIFIED:20210726T211939Z
UID:6924-1628838000-1628892000@ldvcoffeeshop.com
SUMMARY:Blues Jam
DESCRIPTION:The La Dolce Vita Blues Jam\, held on the second and Forth Fridays of each month from 7:00 – 10:00 PM\, is an opportunity for local blues players to gather to share music\, good times and of course\, great coffee and food. The jam is hosted by local band “Dive Bar Diva” and provides a complete back and front line including drums\, keyboards and even guitar amplifiers!\nBring your chops\, guitar\, bass\, sticks\, harp\, sax\, a mic (if you have it) and anything else you can use to play the blues. Meet old friends\, make new friends and make some music!
URL:https://ldvcoffeeshop.com/event/blues-jam-20/
CATEGORIES:Blues Jam,Music
END:VEVENT
BEGIN:VEVENT
DTSTART;TZID=America/Denver:20210723T190000
DTEND;TZID=America/Denver:20210723T220000
DTSTAMP:20260424T193619
CREATED:20210629T225946Z
LAST-MODIFIED:20210629T225946Z
UID:6894-1627066800-1627077600@ldvcoffeeshop.com
SUMMARY:Blues Jam
DESCRIPTION:The La Dolce Vita Blues Jam\, held on the second and Forth Fridays of each month from 7:00 – 10:00 PM\, is an opportunity for local blues players to gather to share music\, good times and of course\, great coffee and food. The jam is hosted by local band “Dive Bar Diva” and provides a complete back and front line including drums\, keyboards and even guitar amplifiers!\nBring your chops\, guitar\, bass\, sticks\, harp\, sax\, a mic (if you have it) and anything else you can use to play the blues. Meet old friends\, make new friends and make some music!
URL:https://ldvcoffeeshop.com/event/blues-jam-19/
CATEGORIES:Blues Jam,Music
END:VEVENT
BEGIN:VEVENT
DTSTART;TZID=America/Denver:20210709T190000
DTEND;TZID=America/Denver:20210709T220000
DTSTAMP:20260424T193620
CREATED:20210629T225848Z
LAST-MODIFIED:20210629T225848Z
UID:6892-1625857200-1625868000@ldvcoffeeshop.com
SUMMARY:Blues Jam
DESCRIPTION:The La Dolce Vita Blues Jam\, held on the second and Forth Fridays of each month from 7:00 – 10:00 PM\, is an opportunity for local blues players to gather to share music\, good times and of course\, great coffee and food. The jam is hosted by local band “Dive Bar Diva” and provides a complete back and front line including drums\, keyboards and even guitar amplifiers!\nBring your chops\, guitar\, bass\, sticks\, harp\, sax\, a mic (if you have it) and anything else you can use to play the blues. Meet old friends\, make new friends and make some music!
URL:https://ldvcoffeeshop.com/event/blues-jam-18/
CATEGORIES:Blues Jam,Music
END:VEVENT
BEGIN:VEVENT
DTSTART;TZID=America/Denver:20210625T190000
DTEND;TZID=America/Denver:20210625T220000
DTSTAMP:20260424T193620
CREATED:20210521T023742Z
LAST-MODIFIED:20210521T023742Z
UID:6875-1624647600-1624658400@ldvcoffeeshop.com
SUMMARY:Blues Jam
DESCRIPTION:The La Dolce Vita Blues Jam\, held on the second and Forth Fridays of each month from 7:00 – 10:00 PM\, is an opportunity for local blues players to gather to share music\, good times and of course\, great coffee and food. The jam is hosted by local band “Dive Bar Diva” and provides a complete back and front line including drums\, keyboards and even guitar amplifiers! \nBring your chops\, guitar\, bass\, sticks\, harp\, sax\, a mic (if you have it) and anything else you can use to play the blues.  Meet old friends\, make new friends and make some music!
URL:https://ldvcoffeeshop.com/event/blues-jam-17/
CATEGORIES:Blues Jam
END:VEVENT
END:VCALENDAR