BEGIN:VCALENDAR
VERSION:2.0
PRODID:-//La Dolce Vita - ECPv6.13.2.1//NONSGML v1.0//EN
CALSCALE:GREGORIAN
METHOD:PUBLISH
X-ORIGINAL-URL:https://ldvcoffeeshop.com
X-WR-CALDESC:Events for La Dolce Vita
REFRESH-INTERVAL;VALUE=DURATION:PT1H
X-Robots-Tag:noindex
X-PUBLISHED-TTL:PT1H
BEGIN:VTIMEZONE
TZID:America/Denver
BEGIN:DAYLIGHT
TZOFFSETFROM:-0700
TZOFFSETTO:-0600
TZNAME:MDT
DTSTART:20260308T090000
END:DAYLIGHT
BEGIN:STANDARD
TZOFFSETFROM:-0600
TZOFFSETTO:-0700
TZNAME:MST
DTSTART:20261101T080000
END:STANDARD
END:VTIMEZONE
BEGIN:VEVENT
DTSTART;TZID=America/Denver:20260131T190000
DTEND;TZID=America/Denver:20260131T220000
DTSTAMP:20260424T160838
CREATED:20251204T034512Z
LAST-MODIFIED:20260113T205332Z
UID:8188-1769886000-1769896800@ldvcoffeeshop.com
SUMMARY:James Ford
DESCRIPTION:James Ford is a genre-fluid vocalist\, guitarist\, and producer whose sound lives at the crossroads of soul\, hip-hop\, R&B\, rock\, and blues. With over a decade of live performance experience\, Ford has built a reputation for delivering emotionally grounded performances that move seamlessly between eras and styles—often within the same set. \nRooted in live musicianship and storytelling\, his performances blend acoustic soul with hip-hop phrasing\, modern R&B textures\, and raw rock energy. Whether reimagining Top 40 hits or performing original material\, Ford’s approach is less about imitation and more about interpretation—making each song feel personal\, present\, and alive. \nFord has performed thousands of shows across bars\, private events\, weddings\, and high-profile stages\, including VIP pre-show performances opening for major national acts. His work has been featured on billboards\, television\, and in print\, reflecting both his professionalism and adaptability as a performer. \nAs a songwriter and producer\, Ford is currently developing a deeply personal concept album that explores morality\, freedom\, identity\, and consequence—drawing from real-world experience and a wide range of musical influences. His studio work mirrors his live ethos: dynamic\, emotionally honest\, and rooted in feel over formula. \nWhether onstage or in the studio\, James Ford brings intention\, range\, and authenticity—creating music that resonates beyond genre and connects on a human level
URL:https://ldvcoffeeshop.com/event/ends-nodds-2/
CATEGORIES:Music
END:VEVENT
END:VCALENDAR