BEGIN:VCALENDAR
VERSION:2.0
PRODID:-//La Dolce Vita - ECPv6.13.2.1//NONSGML v1.0//EN
CALSCALE:GREGORIAN
METHOD:PUBLISH
X-WR-CALNAME:La Dolce Vita
X-ORIGINAL-URL:https://ldvcoffeeshop.com
X-WR-CALDESC:Events for La Dolce Vita
REFRESH-INTERVAL;VALUE=DURATION:PT1H
X-Robots-Tag:noindex
X-PUBLISHED-TTL:PT1H
BEGIN:VTIMEZONE
TZID:America/Denver
BEGIN:DAYLIGHT
TZOFFSETFROM:-0700
TZOFFSETTO:-0600
TZNAME:MDT
DTSTART:20260308T090000
END:DAYLIGHT
BEGIN:STANDARD
TZOFFSETFROM:-0600
TZOFFSETTO:-0700
TZNAME:MST
DTSTART:20261101T080000
END:STANDARD
END:VTIMEZONE
BEGIN:VEVENT
DTSTART;TZID=America/Denver:20261018T100000
DTEND;TZID=America/Denver:20261018T130000
DTSTAMP:20260425T051130
CREATED:20260422T010430Z
LAST-MODIFIED:20260422T010430Z
UID:8318-1792317600-1792328400@ldvcoffeeshop.com
SUMMARY:Soda Blue
DESCRIPTION:Soda Blue is a dynamic duet comprised of partners Alice Frish and David Fermanich. Friends for over 30 years\, Alice and Dave share a chemistry that comes across well on stage. Technically a ‘cover’ musical act with a focus on high energy pop and smokey R&B\, their joking and overall sense of fun turns their show into something more than just music.
URL:https://ldvcoffeeshop.com/event/soda-blue-75/
CATEGORIES:Music
END:VEVENT
BEGIN:VEVENT
DTSTART;TZID=America/Denver:20261025T100000
DTEND;TZID=America/Denver:20261025T130000
DTSTAMP:20260425T051130
CREATED:20260422T011510Z
LAST-MODIFIED:20260422T011510Z
UID:8330-1792922400-1792933200@ldvcoffeeshop.com
SUMMARY:Be Be
DESCRIPTION:Be Be\, a Colorado song writer / musician\, performs at the Arvada coffee shop La Dolce Vita on the 4th Sunday of each month. Whereas\, she used to play the Banjo with Moses Walker in this time slot\, she now gets to play guitar and sing a myriad of songs she’s written over the past several decades. “I get to play my favorite songs from 10 am till 1 pm\, and when that time is up I still haven’t played all the songs I’ve written.”If you were to take the following songwriters and blend them all together you would get to hear the type of music that Be Be writes. James Taylor\, Joni Mitchell\, Justin Hayward\, Dolly Parton\, Paul McCartney\, Jessie Colin Young\, Neil Young\, Gordon Lightfoot and many more. These are songs that never have been produced and are for a future generation.Although an accomplished musician she is also the author of\, The Be Attitudes\, A Woman’s View of The Prophet by Kahlil Gibran and her latest book called The Great Urantia Agreement which highlights an important quote from the URANTIA Book.Be Be\, a Vietnam Navy Veteran is also a Doctor of Divinity and an ordained minister through the Church of the Universal Light. She has read the URANTIA Book page by page and cover to cover 10 times and if you know anything about the URANTIA Book you’ll know that is quite an amazing feat.Be Be is the inventor and manufacturer of the Suspendulum®\, an Aerial Dance Tripod which affords aerial dancers all over the world to perform their silk dancing while hanging from the Suspendulum®. The rig is in over 22 countries.Please come out to enjoy some very beautiful and meaningful songs as well as musical poetry which stimulate the imagination.
URL:https://ldvcoffeeshop.com/event/be-be-33/
CATEGORIES:Music
END:VEVENT
BEGIN:VEVENT
DTSTART;TZID=America/Denver:20261101T100000
DTEND;TZID=America/Denver:20261101T130000
DTSTAMP:20260425T051130
CREATED:20260422T020108Z
LAST-MODIFIED:20260422T020108Z
UID:8352-1793527200-1793538000@ldvcoffeeshop.com
SUMMARY:Blue Cana Roberta Holbrook
DESCRIPTION:Roberta Holbrook followed her music dream early with a successful career on the road singing and playing in clubs. She is pleased once again to be focusing on playing music full-time. Together with sweet harmonies\, guitars\, and keyboards. Roberta keeps the audience engaged as she performs a variety of songs that include Americana\, Blues\, Folk\, Classic Rock and more. Roberta agrees that the Denver area has a strong family of welcoming\, generous\, supportive and talented musicians and is grateful for the sense of community she has found here
URL:https://ldvcoffeeshop.com/event/blue-cana-roberta-holbrook-7/
CATEGORIES:Music
END:VEVENT
BEGIN:VEVENT
DTSTART;TZID=America/Denver:20261107T190000
DTEND;TZID=America/Denver:20261107T220000
DTSTAMP:20260425T051130
CREATED:20260421T214107Z
LAST-MODIFIED:20260421T214107Z
UID:8284-1794078000-1794088800@ldvcoffeeshop.com
SUMMARY:Open Mic
DESCRIPTION:Become part of the La Dolce Vita performing community! Join us for open mic. on the first and third Saturday of the month between 7:00 and 10:00 PM. Bring your instrument\, voice\, your poetry or comedy routine (keep it clean) and we’ll provide the PA\, a very welcoming and supportive audience and of course\, great coffee\, teas\, pastries and sandwiches. Signup at 6:00 PM. Don’t play? Bring your friends and hang out. We can promise great music\, great entertainment\, great food and a great time
URL:https://ldvcoffeeshop.com/event/open-mic-103/
CATEGORIES:Music,Open Mic
END:VEVENT
BEGIN:VEVENT
DTSTART;TZID=America/Denver:20261108T100000
DTEND;TZID=America/Denver:20261108T130000
DTSTAMP:20260425T051130
CREATED:20260422T005828Z
LAST-MODIFIED:20260422T005828Z
UID:8308-1794132000-1794142800@ldvcoffeeshop.com
SUMMARY:Cellist Monica Sales-Council
DESCRIPTION:
URL:https://ldvcoffeeshop.com/event/cellist-monica-sales-council-51/
CATEGORIES:Music
END:VEVENT
BEGIN:VEVENT
DTSTART;TZID=America/Denver:20261115T100000
DTEND;TZID=America/Denver:20261115T130000
DTSTAMP:20260425T051130
CREATED:20260422T010548Z
LAST-MODIFIED:20260422T010548Z
UID:8320-1794736800-1794747600@ldvcoffeeshop.com
SUMMARY:Soda Blue
DESCRIPTION:Soda Blue is a dynamic duet comprised of partners Alice Frish and David Fermanich. Friends for over 30 years\, Alice and Dave share a chemistry that comes across well on stage. Technically a ‘cover’ musical act with a focus on high energy pop and smokey R&B\, their joking and overall sense of fun turns their show into something more than just music.
URL:https://ldvcoffeeshop.com/event/soda-blue-76/
CATEGORIES:Music
END:VEVENT
BEGIN:VEVENT
DTSTART;TZID=America/Denver:20261121T190000
DTEND;TZID=America/Denver:20261121T220000
DTSTAMP:20260425T051130
CREATED:20260421T214357Z
LAST-MODIFIED:20260421T214357Z
UID:8288-1795287600-1795298400@ldvcoffeeshop.com
SUMMARY:Open Mic
DESCRIPTION:Become part of the La Dolce Vita performing community! Join us for open mic. on the first and third Saturday of the month between 7:00 and 10:00 PM. Bring your instrument\, voice\, your poetry or comedy routine (keep it clean) and we’ll provide the PA\, a very welcoming and supportive audience and of course\, great coffee\, teas\, pastries and sandwiches. Signup at 6:00 PM. Don’t play? Bring your friends and hang out. We can promise great music\, great entertainment\, great food and a great time
URL:https://ldvcoffeeshop.com/event/open-mic-105/
CATEGORIES:Music,Open Mic
END:VEVENT
BEGIN:VEVENT
DTSTART;TZID=America/Denver:20261122T100000
DTEND;TZID=America/Denver:20261122T130000
DTSTAMP:20260425T051130
CREATED:20260422T011629Z
LAST-MODIFIED:20260422T011629Z
UID:8332-1795341600-1795352400@ldvcoffeeshop.com
SUMMARY:Be Be
DESCRIPTION:Be Be\, a Colorado song writer / musician\, performs at the Arvada coffee shop La Dolce Vita on the 4th Sunday of each month. Whereas\, she used to play the Banjo with Moses Walker in this time slot\, she now gets to play guitar and sing a myriad of songs she’s written over the past several decades. “I get to play my favorite songs from 10 am till 1 pm\, and when that time is up I still haven’t played all the songs I’ve written.”If you were to take the following songwriters and blend them all together you would get to hear the type of music that Be Be writes. James Taylor\, Joni Mitchell\, Justin Hayward\, Dolly Parton\, Paul McCartney\, Jessie Colin Young\, Neil Young\, Gordon Lightfoot and many more. These are songs that never have been produced and are for a future generation.Although an accomplished musician she is also the author of\, The Be Attitudes\, A Woman’s View of The Prophet by Kahlil Gibran and her latest book called The Great Urantia Agreement which highlights an important quote from the URANTIA Book.Be Be\, a Vietnam Navy Veteran is also a Doctor of Divinity and an ordained minister through the Church of the Universal Light. She has read the URANTIA Book page by page and cover to cover 10 times and if you know anything about the URANTIA Book you’ll know that is quite an amazing feat.Be Be is the inventor and manufacturer of the Suspendulum®\, an Aerial Dance Tripod which affords aerial dancers all over the world to perform their silk dancing while hanging from the Suspendulum®. The rig is in over 22 countries.Please come out to enjoy some very beautiful and meaningful songs as well as musical poetry which stimulate the imagination.
URL:https://ldvcoffeeshop.com/event/be-be-34/
CATEGORIES:Music
END:VEVENT
BEGIN:VEVENT
DTSTART;TZID=America/Denver:20261205T190000
DTEND;TZID=America/Denver:20261205T220000
DTSTAMP:20260425T051130
CREATED:20260421T214512Z
LAST-MODIFIED:20260421T214512Z
UID:8290-1796497200-1796508000@ldvcoffeeshop.com
SUMMARY:Open Mic
DESCRIPTION:Become part of the La Dolce Vita performing community! Join us for open mic. on the first and third Saturday of the month between 7:00 and 10:00 PM. Bring your instrument\, voice\, your poetry or comedy routine (keep it clean) and we’ll provide the PA\, a very welcoming and supportive audience and of course\, great coffee\, teas\, pastries and sandwiches. Signup at 6:00 PM. Don’t play? Bring your friends and hang out. We can promise great music\, great entertainment\, great food and a great time
URL:https://ldvcoffeeshop.com/event/open-mic-106/
CATEGORIES:Music,Open Mic
END:VEVENT
BEGIN:VEVENT
DTSTART;TZID=America/Denver:20261206T100000
DTEND;TZID=America/Denver:20261206T130000
DTSTAMP:20260425T051130
CREATED:20260422T020257Z
LAST-MODIFIED:20260422T020257Z
UID:8354-1796551200-1796562000@ldvcoffeeshop.com
SUMMARY:Blue Cana Roberta Holbrook
DESCRIPTION:Roberta Holbrook followed her music dream early with a successful career on the road singing and playing in clubs. She is pleased once again to be focusing on playing music full-time. Together with sweet harmonies\, guitars\, and keyboards. Roberta keeps the audience engaged as she performs a variety of songs that include Americana\, Blues\, Folk\, Classic Rock and more. Roberta agrees that the Denver area has a strong family of welcoming\, generous\, supportive and talented musicians and is grateful for the sense of community she has found here
URL:https://ldvcoffeeshop.com/event/blue-cana-roberta-holbrook-8/
CATEGORIES:Music
END:VEVENT
BEGIN:VEVENT
DTSTART;TZID=America/Denver:20261212T190000
DTEND;TZID=America/Denver:20261212T220000
DTSTAMP:20260425T051130
CREATED:20260422T014544Z
LAST-MODIFIED:20260422T014544Z
UID:8344-1797102000-1797112800@ldvcoffeeshop.com
SUMMARY:Patty Jackson
DESCRIPTION:Patty Jackson’s angelic voice\, her stunning finger style guitar licks\, the sweet sound of her ukulele\, and the funked-up chords of her minty green baritone guitar. Patty’s musical style is a unique fusion of folk\, rock\, and country with a touch of jazz. Born in central New York\, Patty was given some Joan Baez tickets when she was 15 years old\, and that changed the trajectory of her life. She was bitten by the music bug and over the years she formed several bands\, cutting her teeth on bar gigs. She soon started playing the college circuit\, folk clubs\, and coffeehouses in New England and New York with her band\, Wildfire. In addition to performing around town\, the band also played for Hillary Clinton during her run for senator from New York. In 2004\, Patty moved to Colorado and joined Resonance\, The Women’s Chorus of Boulder. There she met bandmates who formed the group\,
URL:https://ldvcoffeeshop.com/event/patty-jackson-21/
CATEGORIES:Music
END:VEVENT
BEGIN:VEVENT
DTSTART;TZID=America/Denver:20261213T100000
DTEND;TZID=America/Denver:20261213T130000
DTSTAMP:20260425T051130
CREATED:20260422T005930Z
LAST-MODIFIED:20260422T005930Z
UID:8310-1797156000-1797166800@ldvcoffeeshop.com
SUMMARY:Cellist Monica Sales-Council
DESCRIPTION:
URL:https://ldvcoffeeshop.com/event/cellist-monica-sales-council-52/
CATEGORIES:Music
END:VEVENT
BEGIN:VEVENT
DTSTART;TZID=America/Denver:20261219T190000
DTEND;TZID=America/Denver:20261219T220000
DTSTAMP:20260425T051130
CREATED:20260421T214646Z
LAST-MODIFIED:20260421T214646Z
UID:8292-1797706800-1797717600@ldvcoffeeshop.com
SUMMARY:Open Mic
DESCRIPTION:Become part of the La Dolce Vita performing community! Join us for open mic. on the first and third Saturday of the month between 7:00 and 10:00 PM. Bring your instrument\, voice\, your poetry or comedy routine (keep it clean) and we’ll provide the PA\, a very welcoming and supportive audience and of course\, great coffee\, teas\, pastries and sandwiches. Signup at 6:00 PM. Don’t play? Bring your friends and hang out. We can promise great music\, great entertainment\, great food and a great time
URL:https://ldvcoffeeshop.com/event/open-mic-107/
CATEGORIES:Music,Open Mic
END:VEVENT
BEGIN:VEVENT
DTSTART;TZID=America/Denver:20261220T100000
DTEND;TZID=America/Denver:20261220T130000
DTSTAMP:20260425T051130
CREATED:20260422T010708Z
LAST-MODIFIED:20260422T010708Z
UID:8322-1797760800-1797771600@ldvcoffeeshop.com
SUMMARY:Soda Blue
DESCRIPTION:Soda Blue is a dynamic duet comprised of partners Alice Frish and David Fermanich. Friends for over 30 years\, Alice and Dave share a chemistry that comes across well on stage. Technically a ‘cover’ musical act with a focus on high energy pop and smokey R&B\, their joking and overall sense of fun turns their show into something more than just music.
URL:https://ldvcoffeeshop.com/event/soda-blue-77/
CATEGORIES:Music
END:VEVENT
BEGIN:VEVENT
DTSTART;TZID=America/Denver:20261226T190000
DTEND;TZID=America/Denver:20261226T220000
DTSTAMP:20260425T051130
CREATED:20260422T014054Z
LAST-MODIFIED:20260422T014054Z
UID:8340-1798311600-1798322400@ldvcoffeeshop.com
SUMMARY:String Song
DESCRIPTION:John Dandurand\, Gary Michaels\, and Cal Bromfield are three multi-instrumentalists and vocalists with decades of experience performing around the country. Their music centers on Folk\, Blues and Celtic classics reimagined\, along with their own originals. You’ll hear them play on 6 and 12-string guitars\, steel slide guitar\, mandolin\, bass. and dulcimer. Over the years\, each of them has shared the stage with greats like Leo Kotke\, Taj Mahal\, Stefan Grapelli\, and Ray Charles.
URL:https://ldvcoffeeshop.com/event/string-song-10/
CATEGORIES:Music
END:VEVENT
BEGIN:VEVENT
DTSTART;TZID=America/Denver:20261227T100000
DTEND;TZID=America/Denver:20261227T130000
DTSTAMP:20260425T051130
CREATED:20260422T011741Z
LAST-MODIFIED:20260422T011741Z
UID:8334-1798365600-1798376400@ldvcoffeeshop.com
SUMMARY:Be Be
DESCRIPTION:Be Be\, a Colorado song writer / musician\, performs at the Arvada coffee shop La Dolce Vita on the 4th Sunday of each month. Whereas\, she used to play the Banjo with Moses Walker in this time slot\, she now gets to play guitar and sing a myriad of songs she’s written over the past several decades. “I get to play my favorite songs from 10 am till 1 pm\, and when that time is up I still haven’t played all the songs I’ve written.”If you were to take the following songwriters and blend them all together you would get to hear the type of music that Be Be writes. James Taylor\, Joni Mitchell\, Justin Hayward\, Dolly Parton\, Paul McCartney\, Jessie Colin Young\, Neil Young\, Gordon Lightfoot and many more. These are songs that never have been produced and are for a future generation.Although an accomplished musician she is also the author of\, The Be Attitudes\, A Woman’s View of The Prophet by Kahlil Gibran and her latest book called The Great Urantia Agreement which highlights an important quote from the URANTIA Book.Be Be\, a Vietnam Navy Veteran is also a Doctor of Divinity and an ordained minister through the Church of the Universal Light. She has read the URANTIA Book page by page and cover to cover 10 times and if you know anything about the URANTIA Book you’ll know that is quite an amazing feat.Be Be is the inventor and manufacturer of the Suspendulum®\, an Aerial Dance Tripod which affords aerial dancers all over the world to perform their silk dancing while hanging from the Suspendulum®. The rig is in over 22 countries.Please come out to enjoy some very beautiful and meaningful songs as well as musical poetry which stimulate the imagination.
URL:https://ldvcoffeeshop.com/event/be-be-35/
CATEGORIES:Music
END:VEVENT
END:VCALENDAR