BEGIN:VCALENDAR
VERSION:2.0
PRODID:-//La Dolce Vita - ECPv6.13.2.1//NONSGML v1.0//EN
CALSCALE:GREGORIAN
METHOD:PUBLISH
X-WR-CALNAME:La Dolce Vita
X-ORIGINAL-URL:https://ldvcoffeeshop.com
X-WR-CALDESC:Events for La Dolce Vita
REFRESH-INTERVAL;VALUE=DURATION:PT1H
X-Robots-Tag:noindex
X-PUBLISHED-TTL:PT1H
BEGIN:VTIMEZONE
TZID:America/Denver
BEGIN:DAYLIGHT
TZOFFSETFROM:-0700
TZOFFSETTO:-0600
TZNAME:MDT
DTSTART:20260308T090000
END:DAYLIGHT
BEGIN:STANDARD
TZOFFSETFROM:-0600
TZOFFSETTO:-0700
TZNAME:MST
DTSTART:20261101T080000
END:STANDARD
END:VTIMEZONE
BEGIN:VEVENT
DTSTART;TZID=America/Denver:20260509T190000
DTEND;TZID=America/Denver:20260509T220000
DTSTAMP:20260425T075341
CREATED:20260421T172411Z
LAST-MODIFIED:20260421T172411Z
UID:8226-1778353200-1778364000@ldvcoffeeshop.com
SUMMARY:Dive Bar Diva
DESCRIPTION:Dive Bar Diva is five friends who like making Blues\, R&B and Funk inflected music that surprises and makes people want to dance. \nOn keys is Brian “The Professor” Bucenic who’s background includes jazz studies\, funk and straight up rock and roll. Brian is always up for a jam\, unless he’s golfing. \nOn guitar is Edwin Jeffries. Edwin has been a fixture in the Denver club scene for 30-plus years. He’s shared the stage with luminaries such as Tab Benoit and just loves that old-school Chicago Blues. \nOn bass is Warren Rubin\, who by his own admission\, just likes being seen with good musicians. \nDrums and Vocals are anchored by Trent and Julie Mannina\, respectively. Trent and Julie met in local rock band Clusterfunk. Since then\, they’ve performed in a number of local bands with Trent anchoring the back line and Julie always engaging the audience with her wit and powerful and soulful vocals.
URL:https://ldvcoffeeshop.com/event/dive-bar-diva-5/
CATEGORIES:Music
END:VEVENT
BEGIN:VEVENT
DTSTART;TZID=America/Denver:20260509T110000
DTEND;TZID=America/Denver:20260509T130000
DTSTAMP:20260425T075341
CREATED:20251204T040553Z
LAST-MODIFIED:20251204T040553Z
UID:8198-1778324400-1778331600@ldvcoffeeshop.com
SUMMARY:Death Cafe
DESCRIPTION:Death Cafe creates a safe space for people to explore personal thoughts and feelings about mortality\, death\, the dying process\, near death experiences\, the afterlife\, spirits\, or whatever the thoughts of death may be and how we and our culture deals with death.
URL:https://ldvcoffeeshop.com/event/death-cafe-16/
END:VEVENT
BEGIN:VEVENT
DTSTART;TZID=America/Denver:20260503T100000
DTEND;TZID=America/Denver:20260503T130000
DTSTAMP:20260425T075341
CREATED:20251203T230713Z
LAST-MODIFIED:20251203T230713Z
UID:8142-1777802400-1777813200@ldvcoffeeshop.com
SUMMARY:BlueCana Roberta Holbrook
DESCRIPTION:Roberta Holbrook followed her music dream early with a successful career on the road singing and playing in clubs. She is pleased once again to be focusing on playing music full-time. Together with sweet harmonies\, guitars\, and keyboards. Roberta keeps the audience engaged as she performs a variety of songs that include Americana\, Blues\, Folk\, Classic Rock and more. Roberta agrees that the Denver area has a strong family of welcoming\, generous\, supportive and talented musicians and is grateful for the sense of community she has found here
URL:https://ldvcoffeeshop.com/event/bluecana-roberta-holbrook-19/
CATEGORIES:Music
END:VEVENT
BEGIN:VEVENT
DTSTART;TZID=America/Denver:20260502T190000
DTEND;TZID=America/Denver:20260502T220000
DTSTAMP:20260425T075341
CREATED:20251203T225407Z
LAST-MODIFIED:20251203T225407Z
UID:8126-1777748400-1777759200@ldvcoffeeshop.com
SUMMARY:Open Mic
DESCRIPTION:Become part of the the La Dolce Vita performing community! Join us for an open mic. on the first and third Saturday of the month between 7:00 and 10:00 PM. Bring your instrument\, voice\, your poetry or comedy routine (keep it clean) and we’ll provide the PA\, a very welcoming and supportive audience and of course\, great coffee\, teas\, pastries and sandwiches. Signup at 6:00 PM. Don’t play? Bring your friends and hang out. We can promise great music\, great food and a great time
URL:https://ldvcoffeeshop.com/event/open-mic-91/
CATEGORIES:Open Mic
END:VEVENT
BEGIN:VEVENT
DTSTART;TZID=America/Denver:20260426T100000
DTEND;TZID=America/Denver:20260426T130000
DTSTAMP:20260425T075341
CREATED:20251204T031520Z
LAST-MODIFIED:20251204T031520Z
UID:8178-1777197600-1777208400@ldvcoffeeshop.com
SUMMARY:Be Be
DESCRIPTION:Be Be\, a Colorado song writer / musician\, performs at the Arvada coffee shop La Dolche Vita on the 4th Sunday of each month. Whereas\, she used to play the Banjo with Moses Walker in this time slot\, she now gets to play guitar and sing a myriad of songs she’s written over the past several decades. “I get to play my favorite songs from 10 am till 1 pm\, and when that time is up I still haven’t played all the songs I’ve written.”If you were to take the following songwriters and blend them all together you would get to hear the type of music that Be writes. James Taylor\, Joni Mitchell\, Justin Hayward\, Dolly Parton\, Paul McCartney\, Jessie Colin Young\, Neil Young\, Gordon Lightfoot and many more. These are songs that never have been produced and are for a future generation.Periodically Be also integrates her sets with recordings of Moses and plays Banjo in memory of him. Although an accomplished musician she is also the author of\, The Be Attitudes\, A Woman’s View of The Prophet by Kahlil Gibran and her latest book called The Great Urantia Agreement which highlights an important quote from the URANTIA Book.Be\, a Vietnam Navy Veteran is also a Doctor of Divinity is and an ordained minister through the Church of the Universal Light. She has read the URANTIA Book page by page and cover to cover 10 times and if you know anything about the URANTIA Book you’ll know that is quite an amazing feat.Be Be is the inventor and manufacturer of the Suspendulum®\, an Aerial Dance Tripod which affords aerial dancers all over the world to perform their silk dancing while hanging from the Suspendulum®. The rig is in over 22 countries.Please come out to enjoy some very beautiful and meaningful songs as well as musical poetry which stimulate the imagination
URL:https://ldvcoffeeshop.com/event/be-be-27/
CATEGORIES:Music
END:VEVENT
BEGIN:VEVENT
DTSTART;TZID=America/Denver:20260426T020000
DTEND;TZID=America/Denver:20260426T160000
DTSTAMP:20260425T075341
CREATED:20260421T173528Z
LAST-MODIFIED:20260421T173528Z
UID:8228-1777168800-1777219200@ldvcoffeeshop.com
SUMMARY:Dam Jam
DESCRIPTION:The format will be everyone gets to lead a song and we will go around to each person\, also maybe passing a mic\, but no plug-in otherwise. All folk style instruments are welcome. Get your folk music lists ready and we will try to keep the era of music to 70’s and older but most songs are welcome\, even acoustic versions of newer material. All levels of play are welcome (try to keep with the chords/notes/rhythm of the songs. Performance songs are also welcome.If you do not have an acoustic instrument we might have an extra. Message the host for more info.Please remember we will have two hours to play so try to keep the song breaks to a minimum. This is inside to keep in mind there will be limited space but no limit on players.Let’s also support La Dolce Vita and get lunch\, snacks\, drinks\, or deserts and of course coffee (mmmm so good).Let’s all have fun and DAM JAM!!!
URL:https://ldvcoffeeshop.com/event/dam-jam-25/
CATEGORIES:Music
END:VEVENT
BEGIN:VEVENT
DTSTART;TZID=America/Denver:20260425T190000
DTEND;TZID=America/Denver:20260425T220000
DTSTAMP:20260425T075341
CREATED:20260421T171654Z
LAST-MODIFIED:20260421T171654Z
UID:8224-1777143600-1777154400@ldvcoffeeshop.com
SUMMARY:Spirit Ridge PLUS Soda Blue Live
DESCRIPTION:TOGETHER AT LAST! Spirit Ridge PLUS Soda Blue!!!LIVE at La Dolce Vita Coffee in Olde Town ArvadaSaturday\, April 25; 7-10 pmA BRAND NEW SUPERGROUP? But what do we call it? Blue Spirit? Soda Ridge? How about ‘Spirit of the Blue Ridge Soda?’Heck with it – working title “SPODA BLIDGE”… (yeah… we know.)We will be performing separately AND TOGETHER!YOU DON’T WANT TO MISS THIS!!!Join us and share in the experience!Saturday\, April 25\, 7-10 pm at @ladolcevitacoffe5756 Olde Wadsworth Blvd in Olde Town Arvada
URL:https://ldvcoffeeshop.com/event/spirit-ridge-plus-soda-blue-live/
CATEGORIES:Music
END:VEVENT
BEGIN:VEVENT
DTSTART;TZID=America/Denver:20260419T100000
DTEND;TZID=America/Denver:20260419T130000
DTSTAMP:20260425T075341
CREATED:20251204T025554Z
LAST-MODIFIED:20251204T025554Z
UID:8164-1776592800-1776603600@ldvcoffeeshop.com
SUMMARY:Soda Blue
DESCRIPTION:Soda Blue is a dynamic duet comprised of partners Alice Frish and David Fermanich. Friends for over 30 years\, Alice and Dave share a chemistry that comes across well on stage. Technically a ‘cover’ musical act with a focus on high energy pop and smokey R&B\, their joking and overall sense of fun turns their show into something more than just music.
URL:https://ldvcoffeeshop.com/event/soda-blue-69/
CATEGORIES:Music
END:VEVENT
BEGIN:VEVENT
DTSTART;TZID=America/Denver:20260418T190000
DTEND;TZID=America/Denver:20260418T220000
DTSTAMP:20260425T075341
CREATED:20251203T225237Z
LAST-MODIFIED:20251203T225237Z
UID:8124-1776538800-1776549600@ldvcoffeeshop.com
SUMMARY:Open Mic
DESCRIPTION:Become part of the the La Dolce Vita performing community! Join us for an open mic. on the first and third Saturday of the month between 7:00 and 10:00 PM. Bring your instrument\, voice\, your poetry or comedy routine (keep it clean) and we’ll provide the PA\, a very welcoming and supportive audience and of course\, great coffee\, teas\, pastries and sandwiches. Signup at 6:00 PM. Don’t play? Bring your friends and hang out. We can promise great music\, great food and a great time
URL:https://ldvcoffeeshop.com/event/open-mic-90/
CATEGORIES:Open Mic
END:VEVENT
BEGIN:VEVENT
DTSTART;TZID=America/Denver:20260412T100000
DTEND;TZID=America/Denver:20260412T130000
DTSTAMP:20260425T075341
CREATED:20251203T231540Z
LAST-MODIFIED:20251203T231540Z
UID:8152-1775988000-1775998800@ldvcoffeeshop.com
SUMMARY:Cellist Monica Sales-Council
DESCRIPTION:Cellist Monica Sales-Council
URL:https://ldvcoffeeshop.com/event/cellist-monica-sales-council-44/
CATEGORIES:Music
END:VEVENT
BEGIN:VEVENT
DTSTART;TZID=America/Denver:20260411T110000
DTEND;TZID=America/Denver:20260411T130000
DTSTAMP:20260425T075341
CREATED:20251204T040359Z
LAST-MODIFIED:20251204T040359Z
UID:8196-1775905200-1775912400@ldvcoffeeshop.com
SUMMARY:Death Cafe
DESCRIPTION:Death Cafe creates a safe space for people to explore personal thoughts and feelings about mortality\, death\, the dying process\, near death experiences\, the afterlife\, spirits\, or whatever the thoughts of death may be and how we and our culture deals with death.
URL:https://ldvcoffeeshop.com/event/death-cafe-15/
END:VEVENT
BEGIN:VEVENT
DTSTART;TZID=America/Denver:20260405T100000
DTEND;TZID=America/Denver:20260405T130000
DTSTAMP:20260425T075341
CREATED:20251203T230545Z
LAST-MODIFIED:20251203T230545Z
UID:8140-1775383200-1775394000@ldvcoffeeshop.com
SUMMARY:BlueCana Roberta Holbrook
DESCRIPTION:Roberta Holbrook followed her music dream early with a successful career on the road singing and playing in clubs. She is pleased once again to be focusing on playing music full-time. Together with sweet harmonies\, guitars\, and keyboards. Roberta keeps the audience engaged as she performs a variety of songs that include Americana\, Blues\, Folk\, Classic Rock and more. Roberta agrees that the Denver area has a strong family of welcoming\, generous\, supportive and talented musicians and is grateful for the sense of community she has found here
URL:https://ldvcoffeeshop.com/event/bluecana-roberta-holbrook-18/
CATEGORIES:Music
END:VEVENT
BEGIN:VEVENT
DTSTART;TZID=America/Denver:20260404T190000
DTEND;TZID=America/Denver:20260404T220000
DTSTAMP:20260425T075341
CREATED:20251203T225104Z
LAST-MODIFIED:20251203T225104Z
UID:8122-1775329200-1775340000@ldvcoffeeshop.com
SUMMARY:Open Mic
DESCRIPTION:Become part of the the La Dolce Vita performing community! Join us for an open mic. on the first and third Saturday of the month between 7:00 and 10:00 PM. Bring your instrument\, voice\, your poetry or comedy routine (keep it clean) and we’ll provide the PA\, a very welcoming and supportive audience and of course\, great coffee\, teas\, pastries and sandwiches. Signup at 6:00 PM. Don’t play? Bring your friends and hang out. We can promise great music\, great food and a great time
URL:https://ldvcoffeeshop.com/event/open-mic-89/
CATEGORIES:Open Mic
END:VEVENT
BEGIN:VEVENT
DTSTART;TZID=America/Denver:20260329T100000
DTEND;TZID=America/Denver:20260329T130000
DTSTAMP:20260425T075341
CREATED:20251204T033319Z
LAST-MODIFIED:20251204T033319Z
UID:8186-1774778400-1774789200@ldvcoffeeshop.com
SUMMARY:Ends NOdds
DESCRIPTION:If this band were to choose a different name that was equally as fitting\, it would have been It’s Been a Long Time Coming. But that’s too long. The Long Run? Taken. EndsNOdds came together slowly and in an unexpected way which is exactly how they arrange their favorite R&B\, Americana\, Rock\, and Pop covers; with thought and creativity\, adding unexpected elements in each song making them their own.
URL:https://ldvcoffeeshop.com/event/ends-nodds/
CATEGORIES:Music
END:VEVENT
BEGIN:VEVENT
DTSTART;TZID=America/Denver:20260328T190000
DTEND;TZID=America/Denver:20260328T220000
DTSTAMP:20260425T075341
CREATED:20260113T212939Z
LAST-MODIFIED:20260113T212939Z
UID:8209-1774724400-1774735200@ldvcoffeeshop.com
SUMMARY:String Song
DESCRIPTION:John Dandurand\, Gary Michaels\, and Cal Bromfield are three multi-instrumentalists and vocalists with decades of experience performing around the country. Their music centers on Folk\, Blues and Celtic classics reimagined\, along with their own originals. You’ll hear them play on 6 and 12-string guitars\, steel slide guitar\, mandolin\, bass. and dulcimer. Over the years\, each of them has shared the stage with greats like Leo Kotke\, Taj Mahal\, Stefan Grapelli\, and Ray Charles.
URL:https://ldvcoffeeshop.com/event/string-song-7/
CATEGORIES:Music
END:VEVENT
BEGIN:VEVENT
DTSTART;TZID=America/Denver:20260322T100000
DTEND;TZID=America/Denver:20260322T130000
DTSTAMP:20260425T075341
CREATED:20251204T031304Z
LAST-MODIFIED:20251204T031304Z
UID:8176-1774173600-1774184400@ldvcoffeeshop.com
SUMMARY:Be Be
DESCRIPTION:Be Be\, a Colorado song writer / musician\, performs at the Arvada coffee shop La Dolche Vita on the 4th Sunday of each month. Whereas\, she used to play the Banjo with Moses Walker in this time slot\, she now gets to play guitar and sing a myriad of songs she’s written over the past several decades. “I get to play my favorite songs from 10 am till 1 pm\, and when that time is up I still haven’t played all the songs I’ve written.”If you were to take the following songwriters and blend them all together you would get to hear the type of music that Be writes. James Taylor\, Joni Mitchell\, Justin Hayward\, Dolly Parton\, Paul McCartney\, Jessie Colin Young\, Neil Young\, Gordon Lightfoot and many more. These are songs that never have been produced and are for a future generation.Periodically Be also integrates her sets with recordings of Moses and plays Banjo in memory of him. Although an accomplished musician she is also the author of\, The Be Attitudes\, A Woman’s View of The Prophet by Kahlil Gibran and her latest book called The Great Urantia Agreement which highlights an important quote from the URANTIA Book.Be\, a Vietnam Navy Veteran is also a Doctor of Divinity is and an ordained minister through the Church of the Universal Light. She has read the URANTIA Book page by page and cover to cover 10 times and if you know anything about the URANTIA Book you’ll know that is quite an amazing feat.Be Be is the inventor and manufacturer of the Suspendulum®\, an Aerial Dance Tripod which affords aerial dancers all over the world to perform their silk dancing while hanging from the Suspendulum®. The rig is in over 22 countries.Please come out to enjoy some very beautiful and meaningful songs as well as musical poetry which stimulate the imagination
URL:https://ldvcoffeeshop.com/event/be-be-26/
CATEGORIES:Music
END:VEVENT
BEGIN:VEVENT
DTSTART;TZID=America/Denver:20260321T190000
DTEND;TZID=America/Denver:20260321T220000
DTSTAMP:20260425T075341
CREATED:20251203T224803Z
LAST-MODIFIED:20251203T224803Z
UID:8120-1774119600-1774130400@ldvcoffeeshop.com
SUMMARY:Open Mic
DESCRIPTION:Become part of the the La Dolce Vita performing community! Join us for an open mic. on the first and third Saturday of the month between 7:00 and 10:00 PM. Bring your instrument\, voice\, your poetry or comedy routine (keep it clean) and we’ll provide the PA\, a very welcoming and supportive audience and of course\, great coffee\, teas\, pastries and sandwiches. Signup at 6:00 PM. Don’t play? Bring your friends and hang out. We can promise great music\, great food and a great time
URL:https://ldvcoffeeshop.com/event/open-mic-88/
CATEGORIES:Open Mic
END:VEVENT
BEGIN:VEVENT
DTSTART;TZID=America/Denver:20260315T100000
DTEND;TZID=America/Denver:20260315T130000
DTSTAMP:20260425T075341
CREATED:20251204T025349Z
LAST-MODIFIED:20251204T025349Z
UID:8162-1773568800-1773579600@ldvcoffeeshop.com
SUMMARY:Soda Blue
DESCRIPTION:Soda Blue is a dynamic duet comprised of partners Alice Frish and David Fermanich. Friends for over 30 years\, Alice and Dave share a chemistry that comes across well on stage. Technically a ‘cover’ musical act with a focus on high energy pop and smokey R&B\, their joking and overall sense of fun turns their show into something more than just music.
URL:https://ldvcoffeeshop.com/event/soda-blue-68/
CATEGORIES:Music
END:VEVENT
BEGIN:VEVENT
DTSTART;TZID=America/Denver:20260314T190000
DTEND;TZID=America/Denver:20260314T220000
DTSTAMP:20260425T075341
CREATED:20251204T032247Z
LAST-MODIFIED:20260121T200215Z
UID:8184-1773514800-1773525600@ldvcoffeeshop.com
SUMMARY:Grux
DESCRIPTION:providing the premiere acoustic Dave Matthews experience from the full catalog of Dave Matthews Band tunes.
URL:https://ldvcoffeeshop.com/event/why-not-2/
CATEGORIES:Music
END:VEVENT
BEGIN:VEVENT
DTSTART;TZID=America/Denver:20260314T110000
DTEND;TZID=America/Denver:20260314T130000
DTSTAMP:20260425T075341
CREATED:20251204T040239Z
LAST-MODIFIED:20251204T040239Z
UID:8194-1773486000-1773493200@ldvcoffeeshop.com
SUMMARY:Death Cafe
DESCRIPTION:Death Cafe creates a safe space for people to explore personal thoughts and feelings about mortality\, death\, the dying process\, near death experiences\, the afterlife\, spirits\, or whatever the thoughts of death may be and how we and our culture deals with death.
URL:https://ldvcoffeeshop.com/event/death-cafe-14/
END:VEVENT
BEGIN:VEVENT
DTSTART;TZID=America/Denver:20260308T100000
DTEND;TZID=America/Denver:20260308T130000
DTSTAMP:20260425T075341
CREATED:20251203T231353Z
LAST-MODIFIED:20251203T231353Z
UID:8150-1772964000-1772974800@ldvcoffeeshop.com
SUMMARY:Cellist Monica Sales-Council
DESCRIPTION:Cellist Monica Sales-Council
URL:https://ldvcoffeeshop.com/event/cellist-monica-sales-council-43/
CATEGORIES:Music
END:VEVENT
BEGIN:VEVENT
DTSTART;TZID=America/Denver:20260307T190000
DTEND;TZID=America/Denver:20260307T220000
DTSTAMP:20260425T075341
CREATED:20251203T224640Z
LAST-MODIFIED:20251203T224939Z
UID:8118-1772910000-1772920800@ldvcoffeeshop.com
SUMMARY:Open Mic
DESCRIPTION:Become part of the the La Dolce Vita performing community! Join us for an open mic. on the first and third Saturday of the month between 7:00 and 10:00 PM. Bring your instrument\, voice\, your poetry or comedy routine (keep it clean) and we’ll provide the PA\, a very welcoming and supportive audience and of course\, great coffee\, teas\, pastries and sandwiches. Signup at 6:00 PM. Don’t play? Bring your friends and hang out. We can promise great music\, great food and a great time
URL:https://ldvcoffeeshop.com/event/open-mic-87/
CATEGORIES:Open Mic
END:VEVENT
BEGIN:VEVENT
DTSTART;TZID=America/Denver:20260301T100000
DTEND;TZID=America/Denver:20260301T130000
DTSTAMP:20260425T075341
CREATED:20251203T230413Z
LAST-MODIFIED:20251203T230413Z
UID:8138-1772359200-1772370000@ldvcoffeeshop.com
SUMMARY:BlueCana Roberta Holbrook
DESCRIPTION:Roberta Holbrook followed her music dream early with a successful career on the road singing and playing in clubs. She is pleased once again to be focusing on playing music full-time. Together with sweet harmonies\, guitars\, and keyboards. Roberta keeps the audience engaged as she performs a variety of songs that include Americana\, Blues\, Folk\, Classic Rock and more. Roberta agrees that the Denver area has a strong family of welcoming\, generous\, supportive and talented musicians and is grateful for the sense of community she has found here
URL:https://ldvcoffeeshop.com/event/bluecana-roberta-holbrook-17/
CATEGORIES:Music
END:VEVENT
BEGIN:VEVENT
DTSTART;TZID=America/Denver:20260228T190000
DTEND;TZID=America/Denver:20260228T220000
DTSTAMP:20260425T075341
CREATED:20260206T033554Z
LAST-MODIFIED:20260206T033554Z
UID:8218-1772305200-1772316000@ldvcoffeeshop.com
SUMMARY:BlueCana Steve and Roberta
DESCRIPTION:Steve Gilbert and Roberta Holbrook are BlueCana. Our band name is a blending of just two of the music styles we love – Blues and Americana. \nSteve Gilbert has played in several rock bands over the years\, and his real passion for playing the guitar has always been rooted in acoustic music\, primarily Blues\, Folk and Americana. Roberta Holbrook followed her music dream early with a successful career on the road singing and playing in clubs. She is pleased once again to be focusing on playing music full-time. Together with sweet harmonies\, guitars\, and keyboards\, Steve & Roberta (BlueCana) keep the audience engaged as they perform a variety of songs that include Americana\, Blues\, Folk\, Classic Rock and more. Steve and Roberta agree that the Denver area has a strong family of welcoming\, generous\, supportive and talented musicians and they are grateful for the sense of community they have found here.
URL:https://ldvcoffeeshop.com/event/bluecana-steve-and-roberta-2/
CATEGORIES:Music
END:VEVENT
BEGIN:VEVENT
DTSTART;TZID=America/Denver:20260222T100000
DTEND;TZID=America/Denver:20260222T130000
DTSTAMP:20260425T075341
CREATED:20251204T031039Z
LAST-MODIFIED:20251204T031039Z
UID:8174-1771754400-1771765200@ldvcoffeeshop.com
SUMMARY:Be Be
DESCRIPTION:Be Be\, a Colorado song writer / musician\, performs at the Arvada coffee shop La Dolche Vita on the 4th Sunday of each month. Whereas\, she used to play the Banjo with Moses Walker in this time slot\, she now gets to play guitar and sing a myriad of songs she’s written over the past several decades. “I get to play my favorite songs from 10 am till 1 pm\, and when that time is up I still haven’t played all the songs I’ve written.”If you were to take the following songwriters and blend them all together you would get to hear the type of music that Be writes. James Taylor\, Joni Mitchell\, Justin Hayward\, Dolly Parton\, Paul McCartney\, Jessie Colin Young\, Neil Young\, Gordon Lightfoot and many more. These are songs that never have been produced and are for a future generation.Periodically Be also integrates her sets with recordings of Moses and plays Banjo in memory of him. Although an accomplished musician she is also the author of\, The Be Attitudes\, A Woman’s View of The Prophet by Kahlil Gibran and her latest book called The Great Urantia Agreement which highlights an important quote from the URANTIA Book.Be\, a Vietnam Navy Veteran is also a Doctor of Divinity is and an ordained minister through the Church of the Universal Light. She has read the URANTIA Book page by page and cover to cover 10 times and if you know anything about the URANTIA Book you’ll know that is quite an amazing feat.Be Be is the inventor and manufacturer of the Suspendulum®\, an Aerial Dance Tripod which affords aerial dancers all over the world to perform their silk dancing while hanging from the Suspendulum®. The rig is in over 22 countries.Please come out to enjoy some very beautiful and meaningful songs as well as musical poetry which stimulate the imagination
URL:https://ldvcoffeeshop.com/event/be-be-25/
CATEGORIES:Music
END:VEVENT
BEGIN:VEVENT
DTSTART;TZID=America/Denver:20260221T190000
DTEND;TZID=America/Denver:20260221T220000
DTSTAMP:20260425T075341
CREATED:20251203T222747Z
LAST-MODIFIED:20251203T222747Z
UID:8116-1771700400-1771711200@ldvcoffeeshop.com
SUMMARY:Open Mic
DESCRIPTION:Become part of the the La Dolce Vita performing community! Join us for an open mic. on the first and third Saturday of the month between 7:00 and 10:00 PM. Bring your instrument\, voice\, your poetry or comedy routine (keep it clean) and we’ll provide the PA\, a very welcoming and supportive audience and of course\, great coffee\, teas\, pastries and sandwiches. Signup at 6:00 PM. Don’t play? Bring your friends and hang out. We can promise great music\, great food and a great time
URL:https://ldvcoffeeshop.com/event/open-mic-86/
CATEGORIES:Open Mic
END:VEVENT
BEGIN:VEVENT
DTSTART;TZID=America/Denver:20260215T100000
DTEND;TZID=America/Denver:20260215T130000
DTSTAMP:20260425T075342
CREATED:20251204T025219Z
LAST-MODIFIED:20251204T025219Z
UID:8160-1771149600-1771160400@ldvcoffeeshop.com
SUMMARY:Soda Blue
DESCRIPTION:Soda Blue is a dynamic duet comprised of partners Alice Frish and David Fermanich. Friends for over 30 years\, Alice and Dave share a chemistry that comes across well on stage. Technically a ‘cover’ musical act with a focus on high energy pop and smokey R&B\, their joking and overall sense of fun turns their show into something more than just music.
URL:https://ldvcoffeeshop.com/event/soda-blue-67/
CATEGORIES:Music
END:VEVENT
BEGIN:VEVENT
DTSTART;TZID=America/Denver:20260214T190000
DTEND;TZID=America/Denver:20260214T220000
DTSTAMP:20260425T075342
CREATED:20260121T195221Z
LAST-MODIFIED:20260121T195221Z
UID:8211-1771095600-1771106400@ldvcoffeeshop.com
SUMMARY:A Soda Blue Valentine
DESCRIPTION:Have plans for Valentine’s Day? Have we got a show for you! Soda Blue will be playing at La Dolce Vita Coffee Shop for a special nighttime Valentine’s Day show. Bring your Valentine\, or just yourself\, we have music for everyone\, to Olde Town Arvada and enjoy A Soda Blue Valentine featuring love songs\, breakup songs\, and everything in between. We’ve been working on a bunch of new songs for this show and can’t wait to play them all for you! Make plans now to join us for this special show.
URL:https://ldvcoffeeshop.com/event/a-soda-blue-valentine/
CATEGORIES:Music
END:VEVENT
BEGIN:VEVENT
DTSTART;TZID=America/Denver:20260214T110000
DTEND;TZID=America/Denver:20260214T130000
DTSTAMP:20260425T075342
CREATED:20251204T040109Z
LAST-MODIFIED:20251204T040109Z
UID:8192-1771066800-1771074000@ldvcoffeeshop.com
SUMMARY:Death Cafe
DESCRIPTION:Death Cafe creates a safe space for people to explore personal thoughts and feelings about mortality\, death\, the dying process\, near death experiences\, the afterlife\, spirits\, or whatever the thoughts of death may be and how we and our culture deals with death.
URL:https://ldvcoffeeshop.com/event/death-cafe-13/
END:VEVENT
BEGIN:VEVENT
DTSTART;TZID=America/Denver:20260208T100000
DTEND;TZID=America/Denver:20260208T130000
DTSTAMP:20260425T075342
CREATED:20251203T231232Z
LAST-MODIFIED:20251203T231232Z
UID:8148-1770544800-1770555600@ldvcoffeeshop.com
SUMMARY:Cellist Monica Sales-Council
DESCRIPTION:Cellist Monica Sales-Council
URL:https://ldvcoffeeshop.com/event/cellist-monica-sales-council-42/
CATEGORIES:Music
END:VEVENT
END:VCALENDAR