BEGIN:VCALENDAR
VERSION:2.0
PRODID:-//La Dolce Vita - ECPv6.13.2.1//NONSGML v1.0//EN
CALSCALE:GREGORIAN
METHOD:PUBLISH
X-WR-CALNAME:La Dolce Vita
X-ORIGINAL-URL:https://ldvcoffeeshop.com
X-WR-CALDESC:Events for La Dolce Vita
REFRESH-INTERVAL;VALUE=DURATION:PT1H
X-Robots-Tag:noindex
X-PUBLISHED-TTL:PT1H
BEGIN:VTIMEZONE
TZID:America/Denver
BEGIN:DAYLIGHT
TZOFFSETFROM:-0700
TZOFFSETTO:-0600
TZNAME:MDT
DTSTART:20240310T090000
END:DAYLIGHT
BEGIN:STANDARD
TZOFFSETFROM:-0600
TZOFFSETTO:-0700
TZNAME:MST
DTSTART:20241103T080000
END:STANDARD
BEGIN:DAYLIGHT
TZOFFSETFROM:-0700
TZOFFSETTO:-0600
TZNAME:MDT
DTSTART:20250309T090000
END:DAYLIGHT
BEGIN:STANDARD
TZOFFSETFROM:-0600
TZOFFSETTO:-0700
TZNAME:MST
DTSTART:20251102T080000
END:STANDARD
END:VTIMEZONE
BEGIN:VEVENT
DTSTART;TZID=America/Denver:20250105T100000
DTEND;TZID=America/Denver:20250105T130000
DTSTAMP:20260425T153712
CREATED:20241220T014514Z
LAST-MODIFIED:20241220T014514Z
UID:7820-1736071200-1736082000@ldvcoffeeshop.com
SUMMARY:BlueCana Roberta Holbrook
DESCRIPTION:Roberta Holbrook followed her music dream early with a successful career on the road singing and playing in clubs. She is pleased once again to be focusing on playing music full-time. Together with sweet harmonies\, guitars\, and keyboards. Roberta keeps the audience engaged as she performs a variety of songs that include Americana\, Blues\, Folk\, Classic Rock and more. Roberta agrees that the Denver area has a strong family of welcoming\, generous\, supportive and talented musicians and is grateful for the sense of community she has found here.
URL:https://ldvcoffeeshop.com/event/bluecana-roberta-holbrook-3/
CATEGORIES:Music
END:VEVENT
BEGIN:VEVENT
DTSTART;TZID=America/Denver:20250104T190000
DTEND;TZID=America/Denver:20250104T220000
DTSTAMP:20260425T153712
CREATED:20241220T013150Z
LAST-MODIFIED:20241220T013150Z
UID:7814-1736017200-1736028000@ldvcoffeeshop.com
SUMMARY:Open Mic
DESCRIPTION:Become part of the the La Dolce Vita performing community! Join us for an open mic. on the first and third Saturday of the month between 7:00 and 10:00 PM. Bring your instrument\, voice\, your poetry or comedy routine (keep it clean) and we’ll provide the PA\, a very welcoming and supportive audience and of course\, great coffee\, teas\, pastries and sandwiches.  Signup at 6:00 PM. If you have a mic please bring that. Don’t play? Bring your friends and hang out. We can promise great music\, great food and a great time
URL:https://ldvcoffeeshop.com/event/open-mic-60/
CATEGORIES:Open Mic
END:VEVENT
BEGIN:VEVENT
DTSTART;TZID=America/Denver:20241229T100000
DTEND;TZID=America/Denver:20241229T130000
DTSTAMP:20260425T153712
CREATED:20241122T035013Z
LAST-MODIFIED:20241122T035013Z
UID:7806-1735466400-1735477200@ldvcoffeeshop.com
SUMMARY:Spirit Ridge
DESCRIPTION:SPIRIT RIDGE is: JJ and MIKEY. Melodic songs. Strong vocal harmonies. Rhythmic interplay. Unique. Enjoyable. Memorable. And darn cute\, too!
URL:https://ldvcoffeeshop.com/event/spirit-ridge-10/
CATEGORIES:Music
END:VEVENT
BEGIN:VEVENT
DTSTART;TZID=America/Denver:20241228T070000
DTEND;TZID=America/Denver:20241228T220000
DTSTAMP:20260425T153712
CREATED:20241220T012339Z
LAST-MODIFIED:20241220T012339Z
UID:7812-1735369200-1735423200@ldvcoffeeshop.com
SUMMARY:Ted Ciszek
DESCRIPTION:Ted Ciszek retired in 2003 from the National Renewable Energy laboratory where he was Principal Scientist and a physicist since its inception in 1978. Music has been a major sideline interest for him going back to the 1960’s. He has performed as a guitarist/vocalist at a number of venues in the foothills around Evergreen\, both solo and in several groups. His unique vocal and guitar repertoire is an eclectic mix of your favorite songs from classic rock\, pop\, old favorites\, folk\, country as well as originals. A partial play list and some sound clips can be found on the music page of\nhttp://ted-ciszek.com/
URL:https://ldvcoffeeshop.com/event/ted-ciszek-7/
CATEGORIES:Music
END:VEVENT
BEGIN:VEVENT
DTSTART;TZID=America/Denver:20241222T100000
DTEND;TZID=America/Denver:20241222T130000
DTSTAMP:20260425T153712
CREATED:20240529T215642Z
LAST-MODIFIED:20240529T215642Z
UID:7776-1734861600-1734872400@ldvcoffeeshop.com
SUMMARY:Be Be
DESCRIPTION:Be Be\, a Colorado song writer / musician\, performs at the Arvada coffee shop La Dolche Vita on the 4th Sunday of each month. Whereas\, she used to play the Banjo with Moses Walker in this time slot\, she now gets to play guitar and sing a myriad of songs she’s written over the past several decades. “I get to play my favorite songs from 10 am till 1 pm\, and when that time is up I still haven’t played all the songs I’ve written.” \nIf you were to take the following songwriters and blend them all together you would get to hear the type of music that Be writes. James Taylor\, Joni Mitchell\, Justin Hayward\, Dolly Parton\, Paul McCartney\, Jessie Colin Young\, Neil Young\, Gordon Lightfoot and many more. These are songs that never have been produced and are for a future generation. \nPeriodically Be also integrates her sets with recordings of Moses and plays Banjo in memory of him. Although an accomplished musician she is also the author of\, The Be Attitudes\, A Woman’s View of The Prophet by Kahlil Gibran and her latest book called The Great Urantia Agreement which highlights an important quote from the URANTIA Book. \nBe\, a Vietnam Navy Veteran is also a Doctor of Divinity is and an ordained minister through the Church of the Universal Light. She has read the URANTIA Book page by page and cover to cover 10 times and if you know anything about the URANTIA Book you’ll know that is quite an amazing feat. \nBe Be is the inventor and manufacturer of the Suspendulum®\, an Aerial Dance Tripod which affords aerial dancers all over the world to perform their silk dancing while hanging from the Suspendulum®. The rig is in over 22 countries. \nPlease come out to enjoy some very beautiful and meaningful songs as well as musical poetry which stimulate the imagination.
URL:https://ldvcoffeeshop.com/event/be-be-11/
CATEGORIES:Music
END:VEVENT
BEGIN:VEVENT
DTSTART;TZID=America/Denver:20241221T190000
DTEND;TZID=America/Denver:20241221T190000
DTSTAMP:20260425T153712
CREATED:20240529T205232Z
LAST-MODIFIED:20240529T205232Z
UID:7736-1734807600-1734807600@ldvcoffeeshop.com
SUMMARY:Open Mic
DESCRIPTION:Become part of the the La Dolce Vita performing community! Join us for an open mic. on the first and third Saturday of the month between 7:00 and 10:00 PM. Bring your instrument\, voice\, your poetry or comedy routine (keep it clean) and we’ll provide the PA\, a very welcoming and supportive audience and of course\, great coffee\, teas\, pastries and sandwiches. This is a also great way to audition for future bookings. Signup at 6:00 PM. If you have a mic please bring that.\nDon’t play? Bring your friends and hang out. We can promise great music\, great food and a great time
URL:https://ldvcoffeeshop.com/event/open-mic-59/
CATEGORIES:Open Mic
END:VEVENT
BEGIN:VEVENT
DTSTART;TZID=America/Denver:20241215T100000
DTEND;TZID=America/Denver:20241215T130000
DTSTAMP:20260425T153712
CREATED:20240529T213451Z
LAST-MODIFIED:20240529T213451Z
UID:7766-1734256800-1734267600@ldvcoffeeshop.com
SUMMARY:Soda Blue
DESCRIPTION:Soda Blue is a dynamic duet comprised of partners Alice Frish and David Fermanich. Friends for over 30 years\, Alice and Dave share a chemistry that comes across well on stage. Technically a ‘cover’ musical act with a focus on high energy pop and smokey R&B\, their joking and overall sense of fun turns their show into something more than just music.
URL:https://ldvcoffeeshop.com/event/soda-blue-51/
CATEGORIES:Music
END:VEVENT
BEGIN:VEVENT
DTSTART;TZID=America/Denver:20241214T190000
DTEND;TZID=America/Denver:20241214T220000
DTSTAMP:20260425T153712
CREATED:20240529T221521Z
LAST-MODIFIED:20240529T221521Z
UID:7782-1734202800-1734213600@ldvcoffeeshop.com
SUMMARY:Patty Jackson
DESCRIPTION:Patty Jackson’s angelic voice\, her stunning finger style guitar licks\, the sweet sound of her ukulele\, and the funked-up chords of her minty green baritone guitar. Patty’s musical style is a unique fusion of folk\, rock\, and country with a touch of jazz. Born in central New York\, Patty was given some Joan Baez tickets when she was 15 years old\, and that changed the trajectory of her life. She was bitten by the music bug and over the years she formed several bands\, cutting her teeth on bar gigs. She soon started playing the college circuit\, folk clubs\, and coffeehouses in New England and New York with her band\, Wildfire. In addition to performing around town\, the band also played for Hillary Clinton during her run for senator from New York. In 2004\, Patty moved to Colorado and joined Resonance\, The Women’s Chorus of Boulder. There she met bandmates who formed the group\,
URL:https://ldvcoffeeshop.com/event/patty-jackson-15/
CATEGORIES:Music
END:VEVENT
BEGIN:VEVENT
DTSTART;TZID=America/Denver:20241214T110000
DTEND;TZID=America/Denver:20241214T130000
DTSTAMP:20260425T153712
CREATED:20241122T034319Z
LAST-MODIFIED:20241122T034319Z
UID:7804-1734174000-1734181200@ldvcoffeeshop.com
SUMMARY:Death Cafe
DESCRIPTION:Death Cafe creates a safe space for people to explore personal thoughts and feelings about mortality\, death\, the dying process\, near death experiences\, the afterlife\, spirits\, or whatever the thoughts of death may be and how we and our culture deals with death.
URL:https://ldvcoffeeshop.com/event/death-cafe-2/
END:VEVENT
BEGIN:VEVENT
DTSTART;TZID=America/Denver:20241208T100000
DTEND;TZID=America/Denver:20241208T130000
DTSTAMP:20260425T153712
CREATED:20240529T210759Z
LAST-MODIFIED:20240529T210759Z
UID:7756-1733652000-1733662800@ldvcoffeeshop.com
SUMMARY:Cellist Monica Sales Council
DESCRIPTION:
URL:https://ldvcoffeeshop.com/event/cellist-monica-sales-council-28/
CATEGORIES:Music
END:VEVENT
BEGIN:VEVENT
DTSTART;TZID=America/Denver:20241207T190000
DTEND;TZID=America/Denver:20241207T220000
DTSTAMP:20260425T153712
CREATED:20240529T205125Z
LAST-MODIFIED:20240529T205125Z
UID:7734-1733598000-1733608800@ldvcoffeeshop.com
SUMMARY:Open Mic
DESCRIPTION:Become part of the the La Dolce Vita performing community! Join us for an open mic. on the first and third Saturday of the month between 7:00 and 10:00 PM. Bring your instrument\, voice\, your poetry or comedy routine (keep it clean) and we’ll provide the PA\, a very welcoming and supportive audience and of course\, great coffee\, teas\, pastries and sandwiches. This is a also great way to audition for future bookings. Signup at 6:00 PM. If you have a mic please bring that.\nDon’t play? Bring your friends and hang out. We can promise great music\, great food and a great time
URL:https://ldvcoffeeshop.com/event/open-mic-58/
CATEGORIES:Open Mic
END:VEVENT
BEGIN:VEVENT
DTSTART;TZID=America/Denver:20241201T100000
DTEND;TZID=America/Denver:20241201T130000
DTSTAMP:20260425T153712
CREATED:20240529T210220Z
LAST-MODIFIED:20240529T210220Z
UID:7746-1733047200-1733058000@ldvcoffeeshop.com
SUMMARY:Blue Cana Roberta Holbrook
DESCRIPTION:Roberta Holbrook followed her music dream early with a successful career on the road singing and playing in clubs. She is pleased once again to be focusing on playing music full-time. Together with sweet harmonies\, guitars\, and keyboards. Roberta keeps the audience engaged as she performs a variety of songs that include Americana\, Blues\, Folk\, Classic Rock and more. Roberta agrees that the Denver area has a strong family of welcoming\, generous\, supportive and talented musicians and is grateful for the sense of community she has found here.
URL:https://ldvcoffeeshop.com/event/blue-cana-roberta-holbrook-5/
CATEGORIES:Music
END:VEVENT
BEGIN:VEVENT
DTSTART;TZID=America/Denver:20241130T090000
DTEND;TZID=America/Denver:20241130T130000
DTSTAMP:20260425T153712
CREATED:20241122T033511Z
LAST-MODIFIED:20241122T033511Z
UID:7802-1732957200-1732971600@ldvcoffeeshop.com
SUMMARY:Book Signing
DESCRIPTION:Flying creepy crawlies are everywhere\nCreeping on the ground and flying in the air.\nDiscover some of the good they do\,\nAnd how Samara\, You\, and Breeze can help them\, too!\nSamara and the Flying Creepy Crawlies is the third book in the Samara series.\nBooks are for children early preschool through age 7.\nPaperback $12.95 Hardcover $19.95 \nLike La Dolce Vita Coffee Shop\, Aurilla Woodburn is an Arvada local and grew up in Arvada having attended Arvada schools from Lawrence Elementary to Arvada High School.\nAurilla Woodburn is a retired early childhood teacher and grandmother to an energetic 7-year-old. Aurilla believes reading opens the door to a larger world and that music\, movement\, and being outdoors enhances the love of reading. Her family\, gardening\, and travelling are some of her greatest loves.\nSamara and the Flying Creepy Crawlies is the third book in the Samara series.\nIn poetic\, lighthearted verse\, the author shows the importance of pollinators to our everyday lives.
URL:https://ldvcoffeeshop.com/event/book-signing/
END:VEVENT
BEGIN:VEVENT
DTSTART;TZID=America/Denver:20241124T100000
DTEND;TZID=America/Denver:20241124T130000
DTSTAMP:20260425T153712
CREATED:20240529T215529Z
LAST-MODIFIED:20240529T215529Z
UID:7774-1732442400-1732453200@ldvcoffeeshop.com
SUMMARY:Be Be
DESCRIPTION:Be Be\, a Colorado song writer / musician\, performs at the Arvada coffee shop La Dolche Vita on the 4th Sunday of each month. Whereas\, she used to play the Banjo with Moses Walker in this time slot\, she now gets to play guitar and sing a myriad of songs she’s written over the past several decades. “I get to play my favorite songs from 10 am till 1 pm\, and when that time is up I still haven’t played all the songs I’ve written.” \nIf you were to take the following songwriters and blend them all together you would get to hear the type of music that Be writes. James Taylor\, Joni Mitchell\, Justin Hayward\, Dolly Parton\, Paul McCartney\, Jessie Colin Young\, Neil Young\, Gordon Lightfoot and many more. These are songs that never have been produced and are for a future generation. \nPeriodically Be also integrates her sets with recordings of Moses and plays Banjo in memory of him. Although an accomplished musician she is also the author of\, The Be Attitudes\, A Woman’s View of The Prophet by Kahlil Gibran and her latest book called The Great Urantia Agreement which highlights an important quote from the URANTIA Book. \nBe\, a Vietnam Navy Veteran is also a Doctor of Divinity is and an ordained minister through the Church of the Universal Light. She has read the URANTIA Book page by page and cover to cover 10 times and if you know anything about the URANTIA Book you’ll know that is quite an amazing feat. \nBe Be is the inventor and manufacturer of the Suspendulum®\, an Aerial Dance Tripod which affords aerial dancers all over the world to perform their silk dancing while hanging from the Suspendulum®. The rig is in over 22 countries. \nPlease come out to enjoy some very beautiful and meaningful songs as well as musical poetry which stimulate the imagination.
URL:https://ldvcoffeeshop.com/event/be-be-10/
CATEGORIES:Music
END:VEVENT
BEGIN:VEVENT
DTSTART;TZID=America/Denver:20241123T190000
DTEND;TZID=America/Denver:20241123T220000
DTSTAMP:20260425T153712
CREATED:20240717T233330Z
LAST-MODIFIED:20240717T233330Z
UID:7789-1732388400-1732399200@ldvcoffeeshop.com
SUMMARY:Robert Marcson and Jason Kent
DESCRIPTION:Robert Marcson is a writer who crafts richly detailed emotional songs full of insight and poignancy in a style infused with jazz\, folk and rock elements. During his shows he performs songs with guitar and piano but also includes violin improvisation through looping. He has four albums to his credit. One of his songs was selected out of 18\,000 entries to become a semi-finalist in the 2019 International Song Competition. This show will feature Jason Kent\, also a singer-writer. They will present their own material both separately and together.
URL:https://ldvcoffeeshop.com/event/robert-marcson-and-jason-kent/
END:VEVENT
BEGIN:VEVENT
DTSTART;TZID=America/Denver:20241117T100000
DTEND;TZID=America/Denver:20241117T130000
DTSTAMP:20260425T153712
CREATED:20240529T213331Z
LAST-MODIFIED:20240529T213331Z
UID:7764-1731837600-1731848400@ldvcoffeeshop.com
SUMMARY:Soda Blue
DESCRIPTION:Soda Blue is a dynamic duet comprised of partners Alice Frish and David Fermanich. Friends for over 30 years\, Alice and Dave share a chemistry that comes across well on stage. Technically a ‘cover’ musical act with a focus on high energy pop and smokey R&B\, their joking and overall sense of fun turns their show into something more than just music.
URL:https://ldvcoffeeshop.com/event/soda-blue-50/
CATEGORIES:Music
END:VEVENT
BEGIN:VEVENT
DTSTART;TZID=America/Denver:20241116T190000
DTEND;TZID=America/Denver:20241116T220000
DTSTAMP:20260425T153712
CREATED:20240529T205008Z
LAST-MODIFIED:20240529T205008Z
UID:7732-1731783600-1731794400@ldvcoffeeshop.com
SUMMARY:Open Mic
DESCRIPTION:Become part of the the La Dolce Vita performing community! Join us for an open mic. on the first and third Saturday of the month between 7:00 and 10:00 PM. Bring your instrument\, voice\, your poetry or comedy routine (keep it clean) and we’ll provide the PA\, a very welcoming and supportive audience and of course\, great coffee\, teas\, pastries and sandwiches. This is a also great way to audition for future bookings. Signup at 6:00 PM. If you have a mic please bring that.\nDon’t play? Bring your friends and hang out. We can promise great music\, great food and a great time
URL:https://ldvcoffeeshop.com/event/open-mic-57/
CATEGORIES:Open Mic
END:VEVENT
BEGIN:VEVENT
DTSTART;TZID=America/Denver:20241116T110000
DTEND;TZID=America/Denver:20241116T130000
DTSTAMP:20260425T153712
CREATED:20241104T024034Z
LAST-MODIFIED:20241104T024034Z
UID:7799-1731754800-1731762000@ldvcoffeeshop.com
SUMMARY:Death Cafe
DESCRIPTION:Death Cafe creates a safe space for people to explore personal thoughts and feelings about mortality\, death\, the dying process\, near death experiences\, the afterlife\, spirits\, or whatever the thoughts of death may be and how we and our culture deals with death.
URL:https://ldvcoffeeshop.com/event/death-cafe/
END:VEVENT
BEGIN:VEVENT
DTSTART;TZID=America/Denver:20241110T100000
DTEND;TZID=America/Denver:20241110T130000
DTSTAMP:20260425T153712
CREATED:20240529T210654Z
LAST-MODIFIED:20240529T210654Z
UID:7754-1731232800-1731243600@ldvcoffeeshop.com
SUMMARY:Cellist Monica Sales Council
DESCRIPTION:
URL:https://ldvcoffeeshop.com/event/cellist-monica-sales-council-27/
CATEGORIES:Music
END:VEVENT
BEGIN:VEVENT
DTSTART;TZID=America/Denver:20241109T190000
DTEND;TZID=America/Denver:20241109T220000
DTSTAMP:20260425T153712
CREATED:20241101T012558Z
LAST-MODIFIED:20241101T012558Z
UID:7797-1731178800-1731189600@ldvcoffeeshop.com
SUMMARY:Bakin Bits
DESCRIPTION:Bakin Bits is an indie pop-n-rock band based out of Denver and Boulder\, CO\, featuring Andrew Baker on vocals and guitar with Joel Shumake on drums. Started in April 2022 as a solo project under Baker\, the project grew to include Shumake in January 2024. They bring a high energy to all of their shows with their playstyle and original tunes\, showcasing a love of the indie genre and emulating the high energy aura of the bands that influence their style of sound. Their songwriting is grounded in accessibility\, taking you through easy-to-follow journeys against the back beat of pop-rock progressions. \nInspirations for the band\, which serve as recommended artists as well\, include: Big Thief\, Christian Lee Hutson\, Cloud Nothings\, Death Cab for Cutie\, Futurebirds\, Hovvdy\, Kishi Bashi\, Led Zeppelin\, Phoebe Bridgers\, Slow Pulp\, The Doors\, The Guess Who\, The Nude Party\, The Shins\, and Waxahatchee.
URL:https://ldvcoffeeshop.com/event/bakin-bits/
CATEGORIES:Music
END:VEVENT
BEGIN:VEVENT
DTSTART;TZID=America/Denver:20241103T100000
DTEND;TZID=America/Denver:20241103T130000
DTSTAMP:20260425T153712
CREATED:20240529T210048Z
LAST-MODIFIED:20240529T210048Z
UID:7744-1730628000-1730638800@ldvcoffeeshop.com
SUMMARY:Blue Cana Roberta Holbrook
DESCRIPTION:Roberta Holbrook followed her music dream early with a successful career on the road singing and playing in clubs. She is pleased once again to be focusing on playing music full-time. Together with sweet harmonies\, guitars\, and keyboards. Roberta keeps the audience engaged as she performs a variety of songs that include Americana\, Blues\, Folk\, Classic Rock and more. Roberta agrees that the Denver area has a strong family of welcoming\, generous\, supportive and talented musicians and is grateful for the sense of community she has found here.
URL:https://ldvcoffeeshop.com/event/blue-cana-roberta-holbrook-4/
CATEGORIES:Music
END:VEVENT
BEGIN:VEVENT
DTSTART;TZID=America/Denver:20241102T190000
DTEND;TZID=America/Denver:20241102T220000
DTSTAMP:20260425T153712
CREATED:20240529T204845Z
LAST-MODIFIED:20240529T204845Z
UID:7730-1730574000-1730584800@ldvcoffeeshop.com
SUMMARY:Open Mic
DESCRIPTION:Become part of the the La Dolce Vita performing community! Join us for an open mic. on the first and third Saturday of the month between 7:00 and 10:00 PM. Bring your instrument\, voice\, your poetry or comedy routine (keep it clean) and we’ll provide the PA\, a very welcoming and supportive audience and of course\, great coffee\, teas\, pastries and sandwiches. This is a also great way to audition for future bookings. Signup at 6:00 PM. If you have a mic please bring that.\nDon’t play? Bring your friends and hang out. We can promise great music\, great food and a great time
URL:https://ldvcoffeeshop.com/event/open-mic-56/
CATEGORIES:Open Mic
END:VEVENT
BEGIN:VEVENT
DTSTART;TZID=America/Denver:20241027T080000
DTEND;TZID=America/Denver:20241027T170000
DTSTAMP:20260425T153712
CREATED:20240529T215419Z
LAST-MODIFIED:20240529T215419Z
UID:7772-1730016000-1730048400@ldvcoffeeshop.com
SUMMARY:Be Be
DESCRIPTION:Be Be\, a Colorado song writer / musician\, performs at the Arvada coffee shop La Dolche Vita on the 4th Sunday of each month. Whereas\, she used to play the Banjo with Moses Walker in this time slot\, she now gets to play guitar and sing a myriad of songs she’s written over the past several decades. “I get to play my favorite songs from 10 am till 1 pm\, and when that time is up I still haven’t played all the songs I’ve written.” \nIf you were to take the following songwriters and blend them all together you would get to hear the type of music that Be writes. James Taylor\, Joni Mitchell\, Justin Hayward\, Dolly Parton\, Paul McCartney\, Jessie Colin Young\, Neil Young\, Gordon Lightfoot and many more. These are songs that never have been produced and are for a future generation. \nPeriodically Be also integrates her sets with recordings of Moses and plays Banjo in memory of him. Although an accomplished musician she is also the author of\, The Be Attitudes\, A Woman’s View of The Prophet by Kahlil Gibran and her latest book called The Great Urantia Agreement which highlights an important quote from the URANTIA Book. \nBe\, a Vietnam Navy Veteran is also a Doctor of Divinity is and an ordained minister through the Church of the Universal Light. She has read the URANTIA Book page by page and cover to cover 10 times and if you know anything about the URANTIA Book you’ll know that is quite an amazing feat. \nBe Be is the inventor and manufacturer of the Suspendulum®\, an Aerial Dance Tripod which affords aerial dancers all over the world to perform their silk dancing while hanging from the Suspendulum®. The rig is in over 22 countries. \nPlease come out to enjoy some very beautiful and meaningful songs as well as musical poetry which stimulate the imagination.
URL:https://ldvcoffeeshop.com/event/be-be-9/
CATEGORIES:Music
END:VEVENT
BEGIN:VEVENT
DTSTART;TZID=America/Denver:20241026T190000
DTEND;TZID=America/Denver:20241026T220000
DTSTAMP:20260425T153712
CREATED:20240529T222440Z
LAST-MODIFIED:20240529T222440Z
UID:7786-1729969200-1729980000@ldvcoffeeshop.com
SUMMARY:EndsNOdds
DESCRIPTION:If this band were to choose a different name that was equally as fitting\, it would have been It’s Been a Long Time Coming. But that’s too long. The Long Run? Taken. EndsNOdds came together slowly and in an unexpected way which is exactly how they arrange their favorite R&B\, Americana\, Rock\, and Pop covers; with thought and creativity\, adding unexpected elements in each song making them their own.
URL:https://ldvcoffeeshop.com/event/endsnodds-3/
CATEGORIES:Music
END:VEVENT
BEGIN:VEVENT
DTSTART;TZID=America/Denver:20241020T100000
DTEND;TZID=America/Denver:20241020T130000
DTSTAMP:20260425T153712
CREATED:20240529T213154Z
LAST-MODIFIED:20240529T213154Z
UID:7762-1729418400-1729429200@ldvcoffeeshop.com
SUMMARY:Soda Blue
DESCRIPTION:Soda Blue is a dynamic duet comprised of partners Alice Frish and David Fermanich. Friends for over 30 years\, Alice and Dave share a chemistry that comes across well on stage. Technically a ‘cover’ musical act with a focus on high energy pop and smokey R&B\, their joking and overall sense of fun turns their show into something more than just music.
URL:https://ldvcoffeeshop.com/event/soda-blue-49/
CATEGORIES:Music
END:VEVENT
BEGIN:VEVENT
DTSTART;TZID=America/Denver:20241019T190000
DTEND;TZID=America/Denver:20241019T220000
DTSTAMP:20260425T153712
CREATED:20240529T204720Z
LAST-MODIFIED:20240529T204720Z
UID:7728-1729364400-1729375200@ldvcoffeeshop.com
SUMMARY:Open Mic
DESCRIPTION:Become part of the the La Dolce Vita performing community! Join us for an open mic. on the first and third Saturday of the month between 7:00 and 10:00 PM. Bring your instrument\, voice\, your poetry or comedy routine (keep it clean) and we’ll provide the PA\, a very welcoming and supportive audience and of course\, great coffee\, teas\, pastries and sandwiches. This is a also great way to audition for future bookings. Signup at 6:00 PM. If you have a mic please bring that.\nDon’t play? Bring your friends and hang out. We can promise great music\, great food and a great time
URL:https://ldvcoffeeshop.com/event/open-mic-55/
CATEGORIES:Open Mic
END:VEVENT
BEGIN:VEVENT
DTSTART;TZID=America/Denver:20241013T100000
DTEND;TZID=America/Denver:20241013T130000
DTSTAMP:20260425T153712
CREATED:20240529T210521Z
LAST-MODIFIED:20240529T210521Z
UID:7752-1728813600-1728824400@ldvcoffeeshop.com
SUMMARY:Cellist Monica Sales Council
DESCRIPTION:
URL:https://ldvcoffeeshop.com/event/cellist-monica-sales-council-26/
CATEGORIES:Music
END:VEVENT
BEGIN:VEVENT
DTSTART;TZID=America/Denver:20241006T100000
DTEND;TZID=America/Denver:20241006T130000
DTSTAMP:20260425T153712
CREATED:20240529T205931Z
LAST-MODIFIED:20240529T205931Z
UID:7742-1728208800-1728219600@ldvcoffeeshop.com
SUMMARY:Blue Cana Roberta Holbrook
DESCRIPTION:Roberta Holbrook followed her music dream early with a successful career on the road singing and playing in clubs. She is pleased once again to be focusing on playing music full-time. Together with sweet harmonies\, guitars\, and keyboards. Roberta keeps the audience engaged as she performs a variety of songs that include Americana\, Blues\, Folk\, Classic Rock and more. Roberta agrees that the Denver area has a strong family of welcoming\, generous\, supportive and talented musicians and is grateful for the sense of community she has found here.
URL:https://ldvcoffeeshop.com/event/blue-cana-roberta-holbrook-3/
CATEGORIES:Music
END:VEVENT
BEGIN:VEVENT
DTSTART;TZID=America/Denver:20241005T190000
DTEND;TZID=America/Denver:20241005T220000
DTSTAMP:20260425T153712
CREATED:20240529T204557Z
LAST-MODIFIED:20240529T204557Z
UID:7726-1728154800-1728165600@ldvcoffeeshop.com
SUMMARY:Open Mic
DESCRIPTION:Become part of the the La Dolce Vita performing community! Join us for an open mic. on the first and third Saturday of the month between 7:00 and 10:00 PM. Bring your instrument\, voice\, your poetry or comedy routine (keep it clean) and we’ll provide the PA\, a very welcoming and supportive audience and of course\, great coffee\, teas\, pastries and sandwiches. This is a also great way to audition for future bookings. Signup at 6:00 PM. If you have a mic please bring that.\nDon’t play? Bring your friends and hang out. We can promise great music\, great food and a great time
URL:https://ldvcoffeeshop.com/event/open-mic-54/
CATEGORIES:Open Mic
END:VEVENT
BEGIN:VEVENT
DTSTART;TZID=America/Denver:20240929T100000
DTEND;TZID=America/Denver:20240929T130000
DTSTAMP:20260425T153712
CREATED:20240925T033302Z
LAST-MODIFIED:20240925T033302Z
UID:7794-1727604000-1727614800@ldvcoffeeshop.com
SUMMARY:Ted Ciszek
DESCRIPTION:Ted Ciszek retired in 2003 from the National Renewable Energy laboratory where he was Principal Scientist and a physicist since its inception in 1978.  Music has been a major sideline interest for him going back to the 1960’s.  He has performed as a guitarist/vocalist at a number of venues in the foothills around Evergreen\, both solo and in several groups.  His unique vocal and guitar repertoire is an eclectic mix of your favorite songs from classic rock\, pop\, old favorites\, folk\, country as well as originals.  A partial play list and some sound clips can be found on the music page of \nhttp://ted-ciszek.com/ .
URL:https://ldvcoffeeshop.com/event/ted-ciszek-6/
CATEGORIES:Music
END:VEVENT
END:VCALENDAR