BEGIN:VCALENDAR
VERSION:2.0
PRODID:-//La Dolce Vita - ECPv6.13.2.1//NONSGML v1.0//EN
CALSCALE:GREGORIAN
METHOD:PUBLISH
X-WR-CALNAME:La Dolce Vita
X-ORIGINAL-URL:https://ldvcoffeeshop.com
X-WR-CALDESC:Events for La Dolce Vita
REFRESH-INTERVAL;VALUE=DURATION:PT1H
X-Robots-Tag:noindex
X-PUBLISHED-TTL:PT1H
BEGIN:VTIMEZONE
TZID:America/Denver
BEGIN:DAYLIGHT
TZOFFSETFROM:-0700
TZOFFSETTO:-0600
TZNAME:MDT
DTSTART:20250309T090000
END:DAYLIGHT
BEGIN:STANDARD
TZOFFSETFROM:-0600
TZOFFSETTO:-0700
TZNAME:MST
DTSTART:20251102T080000
END:STANDARD
BEGIN:DAYLIGHT
TZOFFSETFROM:-0700
TZOFFSETTO:-0600
TZNAME:MDT
DTSTART:20260308T090000
END:DAYLIGHT
BEGIN:STANDARD
TZOFFSETFROM:-0600
TZOFFSETTO:-0700
TZNAME:MST
DTSTART:20261101T080000
END:STANDARD
END:VTIMEZONE
BEGIN:VEVENT
DTSTART;TZID=America/Denver:20260308T100000
DTEND;TZID=America/Denver:20260308T130000
DTSTAMP:20260425T065853
CREATED:20251203T231353Z
LAST-MODIFIED:20251203T231353Z
UID:8150-1772964000-1772974800@ldvcoffeeshop.com
SUMMARY:Cellist Monica Sales-Council
DESCRIPTION:Cellist Monica Sales-Council
URL:https://ldvcoffeeshop.com/event/cellist-monica-sales-council-43/
CATEGORIES:Music
END:VEVENT
BEGIN:VEVENT
DTSTART;TZID=America/Denver:20260307T190000
DTEND;TZID=America/Denver:20260307T220000
DTSTAMP:20260425T065853
CREATED:20251203T224640Z
LAST-MODIFIED:20251203T224939Z
UID:8118-1772910000-1772920800@ldvcoffeeshop.com
SUMMARY:Open Mic
DESCRIPTION:Become part of the the La Dolce Vita performing community! Join us for an open mic. on the first and third Saturday of the month between 7:00 and 10:00 PM. Bring your instrument\, voice\, your poetry or comedy routine (keep it clean) and we’ll provide the PA\, a very welcoming and supportive audience and of course\, great coffee\, teas\, pastries and sandwiches. Signup at 6:00 PM. Don’t play? Bring your friends and hang out. We can promise great music\, great food and a great time
URL:https://ldvcoffeeshop.com/event/open-mic-87/
CATEGORIES:Open Mic
END:VEVENT
BEGIN:VEVENT
DTSTART;TZID=America/Denver:20260301T100000
DTEND;TZID=America/Denver:20260301T130000
DTSTAMP:20260425T065853
CREATED:20251203T230413Z
LAST-MODIFIED:20251203T230413Z
UID:8138-1772359200-1772370000@ldvcoffeeshop.com
SUMMARY:BlueCana Roberta Holbrook
DESCRIPTION:Roberta Holbrook followed her music dream early with a successful career on the road singing and playing in clubs. She is pleased once again to be focusing on playing music full-time. Together with sweet harmonies\, guitars\, and keyboards. Roberta keeps the audience engaged as she performs a variety of songs that include Americana\, Blues\, Folk\, Classic Rock and more. Roberta agrees that the Denver area has a strong family of welcoming\, generous\, supportive and talented musicians and is grateful for the sense of community she has found here
URL:https://ldvcoffeeshop.com/event/bluecana-roberta-holbrook-17/
CATEGORIES:Music
END:VEVENT
BEGIN:VEVENT
DTSTART;TZID=America/Denver:20260228T190000
DTEND;TZID=America/Denver:20260228T220000
DTSTAMP:20260425T065853
CREATED:20260206T033554Z
LAST-MODIFIED:20260206T033554Z
UID:8218-1772305200-1772316000@ldvcoffeeshop.com
SUMMARY:BlueCana Steve and Roberta
DESCRIPTION:Steve Gilbert and Roberta Holbrook are BlueCana. Our band name is a blending of just two of the music styles we love – Blues and Americana. \nSteve Gilbert has played in several rock bands over the years\, and his real passion for playing the guitar has always been rooted in acoustic music\, primarily Blues\, Folk and Americana. Roberta Holbrook followed her music dream early with a successful career on the road singing and playing in clubs. She is pleased once again to be focusing on playing music full-time. Together with sweet harmonies\, guitars\, and keyboards\, Steve & Roberta (BlueCana) keep the audience engaged as they perform a variety of songs that include Americana\, Blues\, Folk\, Classic Rock and more. Steve and Roberta agree that the Denver area has a strong family of welcoming\, generous\, supportive and talented musicians and they are grateful for the sense of community they have found here.
URL:https://ldvcoffeeshop.com/event/bluecana-steve-and-roberta-2/
CATEGORIES:Music
END:VEVENT
BEGIN:VEVENT
DTSTART;TZID=America/Denver:20260222T100000
DTEND;TZID=America/Denver:20260222T130000
DTSTAMP:20260425T065853
CREATED:20251204T031039Z
LAST-MODIFIED:20251204T031039Z
UID:8174-1771754400-1771765200@ldvcoffeeshop.com
SUMMARY:Be Be
DESCRIPTION:Be Be\, a Colorado song writer / musician\, performs at the Arvada coffee shop La Dolche Vita on the 4th Sunday of each month. Whereas\, she used to play the Banjo with Moses Walker in this time slot\, she now gets to play guitar and sing a myriad of songs she’s written over the past several decades. “I get to play my favorite songs from 10 am till 1 pm\, and when that time is up I still haven’t played all the songs I’ve written.”If you were to take the following songwriters and blend them all together you would get to hear the type of music that Be writes. James Taylor\, Joni Mitchell\, Justin Hayward\, Dolly Parton\, Paul McCartney\, Jessie Colin Young\, Neil Young\, Gordon Lightfoot and many more. These are songs that never have been produced and are for a future generation.Periodically Be also integrates her sets with recordings of Moses and plays Banjo in memory of him. Although an accomplished musician she is also the author of\, The Be Attitudes\, A Woman’s View of The Prophet by Kahlil Gibran and her latest book called The Great Urantia Agreement which highlights an important quote from the URANTIA Book.Be\, a Vietnam Navy Veteran is also a Doctor of Divinity is and an ordained minister through the Church of the Universal Light. She has read the URANTIA Book page by page and cover to cover 10 times and if you know anything about the URANTIA Book you’ll know that is quite an amazing feat.Be Be is the inventor and manufacturer of the Suspendulum®\, an Aerial Dance Tripod which affords aerial dancers all over the world to perform their silk dancing while hanging from the Suspendulum®. The rig is in over 22 countries.Please come out to enjoy some very beautiful and meaningful songs as well as musical poetry which stimulate the imagination
URL:https://ldvcoffeeshop.com/event/be-be-25/
CATEGORIES:Music
END:VEVENT
BEGIN:VEVENT
DTSTART;TZID=America/Denver:20260221T190000
DTEND;TZID=America/Denver:20260221T220000
DTSTAMP:20260425T065853
CREATED:20251203T222747Z
LAST-MODIFIED:20251203T222747Z
UID:8116-1771700400-1771711200@ldvcoffeeshop.com
SUMMARY:Open Mic
DESCRIPTION:Become part of the the La Dolce Vita performing community! Join us for an open mic. on the first and third Saturday of the month between 7:00 and 10:00 PM. Bring your instrument\, voice\, your poetry or comedy routine (keep it clean) and we’ll provide the PA\, a very welcoming and supportive audience and of course\, great coffee\, teas\, pastries and sandwiches. Signup at 6:00 PM. Don’t play? Bring your friends and hang out. We can promise great music\, great food and a great time
URL:https://ldvcoffeeshop.com/event/open-mic-86/
CATEGORIES:Open Mic
END:VEVENT
BEGIN:VEVENT
DTSTART;TZID=America/Denver:20260215T100000
DTEND;TZID=America/Denver:20260215T130000
DTSTAMP:20260425T065853
CREATED:20251204T025219Z
LAST-MODIFIED:20251204T025219Z
UID:8160-1771149600-1771160400@ldvcoffeeshop.com
SUMMARY:Soda Blue
DESCRIPTION:Soda Blue is a dynamic duet comprised of partners Alice Frish and David Fermanich. Friends for over 30 years\, Alice and Dave share a chemistry that comes across well on stage. Technically a ‘cover’ musical act with a focus on high energy pop and smokey R&B\, their joking and overall sense of fun turns their show into something more than just music.
URL:https://ldvcoffeeshop.com/event/soda-blue-67/
CATEGORIES:Music
END:VEVENT
BEGIN:VEVENT
DTSTART;TZID=America/Denver:20260214T190000
DTEND;TZID=America/Denver:20260214T220000
DTSTAMP:20260425T065853
CREATED:20260121T195221Z
LAST-MODIFIED:20260121T195221Z
UID:8211-1771095600-1771106400@ldvcoffeeshop.com
SUMMARY:A Soda Blue Valentine
DESCRIPTION:Have plans for Valentine’s Day? Have we got a show for you! Soda Blue will be playing at La Dolce Vita Coffee Shop for a special nighttime Valentine’s Day show. Bring your Valentine\, or just yourself\, we have music for everyone\, to Olde Town Arvada and enjoy A Soda Blue Valentine featuring love songs\, breakup songs\, and everything in between. We’ve been working on a bunch of new songs for this show and can’t wait to play them all for you! Make plans now to join us for this special show.
URL:https://ldvcoffeeshop.com/event/a-soda-blue-valentine/
CATEGORIES:Music
END:VEVENT
BEGIN:VEVENT
DTSTART;TZID=America/Denver:20260214T110000
DTEND;TZID=America/Denver:20260214T130000
DTSTAMP:20260425T065853
CREATED:20251204T040109Z
LAST-MODIFIED:20251204T040109Z
UID:8192-1771066800-1771074000@ldvcoffeeshop.com
SUMMARY:Death Cafe
DESCRIPTION:Death Cafe creates a safe space for people to explore personal thoughts and feelings about mortality\, death\, the dying process\, near death experiences\, the afterlife\, spirits\, or whatever the thoughts of death may be and how we and our culture deals with death.
URL:https://ldvcoffeeshop.com/event/death-cafe-13/
END:VEVENT
BEGIN:VEVENT
DTSTART;TZID=America/Denver:20260208T100000
DTEND;TZID=America/Denver:20260208T130000
DTSTAMP:20260425T065853
CREATED:20251203T231232Z
LAST-MODIFIED:20251203T231232Z
UID:8148-1770544800-1770555600@ldvcoffeeshop.com
SUMMARY:Cellist Monica Sales-Council
DESCRIPTION:Cellist Monica Sales-Council
URL:https://ldvcoffeeshop.com/event/cellist-monica-sales-council-42/
CATEGORIES:Music
END:VEVENT
BEGIN:VEVENT
DTSTART;TZID=America/Denver:20260207T190000
DTEND;TZID=America/Denver:20260207T220000
DTSTAMP:20260425T065853
CREATED:20251203T222606Z
LAST-MODIFIED:20251203T222606Z
UID:8114-1770490800-1770501600@ldvcoffeeshop.com
SUMMARY:Open Mic
DESCRIPTION:Become part of the the La Dolce Vita performing community! Join us for an open mic. on the first and third Saturday of the month between 7:00 and 10:00 PM. Bring your instrument\, voice\, your poetry or comedy routine (keep it clean) and we’ll provide the PA\, a very welcoming and supportive audience and of course\, great coffee\, teas\, pastries and sandwiches. Signup at 6:00 PM. Don’t play? Bring your friends and hang out. We can promise great music\, great food and a great time
URL:https://ldvcoffeeshop.com/event/open-mic-85/
CATEGORIES:Open Mic
END:VEVENT
BEGIN:VEVENT
DTSTART;TZID=America/Denver:20260206T190000
DTEND;TZID=America/Denver:20260206T210000
DTSTAMP:20260425T065853
CREATED:20260127T230140Z
LAST-MODIFIED:20260127T230140Z
UID:8215-1770404400-1770411600@ldvcoffeeshop.com
SUMMARY:Trash Pandas
DESCRIPTION:“Trash Pandas is an awesome\, student band from Maestro Music Institute\, made up of four boys: Bishop\, Elam\, Ethan\, and Evan. They focus on learning\, listening to each other\, and having fun while they play. With a mix of ages and experience levels\, the band brings different ideas together and keeps things easygoing\, creative\, and enjoyable both in practice and on stage.”
URL:https://ldvcoffeeshop.com/event/trash-pandas/
CATEGORIES:Music
END:VEVENT
BEGIN:VEVENT
DTSTART;TZID=America/Denver:20260201T100000
DTEND;TZID=America/Denver:20260201T130000
DTSTAMP:20260425T065853
CREATED:20251203T230244Z
LAST-MODIFIED:20251203T230244Z
UID:8136-1769940000-1769950800@ldvcoffeeshop.com
SUMMARY:BlueCana Roberta Holbrook
DESCRIPTION:Roberta Holbrook followed her music dream early with a successful career on the road singing and playing in clubs. She is pleased once again to be focusing on playing music full-time. Together with sweet harmonies\, guitars\, and keyboards. Roberta keeps the audience engaged as she performs a variety of songs that include Americana\, Blues\, Folk\, Classic Rock and more. Roberta agrees that the Denver area has a strong family of welcoming\, generous\, supportive and talented musicians and is grateful for the sense of community she has found here
URL:https://ldvcoffeeshop.com/event/bluecana-roberta-holbrook-16/
CATEGORIES:Music
END:VEVENT
BEGIN:VEVENT
DTSTART;TZID=America/Denver:20260131T190000
DTEND;TZID=America/Denver:20260131T220000
DTSTAMP:20260425T065853
CREATED:20251204T034512Z
LAST-MODIFIED:20260113T205332Z
UID:8188-1769886000-1769896800@ldvcoffeeshop.com
SUMMARY:James Ford
DESCRIPTION:James Ford is a genre-fluid vocalist\, guitarist\, and producer whose sound lives at the crossroads of soul\, hip-hop\, R&B\, rock\, and blues. With over a decade of live performance experience\, Ford has built a reputation for delivering emotionally grounded performances that move seamlessly between eras and styles—often within the same set. \nRooted in live musicianship and storytelling\, his performances blend acoustic soul with hip-hop phrasing\, modern R&B textures\, and raw rock energy. Whether reimagining Top 40 hits or performing original material\, Ford’s approach is less about imitation and more about interpretation—making each song feel personal\, present\, and alive. \nFord has performed thousands of shows across bars\, private events\, weddings\, and high-profile stages\, including VIP pre-show performances opening for major national acts. His work has been featured on billboards\, television\, and in print\, reflecting both his professionalism and adaptability as a performer. \nAs a songwriter and producer\, Ford is currently developing a deeply personal concept album that explores morality\, freedom\, identity\, and consequence—drawing from real-world experience and a wide range of musical influences. His studio work mirrors his live ethos: dynamic\, emotionally honest\, and rooted in feel over formula. \nWhether onstage or in the studio\, James Ford brings intention\, range\, and authenticity—creating music that resonates beyond genre and connects on a human level
URL:https://ldvcoffeeshop.com/event/ends-nodds-2/
CATEGORIES:Music
END:VEVENT
BEGIN:VEVENT
DTSTART;TZID=America/Denver:20260125T100000
DTEND;TZID=America/Denver:20260125T130000
DTSTAMP:20260425T065853
CREATED:20251204T030741Z
LAST-MODIFIED:20251204T030741Z
UID:8171-1769335200-1769346000@ldvcoffeeshop.com
SUMMARY:Be Be
DESCRIPTION:Be Be\, a Colorado song writer / musician\, performs at the Arvada coffee shop La Dolche Vita on the 4th Sunday of each month. Whereas\, she used to play the Banjo with Moses Walker in this time slot\, she now gets to play guitar and sing a myriad of songs she’s written over the past several decades. “I get to play my favorite songs from 10 am till 1 pm\, and when that time is up I still haven’t played all the songs I’ve written.”If you were to take the following songwriters and blend them all together you would get to hear the type of music that Be writes. James Taylor\, Joni Mitchell\, Justin Hayward\, Dolly Parton\, Paul McCartney\, Jessie Colin Young\, Neil Young\, Gordon Lightfoot and many more. These are songs that never have been produced and are for a future generation.Periodically Be also integrates her sets with recordings of Moses and plays Banjo in memory of him. Although an accomplished musician she is also the author of\, The Be Attitudes\, A Woman’s View of The Prophet by Kahlil Gibran and her latest book called The Great Urantia Agreement which highlights an important quote from the URANTIA Book.Be\, a Vietnam Navy Veteran is also a Doctor of Divinity is and an ordained minister through the Church of the Universal Light. She has read the URANTIA Book page by page and cover to cover 10 times and if you know anything about the URANTIA Book you’ll know that is quite an amazing feat.Be Be is the inventor and manufacturer of the Suspendulum®\, an Aerial Dance Tripod which affords aerial dancers all over the world to perform their silk dancing while hanging from the Suspendulum®. The rig is in over 22 countries.Please come out to enjoy some very beautiful and meaningful songs as well as musical poetry which stimulate the imagination
URL:https://ldvcoffeeshop.com/event/be-be-24/
CATEGORIES:Music
END:VEVENT
BEGIN:VEVENT
DTSTART;TZID=America/Denver:20260124T190000
DTEND;TZID=America/Denver:20260124T220000
DTSTAMP:20260425T065853
CREATED:20260113T205612Z
LAST-MODIFIED:20260113T205612Z
UID:8204-1769281200-1769292000@ldvcoffeeshop.com
SUMMARY:Spirit Ridge
DESCRIPTION:SPIRIT RIDGE is: JJ and MIKEY. Melodic songs. Strong vocal harmonies. Rhythmic interplay. Unique. Enjoyable. Memorable. And darn cute\, too!
URL:https://ldvcoffeeshop.com/event/spirit-ridge-12/
CATEGORIES:Music
END:VEVENT
BEGIN:VEVENT
DTSTART;TZID=America/Denver:20260118T100000
DTEND;TZID=America/Denver:20260118T130000
DTSTAMP:20260425T065853
CREATED:20251204T025012Z
LAST-MODIFIED:20251204T025012Z
UID:8158-1768730400-1768741200@ldvcoffeeshop.com
SUMMARY:Soda Blue
DESCRIPTION:Soda Blue is a dynamic duet comprised of partners Alice Frish and David Fermanich. Friends for over 30 years\, Alice and Dave share a chemistry that comes across well on stage. Technically a ‘cover’ musical act with a focus on high energy pop and smokey R&B\, their joking and overall sense of fun turns their show into something more than just music.
URL:https://ldvcoffeeshop.com/event/soda-blue-66/
CATEGORIES:Music
END:VEVENT
BEGIN:VEVENT
DTSTART;TZID=America/Denver:20260117T190000
DTEND;TZID=America/Denver:20260117T220000
DTSTAMP:20260425T065853
CREATED:20251203T222345Z
LAST-MODIFIED:20251203T222345Z
UID:8112-1768676400-1768687200@ldvcoffeeshop.com
SUMMARY:Open Mic
DESCRIPTION:Become part of the the La Dolce Vita performing community! Join us for an open mic. on the first and third Saturday of the month between 7:00 and 10:00 PM. Bring your instrument\, voice\, your poetry or comedy routine (keep it clean) and we’ll provide the PA\, a very welcoming and supportive audience and of course\, great coffee\, teas\, pastries and sandwiches. Signup at 6:00 PM. Don’t play? Bring your friends and hang out. We can promise great music\, great food and a great time
URL:https://ldvcoffeeshop.com/event/open-mic-84/
CATEGORIES:Open Mic
END:VEVENT
BEGIN:VEVENT
DTSTART;TZID=America/Denver:20260111T100000
DTEND;TZID=America/Denver:20260111T130000
DTSTAMP:20260425T065853
CREATED:20251203T231116Z
LAST-MODIFIED:20251203T231116Z
UID:8146-1768125600-1768136400@ldvcoffeeshop.com
SUMMARY:Cellist Monica Sales-Council
DESCRIPTION:Cellist Monica Sales-Council
URL:https://ldvcoffeeshop.com/event/cellist-monica-sales-council-41/
CATEGORIES:Music
END:VEVENT
BEGIN:VEVENT
DTSTART;TZID=America/Denver:20260110T110000
DTEND;TZID=America/Denver:20260110T130000
DTSTAMP:20260425T065853
CREATED:20251204T035930Z
LAST-MODIFIED:20251204T035930Z
UID:8190-1768042800-1768050000@ldvcoffeeshop.com
SUMMARY:Death Cafe
DESCRIPTION:Death Cafe creates a safe space for people to explore personal thoughts and feelings about mortality\, death\, the dying process\, near death experiences\, the afterlife\, spirits\, or whatever the thoughts of death may be and how we and our culture deals with death.
URL:https://ldvcoffeeshop.com/event/death-cafe-12/
END:VEVENT
BEGIN:VEVENT
DTSTART;TZID=America/Denver:20260104T100000
DTEND;TZID=America/Denver:20260104T130000
DTSTAMP:20260425T065853
CREATED:20251203T230124Z
LAST-MODIFIED:20251203T230124Z
UID:8134-1767520800-1767531600@ldvcoffeeshop.com
SUMMARY:BlueCana Roberta Holbrook
DESCRIPTION:Roberta Holbrook followed her music dream early with a successful career on the road singing and playing in clubs. She is pleased once again to be focusing on playing music full-time. Together with sweet harmonies\, guitars\, and keyboards. Roberta keeps the audience engaged as she performs a variety of songs that include Americana\, Blues\, Folk\, Classic Rock and more. Roberta agrees that the Denver area has a strong family of welcoming\, generous\, supportive and talented musicians and is grateful for the sense of community she has found here
URL:https://ldvcoffeeshop.com/event/bluecana-roberta-holbrook-15/
CATEGORIES:Music
END:VEVENT
BEGIN:VEVENT
DTSTART;TZID=America/Denver:20260103T190000
DTEND;TZID=America/Denver:20260103T220000
DTSTAMP:20260425T065853
CREATED:20251203T222144Z
LAST-MODIFIED:20251203T222144Z
UID:8110-1767466800-1767477600@ldvcoffeeshop.com
SUMMARY:Open Mic
DESCRIPTION:Become part of the the La Dolce Vita performing community! Join us for an open mic. on the first and third Saturday of the month between 7:00 and 10:00 PM. Bring your instrument\, voice\, your poetry or comedy routine (keep it clean) and we’ll provide the PA\, a very welcoming and supportive audience and of course\, great coffee\, teas\, pastries and sandwiches. Signup at 6:00 PM. Don’t play? Bring your friends and hang out. We can promise great music\, great food and a great time
URL:https://ldvcoffeeshop.com/event/open-mic-83/
CATEGORIES:Open Mic
END:VEVENT
BEGIN:VEVENT
DTSTART;TZID=America/Denver:20251228T100000
DTEND;TZID=America/Denver:20251228T130000
DTSTAMP:20260425T065853
CREATED:20250602T002747Z
LAST-MODIFIED:20250602T002747Z
UID:8015-1766916000-1766926800@ldvcoffeeshop.com
SUMMARY:Be Be
DESCRIPTION:Be Be\, a Colorado song writer / musician\, performs at the Arvada coffee shop La Dolche Vita on the 4th Sunday of each month. Whereas\, she used to play the Banjo with Moses Walker in this time slot\, she now gets to play guitar and sing a myriad of songs she’s written over the past several decades. “I get to play my favorite songs from 10 am till 1 pm\, and when that time is up I still haven’t played all the songs I’ve written.”If you were to take the following songwriters and blend them all together you would get to hear the type of music that Be writes. James Taylor\, Joni Mitchell\, Justin Hayward\, Dolly Parton\, Paul McCartney\, Jessie Colin Young\, Neil Young\, Gordon Lightfoot and many more. These are songs that never have been produced and are for a future generation.Periodically Be also integrates her sets with recordings of Moses and plays Banjo in memory of him. Although an accomplished musician she is also the author of\, The Be Attitudes\, A Woman’s View of The Prophet by Kahlil Gibran and her latest book called The Great Urantia Agreement which highlights an important quote from the URANTIA Book.Be\, a Vietnam Navy Veteran is also a Doctor of Divinity is and an ordained minister through the Church of the Universal Light. She has read the URANTIA Book page by page and cover to cover 10 times and if you know anything about the URANTIA Book you’ll know that is quite an amazing feat.Be Be is the inventor and manufacturer of the Suspendulum®\, an Aerial Dance Tripod which affords aerial dancers all over the world to perform their silk dancing while hanging from the Suspendulum®. The rig is in over 22 countries.Please come out to enjoy some very beautiful and meaningful songs as well as musical poetry which stimulate the imagination
URL:https://ldvcoffeeshop.com/event/be-be-23/
CATEGORIES:Music
END:VEVENT
BEGIN:VEVENT
DTSTART;TZID=America/Denver:20251227T190000
DTEND;TZID=America/Denver:20251227T220000
DTSTAMP:20260425T065853
CREATED:20250603T221754Z
LAST-MODIFIED:20250603T221754Z
UID:8089-1766862000-1766872800@ldvcoffeeshop.com
SUMMARY:String Song
DESCRIPTION:John Dandurand\, Gary Michaels\, and Cal Bromfield are three multi-instrumentalists and vocalists with decades of experience performing around the country. Their music centers on Folk\, Blues and Celtic classics reimagined\, along with their own originals. You’ll hear them play on 6 and 12-string guitars\, steel slide guitar\, mandolin\, bass. and dulcimer. Over the years\, each of them has shared the stage with greats like Leo Kotke\, Taj Mahal\, Stefan Grapelli\, and Ray Charles.
URL:https://ldvcoffeeshop.com/event/string-song-6/
CATEGORIES:Music
END:VEVENT
BEGIN:VEVENT
DTSTART;TZID=America/Denver:20251221T100000
DTEND;TZID=America/Denver:20251221T130000
DTSTAMP:20260425T065853
CREATED:20250602T001708Z
LAST-MODIFIED:20250602T001708Z
UID:8003-1766311200-1766322000@ldvcoffeeshop.com
SUMMARY:Soda Blue
DESCRIPTION:Soda Blue is a dynamic duet comprised of partners Alice Frish and David Fermanich. Friends for over 30 years\, Alice and Dave share a chemistry that comes across well on stage. Technically a ‘cover’ musical act with a focus on high energy pop and smokey R&B\, their joking and overall sense of fun turns their show into something more than just music.
URL:https://ldvcoffeeshop.com/event/soda-blue-64/
CATEGORIES:Music
END:VEVENT
BEGIN:VEVENT
DTSTART;TZID=America/Denver:20251220T190000
DTEND;TZID=America/Denver:20251220T220000
DTSTAMP:20260425T065853
CREATED:20250602T034231Z
LAST-MODIFIED:20250602T034231Z
UID:8065-1766257200-1766268000@ldvcoffeeshop.com
SUMMARY:Open Mic
DESCRIPTION:Become part of the the La Dolce Vita performing community! Join us for an open mic. on the first and third Saturday of the month between 7:00 and 10:00 PM. Bring your instrument\, voice\, your poetry or comedy routine (keep it clean) and we’ll provide the PA\, a very welcoming and supportive audience and of course\, great coffee\, teas\, pastries and sandwiches.  Signup at 6:00 PM. If you have a mic please bring that. Don’t play? Bring your friends and hang out. We can promise great music\, great food and a great time
URL:https://ldvcoffeeshop.com/event/open-mic-82/
CATEGORIES:Open Mic
END:VEVENT
BEGIN:VEVENT
DTSTART;TZID=America/Denver:20251214T100000
DTEND;TZID=America/Denver:20251214T130000
DTSTAMP:20260425T065853
CREATED:20250602T000539Z
LAST-MODIFIED:20250602T000539Z
UID:7991-1765706400-1765717200@ldvcoffeeshop.com
SUMMARY:Cellist Monica Sales-Council
DESCRIPTION:
URL:https://ldvcoffeeshop.com/event/cellist-monica-sales-council-40/
CATEGORIES:Music
END:VEVENT
BEGIN:VEVENT
DTSTART;TZID=America/Denver:20251213T110000
DTEND;TZID=America/Denver:20251213T130000
DTSTAMP:20260425T065853
CREATED:20250602T005102Z
LAST-MODIFIED:20250602T005102Z
UID:8027-1765623600-1765630800@ldvcoffeeshop.com
SUMMARY:Death Cafe
DESCRIPTION:Death Cafe creates a safe space for people to explore personal thoughts and feelings about mortality\, death\, the dying process\, near death experiences\, the afterlife\, spirits\, or whatever the thoughts of death may be and how we and our culture deals with death.
URL:https://ldvcoffeeshop.com/event/death-cafe-11/
END:VEVENT
BEGIN:VEVENT
DTSTART;TZID=America/Denver:20251207T100000
DTEND;TZID=America/Denver:20251207T130000
DTSTAMP:20260425T065853
CREATED:20250601T235158Z
LAST-MODIFIED:20250601T235158Z
UID:7979-1765101600-1765112400@ldvcoffeeshop.com
SUMMARY:BlueCana Roberta Holbrook
DESCRIPTION:Roberta Holbrook followed her music dream early with a successful career on the road singing and playing in clubs. She is pleased once again to be focusing on playing music full-time. Together with sweet harmonies\, guitars\, and keyboards. Roberta keeps the audience engaged as she performs a variety of songs that include Americana\, Blues\, Folk\, Classic Rock and more. Roberta agrees that the Denver area has a strong family of welcoming\, generous\, supportive and talented musicians and is grateful for the sense of community she has found here
URL:https://ldvcoffeeshop.com/event/bluecana-roberta-holbrook-14/
CATEGORIES:Music
END:VEVENT
BEGIN:VEVENT
DTSTART;TZID=America/Denver:20251206T190000
DTEND;TZID=America/Denver:20251206T220000
DTSTAMP:20260425T065853
CREATED:20250602T034115Z
LAST-MODIFIED:20250602T034115Z
UID:8063-1765047600-1765058400@ldvcoffeeshop.com
SUMMARY:Open Mic
DESCRIPTION:Become part of the the La Dolce Vita performing community! Join us for an open mic. on the first and third Saturday of the month between 7:00 and 10:00 PM. Bring your instrument\, voice\, your poetry or comedy routine (keep it clean) and we’ll provide the PA\, a very welcoming and supportive audience and of course\, great coffee\, teas\, pastries and sandwiches.  Signup at 6:00 PM. If you have a mic please bring that. Don’t play? Bring your friends and hang out. We can promise great music\, great food and a great time
URL:https://ldvcoffeeshop.com/event/open-mic-81/
CATEGORIES:Open Mic
END:VEVENT
END:VCALENDAR