BEGIN:VCALENDAR
VERSION:2.0
PRODID:-//La Dolce Vita - ECPv6.13.2.1//NONSGML v1.0//EN
CALSCALE:GREGORIAN
METHOD:PUBLISH
X-ORIGINAL-URL:https://ldvcoffeeshop.com
X-WR-CALDESC:Events for La Dolce Vita
REFRESH-INTERVAL;VALUE=DURATION:PT1H
X-Robots-Tag:noindex
X-PUBLISHED-TTL:PT1H
BEGIN:VTIMEZONE
TZID:America/Denver
BEGIN:DAYLIGHT
TZOFFSETFROM:-0700
TZOFFSETTO:-0600
TZNAME:MDT
DTSTART:20260308T090000
END:DAYLIGHT
BEGIN:STANDARD
TZOFFSETFROM:-0600
TZOFFSETTO:-0700
TZNAME:MST
DTSTART:20261101T080000
END:STANDARD
END:VTIMEZONE
BEGIN:VEVENT
DTSTART;TZID=America/Denver:20260419T100000
DTEND;TZID=America/Denver:20260419T130000
DTSTAMP:20260425T102517
CREATED:20251204T025554Z
LAST-MODIFIED:20251204T025554Z
UID:8164-1776592800-1776603600@ldvcoffeeshop.com
SUMMARY:Soda Blue
DESCRIPTION:Soda Blue is a dynamic duet comprised of partners Alice Frish and David Fermanich. Friends for over 30 years\, Alice and Dave share a chemistry that comes across well on stage. Technically a ‘cover’ musical act with a focus on high energy pop and smokey R&B\, their joking and overall sense of fun turns their show into something more than just music.
URL:https://ldvcoffeeshop.com/event/soda-blue-69/
CATEGORIES:Music
END:VEVENT
BEGIN:VEVENT
DTSTART;TZID=America/Denver:20260425T190000
DTEND;TZID=America/Denver:20260425T220000
DTSTAMP:20260425T102517
CREATED:20260421T171654Z
LAST-MODIFIED:20260421T171654Z
UID:8224-1777143600-1777154400@ldvcoffeeshop.com
SUMMARY:Spirit Ridge PLUS Soda Blue Live
DESCRIPTION:TOGETHER AT LAST! Spirit Ridge PLUS Soda Blue!!!LIVE at La Dolce Vita Coffee in Olde Town ArvadaSaturday\, April 25; 7-10 pmA BRAND NEW SUPERGROUP? But what do we call it? Blue Spirit? Soda Ridge? How about ‘Spirit of the Blue Ridge Soda?’Heck with it – working title “SPODA BLIDGE”… (yeah… we know.)We will be performing separately AND TOGETHER!YOU DON’T WANT TO MISS THIS!!!Join us and share in the experience!Saturday\, April 25\, 7-10 pm at @ladolcevitacoffe5756 Olde Wadsworth Blvd in Olde Town Arvada
URL:https://ldvcoffeeshop.com/event/spirit-ridge-plus-soda-blue-live/
CATEGORIES:Music
END:VEVENT
BEGIN:VEVENT
DTSTART;TZID=America/Denver:20260426T020000
DTEND;TZID=America/Denver:20260426T160000
DTSTAMP:20260425T102517
CREATED:20260421T173528Z
LAST-MODIFIED:20260421T173528Z
UID:8228-1777168800-1777219200@ldvcoffeeshop.com
SUMMARY:Dam Jam
DESCRIPTION:The format will be everyone gets to lead a song and we will go around to each person\, also maybe passing a mic\, but no plug-in otherwise. All folk style instruments are welcome. Get your folk music lists ready and we will try to keep the era of music to 70’s and older but most songs are welcome\, even acoustic versions of newer material. All levels of play are welcome (try to keep with the chords/notes/rhythm of the songs. Performance songs are also welcome.If you do not have an acoustic instrument we might have an extra. Message the host for more info.Please remember we will have two hours to play so try to keep the song breaks to a minimum. This is inside to keep in mind there will be limited space but no limit on players.Let’s also support La Dolce Vita and get lunch\, snacks\, drinks\, or deserts and of course coffee (mmmm so good).Let’s all have fun and DAM JAM!!!
URL:https://ldvcoffeeshop.com/event/dam-jam-25/
CATEGORIES:Music
END:VEVENT
BEGIN:VEVENT
DTSTART;TZID=America/Denver:20260426T100000
DTEND;TZID=America/Denver:20260426T130000
DTSTAMP:20260425T102517
CREATED:20251204T031520Z
LAST-MODIFIED:20251204T031520Z
UID:8178-1777197600-1777208400@ldvcoffeeshop.com
SUMMARY:Be Be
DESCRIPTION:Be Be\, a Colorado song writer / musician\, performs at the Arvada coffee shop La Dolche Vita on the 4th Sunday of each month. Whereas\, she used to play the Banjo with Moses Walker in this time slot\, she now gets to play guitar and sing a myriad of songs she’s written over the past several decades. “I get to play my favorite songs from 10 am till 1 pm\, and when that time is up I still haven’t played all the songs I’ve written.”If you were to take the following songwriters and blend them all together you would get to hear the type of music that Be writes. James Taylor\, Joni Mitchell\, Justin Hayward\, Dolly Parton\, Paul McCartney\, Jessie Colin Young\, Neil Young\, Gordon Lightfoot and many more. These are songs that never have been produced and are for a future generation.Periodically Be also integrates her sets with recordings of Moses and plays Banjo in memory of him. Although an accomplished musician she is also the author of\, The Be Attitudes\, A Woman’s View of The Prophet by Kahlil Gibran and her latest book called The Great Urantia Agreement which highlights an important quote from the URANTIA Book.Be\, a Vietnam Navy Veteran is also a Doctor of Divinity is and an ordained minister through the Church of the Universal Light. She has read the URANTIA Book page by page and cover to cover 10 times and if you know anything about the URANTIA Book you’ll know that is quite an amazing feat.Be Be is the inventor and manufacturer of the Suspendulum®\, an Aerial Dance Tripod which affords aerial dancers all over the world to perform their silk dancing while hanging from the Suspendulum®. The rig is in over 22 countries.Please come out to enjoy some very beautiful and meaningful songs as well as musical poetry which stimulate the imagination
URL:https://ldvcoffeeshop.com/event/be-be-27/
CATEGORIES:Music
END:VEVENT
BEGIN:VEVENT
DTSTART;TZID=America/Denver:20260502T190000
DTEND;TZID=America/Denver:20260502T220000
DTSTAMP:20260425T102517
CREATED:20251203T225407Z
LAST-MODIFIED:20251203T225407Z
UID:8126-1777748400-1777759200@ldvcoffeeshop.com
SUMMARY:Open Mic
DESCRIPTION:Become part of the the La Dolce Vita performing community! Join us for an open mic. on the first and third Saturday of the month between 7:00 and 10:00 PM. Bring your instrument\, voice\, your poetry or comedy routine (keep it clean) and we’ll provide the PA\, a very welcoming and supportive audience and of course\, great coffee\, teas\, pastries and sandwiches. Signup at 6:00 PM. Don’t play? Bring your friends and hang out. We can promise great music\, great food and a great time
URL:https://ldvcoffeeshop.com/event/open-mic-91/
CATEGORIES:Open Mic
END:VEVENT
BEGIN:VEVENT
DTSTART;TZID=America/Denver:20260503T100000
DTEND;TZID=America/Denver:20260503T130000
DTSTAMP:20260425T102517
CREATED:20251203T230713Z
LAST-MODIFIED:20251203T230713Z
UID:8142-1777802400-1777813200@ldvcoffeeshop.com
SUMMARY:BlueCana Roberta Holbrook
DESCRIPTION:Roberta Holbrook followed her music dream early with a successful career on the road singing and playing in clubs. She is pleased once again to be focusing on playing music full-time. Together with sweet harmonies\, guitars\, and keyboards. Roberta keeps the audience engaged as she performs a variety of songs that include Americana\, Blues\, Folk\, Classic Rock and more. Roberta agrees that the Denver area has a strong family of welcoming\, generous\, supportive and talented musicians and is grateful for the sense of community she has found here
URL:https://ldvcoffeeshop.com/event/bluecana-roberta-holbrook-19/
CATEGORIES:Music
END:VEVENT
BEGIN:VEVENT
DTSTART;TZID=America/Denver:20260509T110000
DTEND;TZID=America/Denver:20260509T130000
DTSTAMP:20260425T102517
CREATED:20251204T040553Z
LAST-MODIFIED:20251204T040553Z
UID:8198-1778324400-1778331600@ldvcoffeeshop.com
SUMMARY:Death Cafe
DESCRIPTION:Death Cafe creates a safe space for people to explore personal thoughts and feelings about mortality\, death\, the dying process\, near death experiences\, the afterlife\, spirits\, or whatever the thoughts of death may be and how we and our culture deals with death.
URL:https://ldvcoffeeshop.com/event/death-cafe-16/
END:VEVENT
BEGIN:VEVENT
DTSTART;TZID=America/Denver:20260509T190000
DTEND;TZID=America/Denver:20260509T220000
DTSTAMP:20260425T102517
CREATED:20260421T172411Z
LAST-MODIFIED:20260421T172411Z
UID:8226-1778353200-1778364000@ldvcoffeeshop.com
SUMMARY:Dive Bar Diva
DESCRIPTION:Dive Bar Diva is five friends who like making Blues\, R&B and Funk inflected music that surprises and makes people want to dance. \nOn keys is Brian “The Professor” Bucenic who’s background includes jazz studies\, funk and straight up rock and roll. Brian is always up for a jam\, unless he’s golfing. \nOn guitar is Edwin Jeffries. Edwin has been a fixture in the Denver club scene for 30-plus years. He’s shared the stage with luminaries such as Tab Benoit and just loves that old-school Chicago Blues. \nOn bass is Warren Rubin\, who by his own admission\, just likes being seen with good musicians. \nDrums and Vocals are anchored by Trent and Julie Mannina\, respectively. Trent and Julie met in local rock band Clusterfunk. Since then\, they’ve performed in a number of local bands with Trent anchoring the back line and Julie always engaging the audience with her wit and powerful and soulful vocals.
URL:https://ldvcoffeeshop.com/event/dive-bar-diva-5/
CATEGORIES:Music
END:VEVENT
BEGIN:VEVENT
DTSTART;TZID=America/Denver:20260510T100000
DTEND;TZID=America/Denver:20260510T130000
DTSTAMP:20260425T102517
CREATED:20251203T231709Z
LAST-MODIFIED:20251203T231709Z
UID:8154-1778407200-1778418000@ldvcoffeeshop.com
SUMMARY:Cellist Monica Sales-Council
DESCRIPTION:Cellist Monica Sales-Council
URL:https://ldvcoffeeshop.com/event/cellist-monica-sales-council-45/
CATEGORIES:Music
END:VEVENT
BEGIN:VEVENT
DTSTART;TZID=America/Denver:20260510T140000
DTEND;TZID=America/Denver:20260510T160000
DTSTAMP:20260425T102517
CREATED:20260421T173654Z
LAST-MODIFIED:20260421T173654Z
UID:8230-1778421600-1778428800@ldvcoffeeshop.com
SUMMARY:Dam Jam
DESCRIPTION:The format will be everyone gets to lead a song and we will go around to each person\, also maybe passing a mic\, but no plug-in otherwise. All folk style instruments are welcome. Get your folk music lists ready and we will try to keep the era of music to 70’s and older but most songs are welcome\, even acoustic versions of newer material. All levels of play are welcome (try to keep with the chords/notes/rhythm of the songs. Performance songs are also welcome.If you do not have an acoustic instrument we might have an extra. Message the host for more info.Please remember we will have two hours to play so try to keep the song breaks to a minimum. This is inside to keep in mind there will be limited space but no limit on players.Let’s also support La Dolce Vita and get lunch\, snacks\, drinks\, or deserts and of course coffee (mmmm so good).Let’s all have fun and DAM JAM!!!
URL:https://ldvcoffeeshop.com/event/dam-jam-26/
CATEGORIES:Music
END:VEVENT
BEGIN:VEVENT
DTSTART;TZID=America/Denver:20260516T190000
DTEND;TZID=America/Denver:20260516T220000
DTSTAMP:20260425T102517
CREATED:20251203T225531Z
LAST-MODIFIED:20251203T225531Z
UID:8128-1778958000-1778968800@ldvcoffeeshop.com
SUMMARY:Open Mic
DESCRIPTION:Become part of the the La Dolce Vita performing community! Join us for an open mic. on the first and third Saturday of the month between 7:00 and 10:00 PM. Bring your instrument\, voice\, your poetry or comedy routine (keep it clean) and we’ll provide the PA\, a very welcoming and supportive audience and of course\, great coffee\, teas\, pastries and sandwiches. Signup at 6:00 PM. Don’t play? Bring your friends and hang out. We can promise great music\, great food and a great time
URL:https://ldvcoffeeshop.com/event/open-mic-92/
CATEGORIES:Open Mic
END:VEVENT
BEGIN:VEVENT
DTSTART;TZID=America/Denver:20260517T100000
DTEND;TZID=America/Denver:20260517T130000
DTSTAMP:20260425T102517
CREATED:20251204T025809Z
LAST-MODIFIED:20251204T025809Z
UID:8166-1779012000-1779022800@ldvcoffeeshop.com
SUMMARY:Soda Blue
DESCRIPTION:Soda Blue is a dynamic duet comprised of partners Alice Frish and David Fermanich. Friends for over 30 years\, Alice and Dave share a chemistry that comes across well on stage. Technically a ‘cover’ musical act with a focus on high energy pop and smokey R&B\, their joking and overall sense of fun turns their show into something more than just music.
URL:https://ldvcoffeeshop.com/event/soda-blue-70/
CATEGORIES:Music
END:VEVENT
BEGIN:VEVENT
DTSTART;TZID=America/Denver:20260523T190000
DTEND;TZID=America/Denver:20260523T220000
DTSTAMP:20260425T102517
CREATED:20260421T181017Z
LAST-MODIFIED:20260421T181017Z
UID:8248-1779562800-1779573600@ldvcoffeeshop.com
SUMMARY:Pennies on the Track
DESCRIPTION:Genres: Americana\, Folk\, Bluegrass\, Country\nIf you like…CSN\, Steeldrivers\, The Band\, Gillian Welch Pennies on the Track delivers rich vocal harmony and heartfelt songwriting with a dynamic mix of covers and original music. Whether\nperforming\, Denver\, the Pacific Northwest\, the Great Lakes\, or beyond\, this acoustic trio makes its home on Colorado’s Front Range. Pennies music fits nicely around campfires\, in breweries\, on festival stages and amphitheaters\, offering songs to put a smile on your lips.\nThe Pennies are Brian Good\, Jack Keith\, and Alex Harrison – three singer songwriters who share a passion for making music together. Occasionally joined by Morgan Carlson on violin\, their joy reaches out to every listener.\nTheir debut full-length album\, TWENTY\, was recorded at The Spot Studios in Evergreen\, CO\, and released in 2020…yeah\, you remember that year. The record is a snapshot of the original trio (with Neil Sperandeo)\, showcasing the band’s range from reflective ballads to barn-burning\nbluegrass. Highlight tracks:\n1. Weigh Heavy On 4.15 (radio edit available)\n7. Take Me Back to Colorado 2:55\n8. No Regrets 4:03 \nContact penniesonthetrack@gmail.com Jack @ 303.704.2619
URL:https://ldvcoffeeshop.com/event/pennies-on-the-track-8/
CATEGORIES:Music
END:VEVENT
BEGIN:VEVENT
DTSTART;TZID=America/Denver:20260524T100000
DTEND;TZID=America/Denver:20260524T130000
DTSTAMP:20260425T102517
CREATED:20251204T031700Z
LAST-MODIFIED:20251204T031700Z
UID:8180-1779616800-1779627600@ldvcoffeeshop.com
SUMMARY:Be Be
DESCRIPTION:Be Be\, a Colorado song writer / musician\, performs at the Arvada coffee shop La Dolche Vita on the 4th Sunday of each month. Whereas\, she used to play the Banjo with Moses Walker in this time slot\, she now gets to play guitar and sing a myriad of songs she’s written over the past several decades. “I get to play my favorite songs from 10 am till 1 pm\, and when that time is up I still haven’t played all the songs I’ve written.”If you were to take the following songwriters and blend them all together you would get to hear the type of music that Be writes. James Taylor\, Joni Mitchell\, Justin Hayward\, Dolly Parton\, Paul McCartney\, Jessie Colin Young\, Neil Young\, Gordon Lightfoot and many more. These are songs that never have been produced and are for a future generation.Periodically Be also integrates her sets with recordings of Moses and plays Banjo in memory of him. Although an accomplished musician she is also the author of\, The Be Attitudes\, A Woman’s View of The Prophet by Kahlil Gibran and her latest book called The Great Urantia Agreement which highlights an important quote from the URANTIA Book.Be\, a Vietnam Navy Veteran is also a Doctor of Divinity is and an ordained minister through the Church of the Universal Light. She has read the URANTIA Book page by page and cover to cover 10 times and if you know anything about the URANTIA Book you’ll know that is quite an amazing feat.Be Be is the inventor and manufacturer of the Suspendulum®\, an Aerial Dance Tripod which affords aerial dancers all over the world to perform their silk dancing while hanging from the Suspendulum®. The rig is in over 22 countries.Please come out to enjoy some very beautiful and meaningful songs as well as musical poetry which stimulate the imagination
URL:https://ldvcoffeeshop.com/event/be-be-28/
CATEGORIES:Music
END:VEVENT
BEGIN:VEVENT
DTSTART;TZID=America/Denver:20260524T140000
DTEND;TZID=America/Denver:20260524T160000
DTSTAMP:20260425T102517
CREATED:20260421T173813Z
LAST-MODIFIED:20260421T173813Z
UID:8232-1779631200-1779638400@ldvcoffeeshop.com
SUMMARY:Dam Jam
DESCRIPTION:The format will be everyone gets to lead a song and we will go around to each person\, also maybe passing a mic\, but no plug-in otherwise. All folk style instruments are welcome. Get your folk music lists ready and we will try to keep the era of music to 70’s and older but most songs are welcome\, even acoustic versions of newer material. All levels of play are welcome (try to keep with the chords/notes/rhythm of the songs. Performance songs are also welcome.If you do not have an acoustic instrument we might have an extra. Message the host for more info.Please remember we will have two hours to play so try to keep the song breaks to a minimum. This is inside to keep in mind there will be limited space but no limit on players.Let’s also support La Dolce Vita and get lunch\, snacks\, drinks\, or deserts and of course coffee (mmmm so good).Let’s all have fun and DAM JAM!!!
URL:https://ldvcoffeeshop.com/event/dam-jam-27/
CATEGORIES:Music
END:VEVENT
BEGIN:VEVENT
DTSTART;TZID=America/Denver:20260529T190000
DTEND;TZID=America/Denver:20260529T210000
DTSTAMP:20260425T102517
CREATED:20260421T204707Z
LAST-MODIFIED:20260421T204707Z
UID:8258-1780081200-1780088400@ldvcoffeeshop.com
SUMMARY:Maestro Music Institute presents
DESCRIPTION:Maestro Music Institute presents. \nMore information coming soon
URL:https://ldvcoffeeshop.com/event/maestro-music-institute-presents/
END:VEVENT
BEGIN:VEVENT
DTSTART;TZID=America/Denver:20260530T190000
DTEND;TZID=America/Denver:20260530T220000
DTSTAMP:20260425T102517
CREATED:20260421T182726Z
LAST-MODIFIED:20260421T182726Z
UID:8250-1780167600-1780178400@ldvcoffeeshop.com
SUMMARY:Why Not
DESCRIPTION:Why Not! is a trio of musicians made up of two older dudes–brothers\, actually–and a young amazing-voiced lady who\, together\, play a fun mix of oldies folk\, new “folk” and a bit of everything in between.  Brothers Don and Steve Mares have been playing together for . . . let’s just say for a pretty darned long time.  Sarah Leavesly was discovered in a burrito shop and has been dazzling crowds with her incredible vocals ever since.  Together this motley\, music-loving trio is called Why Not!  Because . . . why not?
URL:https://ldvcoffeeshop.com/event/why-not-3/
CATEGORIES:Music
END:VEVENT
BEGIN:VEVENT
DTSTART;TZID=America/Denver:20260531T100000
DTEND;TZID=America/Denver:20260531T130000
DTSTAMP:20260425T102517
CREATED:20260421T183549Z
LAST-MODIFIED:20260421T183549Z
UID:8252-1780221600-1780232400@ldvcoffeeshop.com
SUMMARY:Ends NOdds
DESCRIPTION:If this band were to choose a different name that was equally as fitting\, it would have been It’s Been a Long Time Coming. But that’s too long. The Long Run? Taken. EndsNOdds came together slowly and in an unexpected way which is exactly how they arrange their favorite R&B\, Americana\, Rock\, and Pop covers; with thought and creativity\, adding unexpected elements in each song making them their own.
URL:https://ldvcoffeeshop.com/event/ends-nodds-3/
CATEGORIES:Music
END:VEVENT
BEGIN:VEVENT
DTSTART;TZID=America/Denver:20260606T190000
DTEND;TZID=America/Denver:20260606T220000
DTSTAMP:20260425T102517
CREATED:20251203T225652Z
LAST-MODIFIED:20251203T232105Z
UID:8130-1780772400-1780783200@ldvcoffeeshop.com
SUMMARY:Open Mic
DESCRIPTION:Become part of the the La Dolce Vita performing community! Join us for an open mic. on the first and third Saturday of the month between 7:00 and 10:00 PM. Bring your instrument\, voice\, your poetry or comedy routine (keep it clean) and we’ll provide the PA\, a very welcoming and supportive audience and of course\, great coffee\, teas\, pastries and sandwiches. Signup at 6:00 PM. Don’t play? Bring your friends and hang out. We can promise great music\, great food and a great time
URL:https://ldvcoffeeshop.com/event/open-mic-93/
CATEGORIES:Open Mic
END:VEVENT
BEGIN:VEVENT
DTSTART;TZID=America/Denver:20260607T100000
DTEND;TZID=America/Denver:20260607T130000
DTSTAMP:20260425T102517
CREATED:20251203T230843Z
LAST-MODIFIED:20251203T230843Z
UID:8144-1780826400-1780837200@ldvcoffeeshop.com
SUMMARY:BlueCana Roberta Holbrook
DESCRIPTION:Roberta Holbrook followed her music dream early with a successful career on the road singing and playing in clubs. She is pleased once again to be focusing on playing music full-time. Together with sweet harmonies\, guitars\, and keyboards. Roberta keeps the audience engaged as she performs a variety of songs that include Americana\, Blues\, Folk\, Classic Rock and more. Roberta agrees that the Denver area has a strong family of welcoming\, generous\, supportive and talented musicians and is grateful for the sense of community she has found here
URL:https://ldvcoffeeshop.com/event/bluecana-roberta-holbrook-20/
CATEGORIES:Music
END:VEVENT
BEGIN:VEVENT
DTSTART;TZID=America/Denver:20260607T140000
DTEND;TZID=America/Denver:20260607T160000
DTSTAMP:20260425T102517
CREATED:20260421T173921Z
LAST-MODIFIED:20260421T173921Z
UID:8234-1780840800-1780848000@ldvcoffeeshop.com
SUMMARY:Dam Jam
DESCRIPTION:The format will be everyone gets to lead a song and we will go around to each person\, also maybe passing a mic\, but no plug-in otherwise. All folk style instruments are welcome. Get your folk music lists ready and we will try to keep the era of music to 70’s and older but most songs are welcome\, even acoustic versions of newer material. All levels of play are welcome (try to keep with the chords/notes/rhythm of the songs. Performance songs are also welcome.If you do not have an acoustic instrument we might have an extra. Message the host for more info.Please remember we will have two hours to play so try to keep the song breaks to a minimum. This is inside to keep in mind there will be limited space but no limit on players.Let’s also support La Dolce Vita and get lunch\, snacks\, drinks\, or deserts and of course coffee (mmmm so good).Let’s all have fun and DAM JAM!!!
URL:https://ldvcoffeeshop.com/event/dam-jam-28/
CATEGORIES:Music
END:VEVENT
BEGIN:VEVENT
DTSTART;TZID=America/Denver:20260611T190000
DTEND;TZID=America/Denver:20260611T213000
DTSTAMP:20260425T102517
CREATED:20260421T204958Z
LAST-MODIFIED:20260421T204958Z
UID:8260-1781204400-1781213400@ldvcoffeeshop.com
SUMMARY:Hazel Miller
DESCRIPTION:$25 at the door or call 303-456-8919 to prepay to get your name on the guest list\, seating is limited.\nColorado-based music icon Hazel Miller has a reputation for “Bringing it” whether the event is a club setting\, concert\, festival\, or non-profit fundraiser. Hazel has toured North America\, Europe\, the Far East\, the Middle East\, and Central America. Her powerful voice stands out and her beautiful spirit shines through to the delight of her loyal fans.One of the tightest and most versatile bands on the scene. With Hazel Miller and The Collective\, you get original\, Jazz\, blues\, R&B\, and popular music\, each song with the band’s own flavor! Guaranteed to rock the house!\nNo Refunds
URL:https://ldvcoffeeshop.com/event/hazel-miller-10/
CATEGORIES:Music
END:VEVENT
BEGIN:VEVENT
DTSTART;TZID=America/Denver:20260613T110000
DTEND;TZID=America/Denver:20260613T130000
DTSTAMP:20260425T102517
CREATED:20251204T040818Z
LAST-MODIFIED:20251204T040818Z
UID:8200-1781348400-1781355600@ldvcoffeeshop.com
SUMMARY:Death Cafe
DESCRIPTION:Death Cafe creates a safe space for people to explore personal thoughts and feelings about mortality\, death\, the dying process\, near death experiences\, the afterlife\, spirits\, or whatever the thoughts of death may be and how we and our culture deals with death.
URL:https://ldvcoffeeshop.com/event/death-cafe-17/
END:VEVENT
BEGIN:VEVENT
DTSTART;TZID=America/Denver:20260613T190000
DTEND;TZID=America/Denver:20260613T220000
DTSTAMP:20260425T102517
CREATED:20260421T205112Z
LAST-MODIFIED:20260421T205112Z
UID:8262-1781377200-1781388000@ldvcoffeeshop.com
SUMMARY:Kellan Gerken
DESCRIPTION:More information coming soon
URL:https://ldvcoffeeshop.com/event/kellan-gerken/
END:VEVENT
BEGIN:VEVENT
DTSTART;TZID=America/Denver:20260614T100000
DTEND;TZID=America/Denver:20260614T130000
DTSTAMP:20260425T102517
CREATED:20251203T231907Z
LAST-MODIFIED:20251203T231907Z
UID:8156-1781431200-1781442000@ldvcoffeeshop.com
SUMMARY:Cellist Monica Sales-Council
DESCRIPTION:Cellist Monica Sales-Council
URL:https://ldvcoffeeshop.com/event/cellist-monica-sales-council-46/
CATEGORIES:Music
END:VEVENT
BEGIN:VEVENT
DTSTART;TZID=America/Denver:20260614T140000
DTEND;TZID=America/Denver:20260614T170000
DTSTAMP:20260425T102517
CREATED:20260421T204413Z
LAST-MODIFIED:20260421T204413Z
UID:8256-1781445600-1781456400@ldvcoffeeshop.com
SUMMARY:We will be closing at 2pm for a private party.
DESCRIPTION:We will be closing at 2pm for a private party.
URL:https://ldvcoffeeshop.com/event/we-will-be-closing-at-2pm-for-a-private-party/
END:VEVENT
BEGIN:VEVENT
DTSTART;TZID=America/Denver:20260620T190000
DTEND;TZID=America/Denver:20260620T220000
DTSTAMP:20260425T102517
CREATED:20251203T225909Z
LAST-MODIFIED:20251204T030236Z
UID:8132-1781982000-1781992800@ldvcoffeeshop.com
SUMMARY:Open Mic
DESCRIPTION:Become part of the La Dolce Vita performing community! Join us for an open mic. on the first and third Saturday of the month between 7:00 and 10:00 PM. Bring your instrument\, voice\, your poetry or comedy routine (keep it clean) and we’ll provide the PA\, a very welcoming and supportive audience and of course\, great coffee\, teas\, pastries and sandwiches. Signup at 6:00 PM. Don’t play? Bring your friends and hang out. We can promise great music\, great food and a great time.
URL:https://ldvcoffeeshop.com/event/open-mic-94/
CATEGORIES:Open Mic
END:VEVENT
BEGIN:VEVENT
DTSTART;TZID=America/Denver:20260621T100000
DTEND;TZID=America/Denver:20260621T130000
DTSTAMP:20260425T102517
CREATED:20251204T030524Z
LAST-MODIFIED:20251204T030524Z
UID:8169-1782036000-1782046800@ldvcoffeeshop.com
SUMMARY:Soda Blue
DESCRIPTION:Soda Blue is a dynamic duet comprised of partners Alice Frish and David Fermanich. Friends for over 30 years\, Alice and Dave share a chemistry that comes across well on stage. Technically a ‘cover’ musical act with a focus on high energy pop and smokey R&B\, their joking and overall sense of fun turns their show into something more than just music.
URL:https://ldvcoffeeshop.com/event/soda-blue-71/
CATEGORIES:Music
END:VEVENT
BEGIN:VEVENT
DTSTART;TZID=America/Denver:20260621T140000
DTEND;TZID=America/Denver:20260621T160000
DTSTAMP:20260425T102517
CREATED:20260421T174044Z
LAST-MODIFIED:20260421T174045Z
UID:8236-1782050400-1782057600@ldvcoffeeshop.com
SUMMARY:Dam Jam
DESCRIPTION:The format will be everyone gets to lead a song and we will go around to each person\, also maybe passing a mic\, but no plug-in otherwise. All folk style instruments are welcome. Get your folk music lists ready and we will try to keep the era of music to 70’s and older but most songs are welcome\, even acoustic versions of newer material. All levels of play are welcome (try to keep with the chords/notes/rhythm of the songs. Performance songs are also welcome.If you do not have an acoustic instrument we might have an extra. Message the host for more info.Please remember we will have two hours to play so try to keep the song breaks to a minimum. This is inside to keep in mind there will be limited space but no limit on players.Let’s also support La Dolce Vita and get lunch\, snacks\, drinks\, or deserts and of course coffee (mmmm so good).Let’s all have fun and DAM JAM!!!
URL:https://ldvcoffeeshop.com/event/dam-jam-29/
CATEGORIES:Music
END:VEVENT
BEGIN:VEVENT
DTSTART;TZID=America/Denver:20260627T190000
DTEND;TZID=America/Denver:20260627T220000
DTSTAMP:20260425T102517
CREATED:20260421T205340Z
LAST-MODIFIED:20260421T205340Z
UID:8264-1782586800-1782597600@ldvcoffeeshop.com
SUMMARY:String Song
DESCRIPTION:John Dandurand\, Gary Michaels\, and Cal Bromfield are three multi-instrumentalists and vocalists with decades of experience performing around the country. Their music centers on Folk\, Blues and Celtic classics reimagined\, along with their own originals. You’ll hear them play on 6 and 12-string guitars\, steel slide guitar\, mandolin\, bass. and dulcimer. Over the years\, each of them has shared the stage with greats like Leo Kotke\, Taj Mahal\, Stefan Grapelli\, and Ray Charles.
URL:https://ldvcoffeeshop.com/event/string-song-8/
CATEGORIES:Music
END:VEVENT
END:VCALENDAR