BEGIN:VCALENDAR
VERSION:2.0
PRODID:-//La Dolce Vita - ECPv6.13.2.1//NONSGML v1.0//EN
CALSCALE:GREGORIAN
METHOD:PUBLISH
X-WR-CALNAME:La Dolce Vita
X-ORIGINAL-URL:https://ldvcoffeeshop.com
X-WR-CALDESC:Events for La Dolce Vita
REFRESH-INTERVAL;VALUE=DURATION:PT1H
X-Robots-Tag:noindex
X-PUBLISHED-TTL:PT1H
BEGIN:VTIMEZONE
TZID:America/Denver
BEGIN:DAYLIGHT
TZOFFSETFROM:-0700
TZOFFSETTO:-0600
TZNAME:MDT
DTSTART:20250309T090000
END:DAYLIGHT
BEGIN:STANDARD
TZOFFSETFROM:-0600
TZOFFSETTO:-0700
TZNAME:MST
DTSTART:20251102T080000
END:STANDARD
END:VTIMEZONE
BEGIN:VEVENT
DTSTART;TZID=America/Denver:20250603T093000
DTEND;TZID=America/Denver:20250603T110000
DTSTAMP:20260425T044329
CREATED:20250602T010004Z
LAST-MODIFIED:20250602T010004Z
UID:8029-1748943000-1748948400@ldvcoffeeshop.com
SUMMARY:Espanol in Olde Town Arvada
DESCRIPTION:Hablamos español en un lugar genial. Let’s meet in Olde Town Arvada. This renovated historic center is full of great restaurants and shops (including the best bakery around). We’ll meet at the La Dolce Vita coffee shop at 5756 Olde Wadsworth Blvd. There is plenty of parking at a public lot on Grant and Webster just one block east. Also the G Line fast tracks train stops here as well and is just a short walk away from the coffee shop. All levels of Spanish are welcome\, however a basic conversational level would be helpful. We’ll meet on Tuesdays from 9:30 am to 11 am.
URL:https://ldvcoffeeshop.com/event/espanol-in-olde-town-arvada/
END:VEVENT
BEGIN:VEVENT
DTSTART;TZID=America/Denver:20250610T093000
DTEND;TZID=America/Denver:20250610T110000
DTSTAMP:20260425T044329
CREATED:20250602T010139Z
LAST-MODIFIED:20250602T010139Z
UID:8031-1749547800-1749553200@ldvcoffeeshop.com
SUMMARY:Espanol in Olde Town Arvada
DESCRIPTION:Hablamos español en un lugar genial. Let’s meet in Olde Town Arvada. This renovated historic center is full of great restaurants and shops (including the best bakery around). We’ll meet at the La Dolce Vita coffee shop at 5756 Olde Wadsworth Blvd. There is plenty of parking at a public lot on Grant and Webster just one block east. Also the G Line fast tracks train stops here as well and is just a short walk away from the coffee shop. All levels of Spanish are welcome\, however a basic conversational level would be helpfuf. We’ll meet on Tuesdays from 9:30 am to 11 am.
URL:https://ldvcoffeeshop.com/event/espanol-in-olde-town-arvada-2/
END:VEVENT
END:VCALENDAR