BEGIN:VCALENDAR
VERSION:2.0
PRODID:-//La Dolce Vita - ECPv6.13.2.1//NONSGML v1.0//EN
CALSCALE:GREGORIAN
METHOD:PUBLISH
X-ORIGINAL-URL:https://ldvcoffeeshop.com
X-WR-CALDESC:Events for La Dolce Vita
REFRESH-INTERVAL;VALUE=DURATION:PT1H
X-Robots-Tag:noindex
X-PUBLISHED-TTL:PT1H
BEGIN:VTIMEZONE
TZID:America/Denver
BEGIN:DAYLIGHT
TZOFFSETFROM:-0700
TZOFFSETTO:-0600
TZNAME:MDT
DTSTART:20250309T090000
END:DAYLIGHT
BEGIN:STANDARD
TZOFFSETFROM:-0600
TZOFFSETTO:-0700
TZNAME:MST
DTSTART:20251102T080000
END:STANDARD
END:VTIMEZONE
BEGIN:VEVENT
DTSTART;TZID=America/Denver:20251114T190000
DTEND;TZID=America/Denver:20251114T210000
DTSTAMP:20260425T041909
CREATED:20251015T225556Z
LAST-MODIFIED:20251015T225556Z
UID:8104-1763146800-1763154000@ldvcoffeeshop.com
SUMMARY:Hazel Miller
DESCRIPTION:$25 at the door or call 303-456-8919 to prepay to get your name on the guest list\, seating is limited.\nColorado-based music icon Hazel Miller has a reputation for “Bringing it” whether the event is a club setting\, concert\, festival\, or non-profit fundraiser. Hazel has toured North America\, Europe\, the Far East\, the Middle East\, and Central America. Her powerful voice stands out and her beautiful spirit shines through to the delight of her loyal fans.One of the tightest and most versatile bands on the scene. With Hazel Miller and The Collective\, you get original\, Jazz\, blues\, R&B\, and popular music\, each song with the band’s own flavor! Guaranteed to rock the house!\nNo Refunds
URL:https://ldvcoffeeshop.com/event/hazel-miller-9/
CATEGORIES:Music
END:VEVENT
END:VCALENDAR