BEGIN:VCALENDAR
VERSION:2.0
PRODID:-//La Dolce Vita - ECPv6.13.2.1//NONSGML v1.0//EN
CALSCALE:GREGORIAN
METHOD:PUBLISH
X-ORIGINAL-URL:https://ldvcoffeeshop.com
X-WR-CALDESC:Events for La Dolce Vita
REFRESH-INTERVAL;VALUE=DURATION:PT1H
X-Robots-Tag:noindex
X-PUBLISHED-TTL:PT1H
BEGIN:VTIMEZONE
TZID:America/Denver
BEGIN:DAYLIGHT
TZOFFSETFROM:-0700
TZOFFSETTO:-0600
TZNAME:MDT
DTSTART:20250309T090000
END:DAYLIGHT
BEGIN:STANDARD
TZOFFSETFROM:-0600
TZOFFSETTO:-0700
TZNAME:MST
DTSTART:20251102T080000
END:STANDARD
END:VTIMEZONE
BEGIN:VEVENT
DTSTART;TZID=America/Denver:20250405T190000
DTEND;TZID=America/Denver:20250405T220000
DTSTAMP:20260425T094153
CREATED:20241220T025334Z
LAST-MODIFIED:20241220T025334Z
UID:7879-1743879600-1743890400@ldvcoffeeshop.com
SUMMARY:Open Mic
DESCRIPTION:Become part of the the La Dolce Vita performing community! Join us for an open mic. on the first and third Saturday of the month between 7:00 and 10:00 PM. Bring your instrument\, voice\, your poetry or comedy routine (keep it clean) and we’ll provide the PA\, a very welcoming and supportive audience and of course\, great coffee\, teas\, pastries and sandwiches.  Signup at 6:00 PM. If you have a mic please bring that. Don’t play? Bring your friends and hang out. We can promise great music\, great food and a great time
URL:https://ldvcoffeeshop.com/event/open-mic-65/
CATEGORIES:Open Mic
END:VEVENT
BEGIN:VEVENT
DTSTART;TZID=America/Denver:20250406T100000
DTEND;TZID=America/Denver:20250406T130000
DTSTAMP:20260425T094153
CREATED:20241220T020733Z
LAST-MODIFIED:20241220T020733Z
UID:7826-1743933600-1743944400@ldvcoffeeshop.com
SUMMARY:BlueCana Roberta Holbrook
DESCRIPTION:Roberta Holbrook followed her music dream early with a successful career on the road singing and playing in clubs. She is pleased once again to be focusing on playing music full-time. Together with sweet harmonies\, guitars\, and keyboards. Roberta keeps the audience engaged as she performs a variety of songs that include Americana\, Blues\, Folk\, Classic Rock and more. Roberta agrees that the Denver area has a strong family of welcoming\, generous\, supportive and talented musicians and is grateful for the sense of community she has found here.
URL:https://ldvcoffeeshop.com/event/bluecana-roberta-holbrook-6/
CATEGORIES:Music
END:VEVENT
BEGIN:VEVENT
DTSTART;TZID=America/Denver:20250412T190000
DTEND;TZID=America/Denver:20250412T220000
DTSTAMP:20260425T094153
CREATED:20250405T195509Z
LAST-MODIFIED:20250405T195509Z
UID:7934-1744484400-1744495200@ldvcoffeeshop.com
SUMMARY:EndsNOdds
DESCRIPTION:If this band were to choose a different name that was equally as fitting\, it would have been It’s Been a Long Time Coming. But that’s too long. The Long Run? Taken. EndsNOdds came together slowly and in an unexpected way which is exactly how they arrange their favorite R&B\, Americana\, Rock\, and Pop covers; with thought and creativity\, adding unexpected elements in each song making them their own.
URL:https://ldvcoffeeshop.com/event/endsnodds-4/
CATEGORIES:Music
END:VEVENT
BEGIN:VEVENT
DTSTART;TZID=America/Denver:20250413T100000
DTEND;TZID=America/Denver:20250413T130000
DTSTAMP:20260425T094153
CREATED:20241220T021518Z
LAST-MODIFIED:20241220T021518Z
UID:7838-1744538400-1744549200@ldvcoffeeshop.com
SUMMARY:Cellist Monica Sales Council
DESCRIPTION:
URL:https://ldvcoffeeshop.com/event/cellist-monica-sales-council-32/
CATEGORIES:Music
END:VEVENT
BEGIN:VEVENT
DTSTART;TZID=America/Denver:20250413T110000
DTEND;TZID=America/Denver:20250413T130000
DTSTAMP:20260425T094153
CREATED:20250312T231747Z
LAST-MODIFIED:20250312T231747Z
UID:7923-1744542000-1744549200@ldvcoffeeshop.com
SUMMARY:Death Cafe
DESCRIPTION:Death Cafe creates a safe space for people to explore personal thoughts and feelings about mortality\, death\, the dying process\, near death experiences\, the afterlife\, spirits\, or whatever the thoughts of death may be and how we and our culture deals with death.
URL:https://ldvcoffeeshop.com/event/death-cafe-3/
END:VEVENT
BEGIN:VEVENT
DTSTART;TZID=America/Denver:20250413T133000
DTEND;TZID=America/Denver:20250413T153000
DTSTAMP:20260425T094153
CREATED:20250312T232504Z
LAST-MODIFIED:20250312T232504Z
UID:7929-1744551000-1744558200@ldvcoffeeshop.com
SUMMARY:DAM Jam
DESCRIPTION:The format will be everyone gets to lead a song and we will go around to each person\, also maybe passing a mic\, but no plug-in otherwise. All folk style instruments are welcome. Get your folk music lists ready and we will try to keep the era of music to 70’s and older but most songs are welcome\, even acoustic versions of newer material. All levels of play are welcome (try to keep with the chords/notes/rhythm of the songs. Performance songs are also welcome.\nIf you do not have an acoustic instrument we might have an extra. Message the host for more info.\nPlease remember we will have two hours to play so try to keep the song breaks to a minimum. This is inside to keep in mind there will be limited space but no limit on players.\nLet’s also support La Dolce Vita and get lunch\, snacks\, drinks\, or deserts and of course coffee (mmmm so good).\nLet’s all have fun and DAM JAM!!!
URL:https://ldvcoffeeshop.com/event/dam-jam-11/
CATEGORIES:Music
END:VEVENT
BEGIN:VEVENT
DTSTART;TZID=America/Denver:20250419T190000
DTEND;TZID=America/Denver:20250419T220000
DTSTAMP:20260425T094153
CREATED:20241220T025451Z
LAST-MODIFIED:20241220T025451Z
UID:7881-1745089200-1745100000@ldvcoffeeshop.com
SUMMARY:Open Mic
DESCRIPTION:Become part of the the La Dolce Vita performing community! Join us for an open mic. on the first and third Saturday of the month between 7:00 and 10:00 PM. Bring your instrument\, voice\, your poetry or comedy routine (keep it clean) and we’ll provide the PA\, a very welcoming and supportive audience and of course\, great coffee\, teas\, pastries and sandwiches.  Signup at 6:00 PM. If you have a mic please bring that. Don’t play? Bring your friends and hang out. We can promise great music\, great food and a great time
URL:https://ldvcoffeeshop.com/event/open-mic-66/
CATEGORIES:Open Mic
END:VEVENT
BEGIN:VEVENT
DTSTART;TZID=America/Denver:20250420T100000
DTEND;TZID=America/Denver:20250420T130000
DTSTAMP:20260425T094153
CREATED:20241220T022636Z
LAST-MODIFIED:20241220T022636Z
UID:7852-1745143200-1745154000@ldvcoffeeshop.com
SUMMARY:Soda Blue
DESCRIPTION:Soda Blue is a dynamic duet comprised of partners Alice Frish and David Fermanich. Friends for over 30 years\, Alice and Dave share a chemistry that comes across well on stage. Technically a ‘cover’ musical act with a focus on high energy pop and smokey R&B\, their joking and overall sense of fun turns their show into something more than just music.
URL:https://ldvcoffeeshop.com/event/soda-blue-55/
CATEGORIES:Music
END:VEVENT
BEGIN:VEVENT
DTSTART;TZID=America/Denver:20250425T190000
DTEND;TZID=America/Denver:20250425T210000
DTSTAMP:20260425T094153
CREATED:20250418T011130Z
LAST-MODIFIED:20250418T011130Z
UID:7946-1745607600-1745614800@ldvcoffeeshop.com
SUMMARY:Carcaroth
DESCRIPTION:Carcaroth is a six-piece band ready to bring the heat with an explosive live performance. Comprised of AJ\, Hunter\, Stephen\, Caden\, Michiya\, and Bishop\, the band delivers a powerful mix of intense renditions of classic rock and metal covers. Known for their high-energy stage presence and raw sound\, Carcaroth is sure to rock the crowd with a set that’ll leave you wanting more. Don’t miss this one-night-only show—Carcaroth is here to deliver a performance you won’t forget! \n“I am Bishop and I am in 4th grade. I’m excited to be doing rock band this session. My favorite songs are Tool\, Weezer\, and Perfect Circle.” – Bishop \n“Michiya is a guitarist who has been playing for just over a year. His musical interests lean toward heavy\, complex bands such as Too\, Slipknot\, Korn\, and Deftones.” – Michiya
URL:https://ldvcoffeeshop.com/event/carcaroth/
CATEGORIES:Music
END:VEVENT
BEGIN:VEVENT
DTSTART;TZID=America/Denver:20250426T190000
DTEND;TZID=America/Denver:20250426T220000
DTSTAMP:20260425T094153
CREATED:20250405T201219Z
LAST-MODIFIED:20250405T201219Z
UID:7936-1745694000-1745704800@ldvcoffeeshop.com
SUMMARY:Mike McNeil
DESCRIPTION:Come and listen to some great music
URL:https://ldvcoffeeshop.com/event/mike-mcneil-4/
CATEGORIES:Music
END:VEVENT
BEGIN:VEVENT
DTSTART;TZID=America/Denver:20250427T100000
DTEND;TZID=America/Denver:20250427T130000
DTSTAMP:20260425T094153
CREATED:20241220T024417Z
LAST-MODIFIED:20241220T024417Z
UID:7865-1745748000-1745758800@ldvcoffeeshop.com
SUMMARY:Be Be
DESCRIPTION:Be Be\, a Colorado song writer / musician\, performs at the Arvada coffee shop La Dolche Vita on the 4th Sunday of each month. Whereas\, she used to play the Banjo with Moses Walker in this time slot\, she now gets to play guitar and sing a myriad of songs she’s written over the past several decades. “I get to play my favorite songs from 10 am till 1 pm\, and when that time is up I still haven’t played all the songs I’ve written.”If you were to take the following songwriters and blend them all together you would get to hear the type of music that Be writes. James Taylor\, Joni Mitchell\, Justin Hayward\, Dolly Parton\, Paul McCartney\, Jessie Colin Young\, Neil Young\, Gordon Lightfoot and many more. These are songs that never have been produced and are for a future generation.Periodically Be also integrates her sets with recordings of Moses and plays Banjo in memory of him. Although an accomplished musician she is also the author of\, The Be Attitudes\, A Woman’s View of The Prophet by Kahlil Gibran and her latest book called The Great Urantia Agreement which highlights an important quote from the URANTIA Book.Be\, a Vietnam Navy Veteran is also a Doctor of Divinity is and an ordained minister through the Church of the Universal Light. She has read the URANTIA Book page by page and cover to cover 10 times and if you know anything about the URANTIA Book you’ll know that is quite an amazing feat.Be Be is the inventor and manufacturer of the Suspendulum®\, an Aerial Dance Tripod which affords aerial dancers all over the world to perform their silk dancing while hanging from the Suspendulum®. The rig is in over 22 countries.Please come out to enjoy some very beautiful and meaningful songs as well as musical poetry which stimulate the imagination
URL:https://ldvcoffeeshop.com/event/be-be-15/
CATEGORIES:Music
END:VEVENT
BEGIN:VEVENT
DTSTART;TZID=America/Denver:20250427T133000
DTEND;TZID=America/Denver:20250427T153000
DTSTAMP:20260425T094153
CREATED:20250312T232623Z
LAST-MODIFIED:20250312T232623Z
UID:7931-1745760600-1745767800@ldvcoffeeshop.com
SUMMARY:DAM Jam
DESCRIPTION:The format will be everyone gets to lead a song and we will go around to each person\, also maybe passing a mic\, but no plug-in otherwise. All folk style instruments are welcome. Get your folk music lists ready and we will try to keep the era of music to 70’s and older but most songs are welcome\, even acoustic versions of newer material. All levels of play are welcome (try to keep with the chords/notes/rhythm of the songs. Performance songs are also welcome.\nIf you do not have an acoustic instrument we might have an extra. Message the host for more info.\nPlease remember we will have two hours to play so try to keep the song breaks to a minimum. This is inside to keep in mind there will be limited space but no limit on players.\nLet’s also support La Dolce Vita and get lunch\, snacks\, drinks\, or deserts and of course coffee (mmmm so good).\nLet’s all have fun and DAM JAM!!!
URL:https://ldvcoffeeshop.com/event/dam-jam-12/
CATEGORIES:Music
END:VEVENT
END:VCALENDAR