BEGIN:VCALENDAR
VERSION:2.0
PRODID:-//La Dolce Vita - ECPv6.13.2.1//NONSGML v1.0//EN
CALSCALE:GREGORIAN
METHOD:PUBLISH
X-WR-CALNAME:La Dolce Vita
X-ORIGINAL-URL:https://ldvcoffeeshop.com
X-WR-CALDESC:Events for La Dolce Vita
REFRESH-INTERVAL;VALUE=DURATION:PT1H
X-Robots-Tag:noindex
X-PUBLISHED-TTL:PT1H
BEGIN:VTIMEZONE
TZID:America/Denver
BEGIN:DAYLIGHT
TZOFFSETFROM:-0700
TZOFFSETTO:-0600
TZNAME:MDT
DTSTART:20260308T090000
END:DAYLIGHT
BEGIN:STANDARD
TZOFFSETFROM:-0600
TZOFFSETTO:-0700
TZNAME:MST
DTSTART:20261101T080000
END:STANDARD
END:VTIMEZONE
BEGIN:VEVENT
DTSTART;TZID=America/Denver:20260801T190000
DTEND;TZID=America/Denver:20260801T220000
DTSTAMP:20260424T154241
CREATED:20260421T210958Z
LAST-MODIFIED:20260421T210958Z
UID:8272-1785610800-1785621600@ldvcoffeeshop.com
SUMMARY:Open Mic
DESCRIPTION:Become part of the La Dolce Vita performing community! Join us for open mic. on the first and third Saturday of the month between 7:00 and 10:00 PM. Bring your instrument\, voice\, your poetry or comedy routine (keep it clean) and we’ll provide the PA\, a very welcoming and supportive audience and of course\, great coffee\, teas\, pastries and sandwiches. Signup at 6:00 PM. Don’t play? Bring your friends and hang out. We can promise great music\, great entertainment\, great food and a great time
URL:https://ldvcoffeeshop.com/event/open-mic-97/
CATEGORIES:Music,Open Mic
END:VEVENT
BEGIN:VEVENT
DTSTART;TZID=America/Denver:20260802T100000
DTEND;TZID=America/Denver:20260802T130000
DTSTAMP:20260424T154241
CREATED:20260421T215117Z
LAST-MODIFIED:20260421T215117Z
UID:8296-1785664800-1785675600@ldvcoffeeshop.com
SUMMARY:BlueCana Roberta Holbrook
DESCRIPTION:Roberta Holbrook followed her music dream early with a successful career on the road singing and playing in clubs. She is pleased once again to be focusing on playing music full-time. Together with sweet harmonies\, guitars\, and keyboards. Roberta keeps the audience engaged as she performs a variety of songs that include Americana\, Blues\, Folk\, Classic Rock and more. Roberta agrees that the Denver area has a strong family of welcoming\, generous\, supportive and talented musicians and is grateful for the sense of community she has found here
URL:https://ldvcoffeeshop.com/event/bluecana-roberta-holbrook-22/
CATEGORIES:Music
END:VEVENT
BEGIN:VEVENT
DTSTART;TZID=America/Denver:20260802T140000
DTEND;TZID=America/Denver:20260802T160000
DTSTAMP:20260424T154241
CREATED:20260421T174617Z
LAST-MODIFIED:20260421T174617Z
UID:8242-1785679200-1785686400@ldvcoffeeshop.com
SUMMARY:Dam Jam
DESCRIPTION:The format will be everyone gets to lead a song and we will go around to each person\, also maybe passing a mic\, but no plug-in otherwise. All folk style instruments are welcome. Get your folk music lists ready and we will try to keep the era of music to 70’s and older but most songs are welcome\, even acoustic versions of newer material. All levels of play are welcome (try to keep with the chords/notes/rhythm of the songs. Performance songs are also welcome.If you do not have an acoustic instrument we might have an extra. Message the host for more info.Please remember we will have two hours to play so try to keep the song breaks to a minimum. This is inside to keep in mind there will be limited space but no limit on players.Let’s also support La Dolce Vita and get lunch\, snacks\, drinks\, or deserts and of course coffee (mmmm so good).Let’s all have fun and DAM JAM!!!
URL:https://ldvcoffeeshop.com/event/dam-jam-32/
CATEGORIES:Music
END:VEVENT
BEGIN:VEVENT
DTSTART;TZID=America/Denver:20260809T100000
DTEND;TZID=America/Denver:20260809T130000
DTSTAMP:20260424T154241
CREATED:20260422T005516Z
LAST-MODIFIED:20260422T005516Z
UID:8302-1786269600-1786280400@ldvcoffeeshop.com
SUMMARY:Cellist Monica Sales-Council
DESCRIPTION:
URL:https://ldvcoffeeshop.com/event/cellist-monica-sales-council-48/
CATEGORIES:Music
END:VEVENT
BEGIN:VEVENT
DTSTART;TZID=America/Denver:20260815T190000
DTEND;TZID=America/Denver:20260815T220000
DTSTAMP:20260424T154241
CREATED:20260421T211140Z
LAST-MODIFIED:20260422T015443Z
UID:8274-1786820400-1786831200@ldvcoffeeshop.com
SUMMARY:Open Mic
DESCRIPTION:Become part of the La Dolce Vita performing community! Join us for open mic. on the first and third Saturday of the month between 7:00 and 10:00 PM. Bring your instrument\, voice\, your poetry or comedy routine (keep it clean) and we’ll provide the PA\, a very welcoming and supportive audience and of course\, great coffee\, teas\, pastries and sandwiches. Signup at 6:00 PM. Don’t play? Bring your friends and hang out. We can promise great music\, great entertainment\, great food and a great time
URL:https://ldvcoffeeshop.com/event/open-mic-98/
CATEGORIES:Music,Open Mic
END:VEVENT
BEGIN:VEVENT
DTSTART;TZID=America/Denver:20260816T100000
DTEND;TZID=America/Denver:20260816T130000
DTSTAMP:20260424T154241
CREATED:20260422T010206Z
LAST-MODIFIED:20260422T010206Z
UID:8314-1786874400-1786885200@ldvcoffeeshop.com
SUMMARY:Soda Blue
DESCRIPTION:Soda Blue is a dynamic duet comprised of partners Alice Frish and David Fermanich. Friends for over 30 years\, Alice and Dave share a chemistry that comes across well on stage. Technically a ‘cover’ musical act with a focus on high energy pop and smokey R&B\, their joking and overall sense of fun turns their show into something more than just music.
URL:https://ldvcoffeeshop.com/event/soda-blue-73/
CATEGORIES:Music
END:VEVENT
BEGIN:VEVENT
DTSTART;TZID=America/Denver:20260816T140000
DTEND;TZID=America/Denver:20260816T220000
DTSTAMP:20260424T154241
CREATED:20260421T174731Z
LAST-MODIFIED:20260421T174731Z
UID:8244-1786888800-1786917600@ldvcoffeeshop.com
SUMMARY:Dam Jam
DESCRIPTION:The format will be everyone gets to lead a song and we will go around to each person\, also maybe passing a mic\, but no plug-in otherwise. All folk style instruments are welcome. Get your folk music lists ready and we will try to keep the era of music to 70’s and older but most songs are welcome\, even acoustic versions of newer material. All levels of play are welcome (try to keep with the chords/notes/rhythm of the songs. Performance songs are also welcome.If you do not have an acoustic instrument we might have an extra. Message the host for more info.Please remember we will have two hours to play so try to keep the song breaks to a minimum. This is inside to keep in mind there will be limited space but no limit on players.Let’s also support La Dolce Vita and get lunch\, snacks\, drinks\, or deserts and of course coffee (mmmm so good).Let’s all have fun and DAM JAM!!!
URL:https://ldvcoffeeshop.com/event/dam-jam-33/
CATEGORIES:Music
END:VEVENT
BEGIN:VEVENT
DTSTART;TZID=America/Denver:20260823T100000
DTEND;TZID=America/Denver:20260823T130000
DTSTAMP:20260424T154241
CREATED:20260422T011246Z
LAST-MODIFIED:20260422T011246Z
UID:8326-1787479200-1787490000@ldvcoffeeshop.com
SUMMARY:Be Be
DESCRIPTION:Be Be\, a Colorado song writer / musician\, performs at the Arvada coffee shop La Dolce Vita on the 4th Sunday of each month. Whereas\, she used to play the Banjo with Moses Walker in this time slot\, she now gets to play guitar and sing a myriad of songs she’s written over the past several decades. “I get to play my favorite songs from 10 am till 1 pm\, and when that time is up I still haven’t played all the songs I’ve written.”If you were to take the following songwriters and blend them all together you would get to hear the type of music that Be Be writes. James Taylor\, Joni Mitchell\, Justin Hayward\, Dolly Parton\, Paul McCartney\, Jessie Colin Young\, Neil Young\, Gordon Lightfoot and many more. These are songs that never have been produced and are for a future generation.Although an accomplished musician she is also the author of\, The Be Attitudes\, A Woman’s View of The Prophet by Kahlil Gibran and her latest book called The Great Urantia Agreement which highlights an important quote from the URANTIA Book.Be Be\, a Vietnam Navy Veteran is also a Doctor of Divinity and an ordained minister through the Church of the Universal Light. She has read the URANTIA Book page by page and cover to cover 10 times and if you know anything about the URANTIA Book you’ll know that is quite an amazing feat.Be Be is the inventor and manufacturer of the Suspendulum®\, an Aerial Dance Tripod which affords aerial dancers all over the world to perform their silk dancing while hanging from the Suspendulum®. The rig is in over 22 countries.Please come out to enjoy some very beautiful and meaningful songs as well as musical poetry which stimulate the imagination.
URL:https://ldvcoffeeshop.com/event/be-be-31/
CATEGORIES:Music
END:VEVENT
BEGIN:VEVENT
DTSTART;TZID=America/Denver:20260830T100000
DTEND;TZID=America/Denver:20260830T130000
DTSTAMP:20260424T154241
CREATED:20260422T013305Z
LAST-MODIFIED:20260422T013305Z
UID:8336-1788084000-1788094800@ldvcoffeeshop.com
SUMMARY:Ted Ciszek
DESCRIPTION:Ted Ciszek retired in 2003 from the National Renewable Energy laboratory where he was Principal Scientist and a physicist since its inception in 1978. Music has been a major sideline interest for him going back to the 1960’s. He has performed as a guitarist/vocalist at a number of venues in the foothills around Evergreen\, both solo and in several groups. His unique vocal and guitar repertoire is an eclectic mix of your favorite songs from classic rock\, pop\, old favorites\, folk\, country as well as originals. A partial play list and some sound clips can be found on the music page of\nhttp://ted-ciszek.com/
URL:https://ldvcoffeeshop.com/event/ted-ciszek-8/
CATEGORIES:Music
END:VEVENT
BEGIN:VEVENT
DTSTART;TZID=America/Denver:20260830T140000
DTEND;TZID=America/Denver:20260830T160000
DTSTAMP:20260424T154241
CREATED:20260421T174844Z
LAST-MODIFIED:20260421T174844Z
UID:8246-1788098400-1788105600@ldvcoffeeshop.com
SUMMARY:Dam Jam
DESCRIPTION:The format will be everyone gets to lead a song and we will go around to each person\, also maybe passing a mic\, but no plug-in otherwise. All folk style instruments are welcome. Get your folk music lists ready and we will try to keep the era of music to 70’s and older but most songs are welcome\, even acoustic versions of newer material. All levels of play are welcome (try to keep with the chords/notes/rhythm of the songs. Performance songs are also welcome.If you do not have an acoustic instrument we might have an extra. Message the host for more info.Please remember we will have two hours to play so try to keep the song breaks to a minimum. This is inside to keep in mind there will be limited space but no limit on players.Let’s also support La Dolce Vita and get lunch\, snacks\, drinks\, or deserts and of course coffee (mmmm so good).Let’s all have fun and DAM JAM!!!
URL:https://ldvcoffeeshop.com/event/dam-jam-34/
CATEGORIES:Music
END:VEVENT
END:VCALENDAR