BEGIN:VCALENDAR
VERSION:2.0
PRODID:-//La Dolce Vita - ECPv6.13.2.1//NONSGML v1.0//EN
CALSCALE:GREGORIAN
METHOD:PUBLISH
X-WR-CALNAME:La Dolce Vita
X-ORIGINAL-URL:https://ldvcoffeeshop.com
X-WR-CALDESC:Events for La Dolce Vita
REFRESH-INTERVAL;VALUE=DURATION:PT1H
X-Robots-Tag:noindex
X-PUBLISHED-TTL:PT1H
BEGIN:VTIMEZONE
TZID:America/Denver
BEGIN:DAYLIGHT
TZOFFSETFROM:-0700
TZOFFSETTO:-0600
TZNAME:MDT
DTSTART:20250309T090000
END:DAYLIGHT
BEGIN:STANDARD
TZOFFSETFROM:-0600
TZOFFSETTO:-0700
TZNAME:MST
DTSTART:20251102T080000
END:STANDARD
END:VTIMEZONE
BEGIN:VEVENT
DTSTART;TZID=America/Denver:20250531T190000
DTEND;TZID=America/Denver:20250531T220000
DTSTAMP:20260425T094532
CREATED:20250514T194033Z
LAST-MODIFIED:20250514T194033Z
UID:7964-1748718000-1748728800@ldvcoffeeshop.com
SUMMARY:Fae Wiedenhoeft and Pennies on the Track
DESCRIPTION:Join local favorites\, Pennies on the Track\, for a small band reunion\, featuring the original lineup of PENNIES on the TRACKincluding Arvada’s own Neil Sperandeo at 7pm. facebook.com/penniesonthetrack\nAt 8pm\, join award winning\, singer songwriter Fae Wiedenhoeft\, from Seattle\, WA\, for a collection of Celtic\, Folk\, Maritime\, and Americana music. facebook.com/faesings\nBy Donation\nSupport your local coffee shops and artists!
URL:https://ldvcoffeeshop.com/event/fae-wiedenhoeft-and-pennies-on-the-track/
CATEGORIES:Music
END:VEVENT
END:VCALENDAR