BEGIN:VCALENDAR
VERSION:2.0
PRODID:-//La Dolce Vita - ECPv6.13.2.1//NONSGML v1.0//EN
CALSCALE:GREGORIAN
METHOD:PUBLISH
X-ORIGINAL-URL:https://ldvcoffeeshop.com
X-WR-CALDESC:Events for La Dolce Vita
REFRESH-INTERVAL;VALUE=DURATION:PT1H
X-Robots-Tag:noindex
X-PUBLISHED-TTL:PT1H
BEGIN:VTIMEZONE
TZID:America/Denver
BEGIN:DAYLIGHT
TZOFFSETFROM:-0700
TZOFFSETTO:-0600
TZNAME:MDT
DTSTART:20250309T090000
END:DAYLIGHT
BEGIN:STANDARD
TZOFFSETFROM:-0600
TZOFFSETTO:-0700
TZNAME:MST
DTSTART:20251102T080000
END:STANDARD
END:VTIMEZONE
BEGIN:VEVENT
DTSTART;TZID=America/Denver:20250712T190000
DTEND;TZID=America/Denver:20250712T220000
DTSTAMP:20260425T041837
CREATED:20250529T001200Z
LAST-MODIFIED:20250529T001200Z
UID:7967-1752346800-1752357600@ldvcoffeeshop.com
SUMMARY:Pennies on the Track
DESCRIPTION:Genres: Americana\, Folk\, Bluegrass\, Country\nIf you like…CSN\, Steeldrivers\, The Band\, Gillian Welch Pennies on the Track delivers rich vocal harmony and heartfelt songwriting with a dynamic mix of covers and original music. Whether\nperforming\, Denver\, the Pacific Northwest\, the Great Lakes\, or beyond\, this acoustic trio makes its home on Colorado’s Front Range. Pennies music fits nicely around campfires\, in breweries\, on festival stages and amphitheaters\, offering songs to put a smile on your lips.\nThe Pennies are Brian Good\, Jack Keith\, and Alex Harrison – three singer songwriters who share a passion for making music together. Occasionally joined by Morgan Carlson on violin\, their joy reaches out to every listener.\nTheir debut full-length album\, TWENTY\, was recorded at The Spot Studios in Evergreen\, CO\, and released in 2020…yeah\, you remember that year. The record is a snapshot of the original trio (with Neil Sperandeo)\, showcasing the band’s range from reflective ballads to barn-burning\nbluegrass. Highlight tracks:\n1. Weigh Heavy On 4.15 (radio edit available)\n7. Take Me Back to Colorado 2:55\n8. No Regrets 4:03 \nSelected Colorado Bookings in 2025\n4.6 Green Mtn Beer Company\, Lakewood\n5.3 Ophelia’s Electric Soapbox\, Denver\n5.24 Denver Arts Festival\, Stapleton\n6.14 Partners for Youth Festival\, Craig\n7.12 La Dolce Vita\, Arvada\n7.30 Sounds Exciting! Concert Series\, Lakewood\nContact penniesonthetrack@gmail.com Jack @ 303.704.2619
URL:https://ldvcoffeeshop.com/event/pennies-on-the-track-6/
CATEGORIES:Music
END:VEVENT
END:VCALENDAR