BEGIN:VCALENDAR
VERSION:2.0
PRODID:-//La Dolce Vita - ECPv6.13.2.1//NONSGML v1.0//EN
CALSCALE:GREGORIAN
METHOD:PUBLISH
X-ORIGINAL-URL:https://ldvcoffeeshop.com
X-WR-CALDESC:Events for La Dolce Vita
REFRESH-INTERVAL;VALUE=DURATION:PT1H
X-Robots-Tag:noindex
X-PUBLISHED-TTL:PT1H
BEGIN:VTIMEZONE
TZID:America/Denver
BEGIN:DAYLIGHT
TZOFFSETFROM:-0700
TZOFFSETTO:-0600
TZNAME:MDT
DTSTART:20250309T090000
END:DAYLIGHT
BEGIN:STANDARD
TZOFFSETFROM:-0600
TZOFFSETTO:-0700
TZNAME:MST
DTSTART:20251102T080000
END:STANDARD
END:VTIMEZONE
BEGIN:VEVENT
DTSTART;TZID=America/Denver:20250726T190000
DTEND;TZID=America/Denver:20250726T220000
DTSTAMP:20260425T041837
CREATED:20250405T204027Z
LAST-MODIFIED:20250529T000447Z
UID:7943-1753556400-1753567200@ldvcoffeeshop.com
SUMMARY:Patty Jackson
DESCRIPTION:Patty Jackson’s angelic voice\, her stunning finger style guitar licks\, the sweet sound of her ukulele\, and the funked-up chords of her minty green baritone guitar. Patty’s musical style is a unique fusion of folk\, rock\, and country with a touch of jazz. Born in central New York\, Patty was given some Joan Baez tickets when she was 15 years old\, and that changed the trajectory of her life. She was bitten by the music bug and over the years she formed several bands\, cutting her teeth on bar gigs. She soon started playing the college circuit\, folk clubs\, and coffeehouses in New England and New York with her band\, Wildfire. In addition to performing around town\, the band also played for Hillary Clinton during her run for senator from New York. In 2004\, Patty moved to Colorado and joined Resonance\, The Women’s Chorus of Boulder. There she met bandmates who formed the group\,
URL:https://ldvcoffeeshop.com/event/patty-jackson-17/
CATEGORIES:Music
END:VEVENT
END:VCALENDAR