BEGIN:VCALENDAR
VERSION:2.0
PRODID:-//La Dolce Vita - ECPv6.13.2.1//NONSGML v1.0//EN
CALSCALE:GREGORIAN
METHOD:PUBLISH
X-WR-CALNAME:La Dolce Vita
X-ORIGINAL-URL:https://ldvcoffeeshop.com
X-WR-CALDESC:Events for La Dolce Vita
REFRESH-INTERVAL;VALUE=DURATION:PT1H
X-Robots-Tag:noindex
X-PUBLISHED-TTL:PT1H
BEGIN:VTIMEZONE
TZID:America/Denver
BEGIN:DAYLIGHT
TZOFFSETFROM:-0700
TZOFFSETTO:-0600
TZNAME:MDT
DTSTART:20250309T090000
END:DAYLIGHT
BEGIN:STANDARD
TZOFFSETFROM:-0600
TZOFFSETTO:-0700
TZNAME:MST
DTSTART:20251102T080000
END:STANDARD
END:VTIMEZONE
BEGIN:VEVENT
DTSTART;TZID=America/Denver:20251122T190000
DTEND;TZID=America/Denver:20251122T220000
DTSTAMP:20260424T210911
CREATED:20251114T044012Z
LAST-MODIFIED:20251114T044012Z
UID:8107-1763838000-1763848800@ldvcoffeeshop.com
SUMMARY:Sky on Fire
DESCRIPTION:Karl Gerkin and his son Kellen frequent the La Dolce Vita open mics and Karl is faithful to give us some awesome sound production once or twice a month. His playing and singing is top notch with many songs from the 60s through ’80s and some Originals. \nKellen plays the piano and sings many of his Originals and other well known Tunes. \nStan Huston\, a Colorado Native\, (endangered species)\, frequents the open mics and plays a variety of his own Country/ Hillbilly Tunes and many from Bob Dylan\, and other Jazz rock and rock and roll Tunes from his past with musicians and recording artists in California Oregon and Colorado. Much of his repertoire is faith-based in contemporary Christian music\, ranging from Bob Dylan\, Tim Kohler\, Phil Keaggy\, and Peter Wirts. He might even throw out a Beatles or Zombies tune for fun! \nEJ Bisiar\, an Evergreen resident has many CDs that he gets royalties off of around the world and is promoting his Christmas tune: “Snowflake” through hundreds of radio stations around the country this year. He once opened for the Grateful Dead at the Fillmore in San Francisco before he even knew who they were. His friend asked where he was going with his guitar and he said “I just played the Fillmore!” His friend said\, “The Grateful Dead are playing there tonight!” EJ said who are they?  He brings a variety of music ranging from his fun children’s songs like “Eewy Gooey”\, as Eddie Spaghetti\, and some beautiful heartfelt originals from his “Evergreen Trail” CD recorded right here at Evergroove Studios near Evergreen Colorado!
URL:https://ldvcoffeeshop.com/event/sky-on-fire/
CATEGORIES:Music
END:VEVENT
END:VCALENDAR