BEGIN:VCALENDAR
VERSION:2.0
PRODID:-//La Dolce Vita - ECPv6.13.2.1//NONSGML v1.0//EN
CALSCALE:GREGORIAN
METHOD:PUBLISH
X-ORIGINAL-URL:https://ldvcoffeeshop.com
X-WR-CALDESC:Events for La Dolce Vita
REFRESH-INTERVAL;VALUE=DURATION:PT1H
X-Robots-Tag:noindex
X-PUBLISHED-TTL:PT1H
BEGIN:VTIMEZONE
TZID:America/Denver
BEGIN:DAYLIGHT
TZOFFSETFROM:-0700
TZOFFSETTO:-0600
TZNAME:MDT
DTSTART:20250309T090000
END:DAYLIGHT
BEGIN:STANDARD
TZOFFSETFROM:-0600
TZOFFSETTO:-0700
TZNAME:MST
DTSTART:20251102T080000
END:STANDARD
END:VTIMEZONE
BEGIN:VEVENT
DTSTART;TZID=America/Denver:20250413T100000
DTEND;TZID=America/Denver:20250413T130000
DTSTAMP:20260425T070937
CREATED:20241220T021518Z
LAST-MODIFIED:20241220T021518Z
UID:7838-1744538400-1744549200@ldvcoffeeshop.com
SUMMARY:Cellist Monica Sales Council
DESCRIPTION:
URL:https://ldvcoffeeshop.com/event/cellist-monica-sales-council-32/
CATEGORIES:Music
END:VEVENT
BEGIN:VEVENT
DTSTART;TZID=America/Denver:20250413T133000
DTEND;TZID=America/Denver:20250413T153000
DTSTAMP:20260425T070937
CREATED:20250312T232504Z
LAST-MODIFIED:20250312T232504Z
UID:7929-1744551000-1744558200@ldvcoffeeshop.com
SUMMARY:DAM Jam
DESCRIPTION:The format will be everyone gets to lead a song and we will go around to each person\, also maybe passing a mic\, but no plug-in otherwise. All folk style instruments are welcome. Get your folk music lists ready and we will try to keep the era of music to 70’s and older but most songs are welcome\, even acoustic versions of newer material. All levels of play are welcome (try to keep with the chords/notes/rhythm of the songs. Performance songs are also welcome.\nIf you do not have an acoustic instrument we might have an extra. Message the host for more info.\nPlease remember we will have two hours to play so try to keep the song breaks to a minimum. This is inside to keep in mind there will be limited space but no limit on players.\nLet’s also support La Dolce Vita and get lunch\, snacks\, drinks\, or deserts and of course coffee (mmmm so good).\nLet’s all have fun and DAM JAM!!!
URL:https://ldvcoffeeshop.com/event/dam-jam-11/
CATEGORIES:Music
END:VEVENT
END:VCALENDAR