BEGIN:VCALENDAR
VERSION:2.0
PRODID:-//La Dolce Vita - ECPv6.13.2.1//NONSGML v1.0//EN
CALSCALE:GREGORIAN
METHOD:PUBLISH
X-WR-CALNAME:La Dolce Vita
X-ORIGINAL-URL:https://ldvcoffeeshop.com
X-WR-CALDESC:Events for La Dolce Vita
REFRESH-INTERVAL;VALUE=DURATION:PT1H
X-Robots-Tag:noindex
X-PUBLISHED-TTL:PT1H
BEGIN:VTIMEZONE
TZID:America/Denver
BEGIN:DAYLIGHT
TZOFFSETFROM:-0700
TZOFFSETTO:-0600
TZNAME:MDT
DTSTART:20240310T090000
END:DAYLIGHT
BEGIN:STANDARD
TZOFFSETFROM:-0600
TZOFFSETTO:-0700
TZNAME:MST
DTSTART:20241103T080000
END:STANDARD
END:VTIMEZONE
BEGIN:VEVENT
DTSTART;TZID=America/Denver:20241102T190000
DTEND;TZID=America/Denver:20241102T220000
DTSTAMP:20260425T133441
CREATED:20240529T204845Z
LAST-MODIFIED:20240529T204845Z
UID:7730-1730574000-1730584800@ldvcoffeeshop.com
SUMMARY:Open Mic
DESCRIPTION:Become part of the the La Dolce Vita performing community! Join us for an open mic. on the first and third Saturday of the month between 7:00 and 10:00 PM. Bring your instrument\, voice\, your poetry or comedy routine (keep it clean) and we’ll provide the PA\, a very welcoming and supportive audience and of course\, great coffee\, teas\, pastries and sandwiches. This is a also great way to audition for future bookings. Signup at 6:00 PM. If you have a mic please bring that.\nDon’t play? Bring your friends and hang out. We can promise great music\, great food and a great time
URL:https://ldvcoffeeshop.com/event/open-mic-56/
CATEGORIES:Open Mic
END:VEVENT
BEGIN:VEVENT
DTSTART;TZID=America/Denver:20241103T100000
DTEND;TZID=America/Denver:20241103T130000
DTSTAMP:20260425T133441
CREATED:20240529T210048Z
LAST-MODIFIED:20240529T210048Z
UID:7744-1730628000-1730638800@ldvcoffeeshop.com
SUMMARY:Blue Cana Roberta Holbrook
DESCRIPTION:Roberta Holbrook followed her music dream early with a successful career on the road singing and playing in clubs. She is pleased once again to be focusing on playing music full-time. Together with sweet harmonies\, guitars\, and keyboards. Roberta keeps the audience engaged as she performs a variety of songs that include Americana\, Blues\, Folk\, Classic Rock and more. Roberta agrees that the Denver area has a strong family of welcoming\, generous\, supportive and talented musicians and is grateful for the sense of community she has found here.
URL:https://ldvcoffeeshop.com/event/blue-cana-roberta-holbrook-4/
CATEGORIES:Music
END:VEVENT
BEGIN:VEVENT
DTSTART;TZID=America/Denver:20241109T190000
DTEND;TZID=America/Denver:20241109T220000
DTSTAMP:20260425T133441
CREATED:20241101T012558Z
LAST-MODIFIED:20241101T012558Z
UID:7797-1731178800-1731189600@ldvcoffeeshop.com
SUMMARY:Bakin Bits
DESCRIPTION:Bakin Bits is an indie pop-n-rock band based out of Denver and Boulder\, CO\, featuring Andrew Baker on vocals and guitar with Joel Shumake on drums. Started in April 2022 as a solo project under Baker\, the project grew to include Shumake in January 2024. They bring a high energy to all of their shows with their playstyle and original tunes\, showcasing a love of the indie genre and emulating the high energy aura of the bands that influence their style of sound. Their songwriting is grounded in accessibility\, taking you through easy-to-follow journeys against the back beat of pop-rock progressions. \nInspirations for the band\, which serve as recommended artists as well\, include: Big Thief\, Christian Lee Hutson\, Cloud Nothings\, Death Cab for Cutie\, Futurebirds\, Hovvdy\, Kishi Bashi\, Led Zeppelin\, Phoebe Bridgers\, Slow Pulp\, The Doors\, The Guess Who\, The Nude Party\, The Shins\, and Waxahatchee.
URL:https://ldvcoffeeshop.com/event/bakin-bits/
CATEGORIES:Music
END:VEVENT
BEGIN:VEVENT
DTSTART;TZID=America/Denver:20241110T100000
DTEND;TZID=America/Denver:20241110T130000
DTSTAMP:20260425T133441
CREATED:20240529T210654Z
LAST-MODIFIED:20240529T210654Z
UID:7754-1731232800-1731243600@ldvcoffeeshop.com
SUMMARY:Cellist Monica Sales Council
DESCRIPTION:
URL:https://ldvcoffeeshop.com/event/cellist-monica-sales-council-27/
CATEGORIES:Music
END:VEVENT
BEGIN:VEVENT
DTSTART;TZID=America/Denver:20241116T190000
DTEND;TZID=America/Denver:20241116T220000
DTSTAMP:20260425T133441
CREATED:20240529T205008Z
LAST-MODIFIED:20240529T205008Z
UID:7732-1731783600-1731794400@ldvcoffeeshop.com
SUMMARY:Open Mic
DESCRIPTION:Become part of the the La Dolce Vita performing community! Join us for an open mic. on the first and third Saturday of the month between 7:00 and 10:00 PM. Bring your instrument\, voice\, your poetry or comedy routine (keep it clean) and we’ll provide the PA\, a very welcoming and supportive audience and of course\, great coffee\, teas\, pastries and sandwiches. This is a also great way to audition for future bookings. Signup at 6:00 PM. If you have a mic please bring that.\nDon’t play? Bring your friends and hang out. We can promise great music\, great food and a great time
URL:https://ldvcoffeeshop.com/event/open-mic-57/
CATEGORIES:Open Mic
END:VEVENT
BEGIN:VEVENT
DTSTART;TZID=America/Denver:20241117T100000
DTEND;TZID=America/Denver:20241117T130000
DTSTAMP:20260425T133441
CREATED:20240529T213331Z
LAST-MODIFIED:20240529T213331Z
UID:7764-1731837600-1731848400@ldvcoffeeshop.com
SUMMARY:Soda Blue
DESCRIPTION:Soda Blue is a dynamic duet comprised of partners Alice Frish and David Fermanich. Friends for over 30 years\, Alice and Dave share a chemistry that comes across well on stage. Technically a ‘cover’ musical act with a focus on high energy pop and smokey R&B\, their joking and overall sense of fun turns their show into something more than just music.
URL:https://ldvcoffeeshop.com/event/soda-blue-50/
CATEGORIES:Music
END:VEVENT
BEGIN:VEVENT
DTSTART;TZID=America/Denver:20241124T100000
DTEND;TZID=America/Denver:20241124T130000
DTSTAMP:20260425T133441
CREATED:20240529T215529Z
LAST-MODIFIED:20240529T215529Z
UID:7774-1732442400-1732453200@ldvcoffeeshop.com
SUMMARY:Be Be
DESCRIPTION:Be Be\, a Colorado song writer / musician\, performs at the Arvada coffee shop La Dolche Vita on the 4th Sunday of each month. Whereas\, she used to play the Banjo with Moses Walker in this time slot\, she now gets to play guitar and sing a myriad of songs she’s written over the past several decades. “I get to play my favorite songs from 10 am till 1 pm\, and when that time is up I still haven’t played all the songs I’ve written.” \nIf you were to take the following songwriters and blend them all together you would get to hear the type of music that Be writes. James Taylor\, Joni Mitchell\, Justin Hayward\, Dolly Parton\, Paul McCartney\, Jessie Colin Young\, Neil Young\, Gordon Lightfoot and many more. These are songs that never have been produced and are for a future generation. \nPeriodically Be also integrates her sets with recordings of Moses and plays Banjo in memory of him. Although an accomplished musician she is also the author of\, The Be Attitudes\, A Woman’s View of The Prophet by Kahlil Gibran and her latest book called The Great Urantia Agreement which highlights an important quote from the URANTIA Book. \nBe\, a Vietnam Navy Veteran is also a Doctor of Divinity is and an ordained minister through the Church of the Universal Light. She has read the URANTIA Book page by page and cover to cover 10 times and if you know anything about the URANTIA Book you’ll know that is quite an amazing feat. \nBe Be is the inventor and manufacturer of the Suspendulum®\, an Aerial Dance Tripod which affords aerial dancers all over the world to perform their silk dancing while hanging from the Suspendulum®. The rig is in over 22 countries. \nPlease come out to enjoy some very beautiful and meaningful songs as well as musical poetry which stimulate the imagination.
URL:https://ldvcoffeeshop.com/event/be-be-10/
CATEGORIES:Music
END:VEVENT
END:VCALENDAR