BEGIN:VCALENDAR
VERSION:2.0
PRODID:-//La Dolce Vita - ECPv6.13.2.1//NONSGML v1.0//EN
CALSCALE:GREGORIAN
METHOD:PUBLISH
X-WR-CALNAME:La Dolce Vita
X-ORIGINAL-URL:https://ldvcoffeeshop.com
X-WR-CALDESC:Events for La Dolce Vita
REFRESH-INTERVAL;VALUE=DURATION:PT1H
X-Robots-Tag:noindex
X-PUBLISHED-TTL:PT1H
BEGIN:VTIMEZONE
TZID:America/Denver
BEGIN:DAYLIGHT
TZOFFSETFROM:-0700
TZOFFSETTO:-0600
TZNAME:MDT
DTSTART:20240310T090000
END:DAYLIGHT
BEGIN:STANDARD
TZOFFSETFROM:-0600
TZOFFSETTO:-0700
TZNAME:MST
DTSTART:20241103T080000
END:STANDARD
END:VTIMEZONE
BEGIN:VEVENT
DTSTART;TZID=America/Denver:20240810T190000
DTEND;TZID=America/Denver:20240810T220000
DTSTAMP:20260425T213155
CREATED:20240529T202550Z
LAST-MODIFIED:20240529T202550Z
UID:7710-1723316400-1723327200@ldvcoffeeshop.com
SUMMARY:Around the Bend
DESCRIPTION:Ellen Davis and Bill Moore present their far-ranging duo “Around the  Bend”.  Ellen’s guitar and powerful voice are balanced with Bill’s vast array of instruments including mandolin\, harmonica\, African percussion\, concert flute and penny whistle; and he’ll sing anything from an Irish tenor to a true bass.  Ellen and Bill are married\, but not to each other.
URL:https://ldvcoffeeshop.com/event/around-the-bend-8/
CATEGORIES:Music
END:VEVENT
END:VCALENDAR