BEGIN:VCALENDAR
VERSION:2.0
PRODID:-//La Dolce Vita - ECPv6.13.2.1//NONSGML v1.0//EN
CALSCALE:GREGORIAN
METHOD:PUBLISH
X-ORIGINAL-URL:https://ldvcoffeeshop.com
X-WR-CALDESC:Events for La Dolce Vita
REFRESH-INTERVAL;VALUE=DURATION:PT1H
X-Robots-Tag:noindex
X-PUBLISHED-TTL:PT1H
BEGIN:VTIMEZONE
TZID:America/Denver
BEGIN:DAYLIGHT
TZOFFSETFROM:-0700
TZOFFSETTO:-0600
TZNAME:MDT
DTSTART:20240310T090000
END:DAYLIGHT
BEGIN:STANDARD
TZOFFSETFROM:-0600
TZOFFSETTO:-0700
TZNAME:MST
DTSTART:20241103T080000
END:STANDARD
END:VTIMEZONE
BEGIN:VEVENT
DTSTART;TZID=America/Denver:20241229T100000
DTEND;TZID=America/Denver:20241229T130000
DTSTAMP:20260425T121309
CREATED:20241122T035013Z
LAST-MODIFIED:20241122T035013Z
UID:7806-1735466400-1735477200@ldvcoffeeshop.com
SUMMARY:Spirit Ridge
DESCRIPTION:SPIRIT RIDGE is: JJ and MIKEY. Melodic songs. Strong vocal harmonies. Rhythmic interplay. Unique. Enjoyable. Memorable. And darn cute\, too!
URL:https://ldvcoffeeshop.com/event/spirit-ridge-10/
CATEGORIES:Music
END:VEVENT
END:VCALENDAR