BEGIN:VCALENDAR
VERSION:2.0
PRODID:-//La Dolce Vita - ECPv6.13.2.1//NONSGML v1.0//EN
CALSCALE:GREGORIAN
METHOD:PUBLISH
X-ORIGINAL-URL:https://ldvcoffeeshop.com
X-WR-CALDESC:Events for La Dolce Vita
REFRESH-INTERVAL;VALUE=DURATION:PT1H
X-Robots-Tag:noindex
X-PUBLISHED-TTL:PT1H
BEGIN:VTIMEZONE
TZID:America/Denver
BEGIN:DAYLIGHT
TZOFFSETFROM:-0700
TZOFFSETTO:-0600
TZNAME:MDT
DTSTART:20250309T090000
END:DAYLIGHT
BEGIN:STANDARD
TZOFFSETFROM:-0600
TZOFFSETTO:-0700
TZNAME:MST
DTSTART:20251102T080000
END:STANDARD
END:VTIMEZONE
BEGIN:VEVENT
DTSTART;TZID=America/Denver:20250607T190000
DTEND;TZID=America/Denver:20250607T220000
DTSTAMP:20260425T052629
CREATED:20241220T030640Z
LAST-MODIFIED:20241220T030640Z
UID:7887-1749322800-1749333600@ldvcoffeeshop.com
SUMMARY:Open Mic
DESCRIPTION:Become part of the the La Dolce Vita performing community! Join us for an open mic. on the first and third Saturday of the month between 7:00 and 10:00 PM. Bring your instrument\, voice\, your poetry or comedy routine (keep it clean) and we’ll provide the PA\, a very welcoming and supportive audience and of course\, great coffee\, teas\, pastries and sandwiches.  Signup at 6:00 PM. If you have a mic please bring that. Don’t play? Bring your friends and hang out. We can promise great music\, great food and a great time
URL:https://ldvcoffeeshop.com/event/open-mic-69/
CATEGORIES:Open Mic
END:VEVENT
END:VCALENDAR